BEGIN:VCALENDAR
VERSION:2.0
PRODID:-//Florida American Legion - ECPv6.15.20//NONSGML v1.0//EN
CALSCALE:GREGORIAN
METHOD:PUBLISH
X-ORIGINAL-URL:https://www.floridalegion.org
X-WR-CALDESC:Events for Florida American Legion
REFRESH-INTERVAL;VALUE=DURATION:PT1H
X-Robots-Tag:noindex
X-PUBLISHED-TTL:PT1H
BEGIN:VTIMEZONE
TZID:America/New_York
BEGIN:DAYLIGHT
TZOFFSETFROM:-0500
TZOFFSETTO:-0400
TZNAME:EDT
DTSTART:20260308T070000
END:DAYLIGHT
BEGIN:STANDARD
TZOFFSETFROM:-0400
TZOFFSETTO:-0500
TZNAME:EST
DTSTART:20261101T060000
END:STANDARD
BEGIN:DAYLIGHT
TZOFFSETFROM:-0500
TZOFFSETTO:-0400
TZNAME:EDT
DTSTART:20270314T070000
END:DAYLIGHT
BEGIN:STANDARD
TZOFFSETFROM:-0400
TZOFFSETTO:-0500
TZNAME:EST
DTSTART:20271107T060000
END:STANDARD
BEGIN:DAYLIGHT
TZOFFSETFROM:-0500
TZOFFSETTO:-0400
TZNAME:EDT
DTSTART:20280312T070000
END:DAYLIGHT
BEGIN:STANDARD
TZOFFSETFROM:-0400
TZOFFSETTO:-0500
TZNAME:EST
DTSTART:20281105T060000
END:STANDARD
BEGIN:DAYLIGHT
TZOFFSETFROM:-0500
TZOFFSETTO:-0400
TZNAME:EDT
DTSTART:20290311T070000
END:DAYLIGHT
BEGIN:STANDARD
TZOFFSETFROM:-0400
TZOFFSETTO:-0500
TZNAME:EST
DTSTART:20291104T060000
END:STANDARD
BEGIN:DAYLIGHT
TZOFFSETFROM:-0500
TZOFFSETTO:-0400
TZNAME:EDT
DTSTART:20300310T070000
END:DAYLIGHT
BEGIN:STANDARD
TZOFFSETFROM:-0400
TZOFFSETTO:-0500
TZNAME:EST
DTSTART:20301103T060000
END:STANDARD
END:VTIMEZONE
BEGIN:VEVENT
DTSTART;TZID=America/New_York:20270327T170000
DTEND;TZID=America/New_York:20270327T190000
DTSTAMP:20260425T235842
CREATED:20230327T120424Z
LAST-MODIFIED:20230327T120424Z
UID:10008734-1806166800-1806174000@www.floridalegion.org
SUMMARY:Post 148: ALR Monthly Dinner
DESCRIPTION:Every month a member cooks something great!!!
URL:https://www.floridalegion.org/event/post-148-alr-monthly-dinner-2/2027-03-27/
LOCATION:Post 148\, 6740 Us Hwy 301 S\, Riverview\, Florida\, 33568\, United States
CATEGORIES:Legion Riders,Program Events
ORGANIZER;CN="ALR Post 148":MAILTO:director.post148@gmail.com
END:VEVENT
BEGIN:VEVENT
DTSTART;TZID=America/New_York:20270424T170000
DTEND;TZID=America/New_York:20270424T190000
DTSTAMP:20260425T235842
CREATED:20230327T120424Z
LAST-MODIFIED:20230327T120424Z
UID:10008735-1808586000-1808593200@www.floridalegion.org
SUMMARY:Post 148: ALR Monthly Dinner
DESCRIPTION:Every month a member cooks something great!!!
URL:https://www.floridalegion.org/event/post-148-alr-monthly-dinner-2/2027-04-24/
LOCATION:Post 148\, 6740 Us Hwy 301 S\, Riverview\, Florida\, 33568\, United States
CATEGORIES:Legion Riders,Program Events
ORGANIZER;CN="ALR Post 148":MAILTO:director.post148@gmail.com
END:VEVENT
BEGIN:VEVENT
DTSTART;TZID=America/New_York:20270529T170000
DTEND;TZID=America/New_York:20270529T190000
DTSTAMP:20260425T235842
CREATED:20230327T120424Z
LAST-MODIFIED:20230327T120424Z
UID:10008736-1811610000-1811617200@www.floridalegion.org
SUMMARY:Post 148: ALR Monthly Dinner
DESCRIPTION:Every month a member cooks something great!!!
URL:https://www.floridalegion.org/event/post-148-alr-monthly-dinner-2/2027-05-29/
LOCATION:Post 148\, 6740 Us Hwy 301 S\, Riverview\, Florida\, 33568\, United States
CATEGORIES:Legion Riders,Program Events
ORGANIZER;CN="ALR Post 148":MAILTO:director.post148@gmail.com
END:VEVENT
BEGIN:VEVENT
DTSTART;TZID=America/New_York:20270626T170000
DTEND;TZID=America/New_York:20270626T190000
DTSTAMP:20260425T235843
CREATED:20230327T120424Z
LAST-MODIFIED:20230327T120424Z
UID:10008737-1814029200-1814036400@www.floridalegion.org
SUMMARY:Post 148: ALR Monthly Dinner
DESCRIPTION:Every month a member cooks something great!!!
URL:https://www.floridalegion.org/event/post-148-alr-monthly-dinner-2/2027-06-26/
LOCATION:Post 148\, 6740 Us Hwy 301 S\, Riverview\, Florida\, 33568\, United States
CATEGORIES:Legion Riders,Program Events
ORGANIZER;CN="ALR Post 148":MAILTO:director.post148@gmail.com
END:VEVENT
BEGIN:VEVENT
DTSTART;TZID=America/New_York:20270731T170000
DTEND;TZID=America/New_York:20270731T190000
DTSTAMP:20260425T235843
CREATED:20230327T120424Z
LAST-MODIFIED:20230327T120424Z
UID:10008738-1817053200-1817060400@www.floridalegion.org
SUMMARY:Post 148: ALR Monthly Dinner
DESCRIPTION:Every month a member cooks something great!!!
URL:https://www.floridalegion.org/event/post-148-alr-monthly-dinner-2/2027-07-31/
LOCATION:Post 148\, 6740 Us Hwy 301 S\, Riverview\, Florida\, 33568\, United States
CATEGORIES:Legion Riders,Program Events
ORGANIZER;CN="ALR Post 148":MAILTO:director.post148@gmail.com
END:VEVENT
BEGIN:VEVENT
DTSTART;TZID=America/New_York:20270828T170000
DTEND;TZID=America/New_York:20270828T190000
DTSTAMP:20260425T235843
CREATED:20230327T120424Z
LAST-MODIFIED:20230327T120424Z
UID:10008739-1819472400-1819479600@www.floridalegion.org
SUMMARY:Post 148: ALR Monthly Dinner
DESCRIPTION:Every month a member cooks something great!!!
URL:https://www.floridalegion.org/event/post-148-alr-monthly-dinner-2/2027-08-28/
LOCATION:Post 148\, 6740 Us Hwy 301 S\, Riverview\, Florida\, 33568\, United States
CATEGORIES:Legion Riders,Program Events
ORGANIZER;CN="ALR Post 148":MAILTO:director.post148@gmail.com
END:VEVENT
BEGIN:VEVENT
DTSTART;TZID=America/New_York:20270925T170000
DTEND;TZID=America/New_York:20270925T190000
DTSTAMP:20260425T235843
CREATED:20230327T120424Z
LAST-MODIFIED:20230327T120424Z
UID:10008740-1821891600-1821898800@www.floridalegion.org
SUMMARY:Post 148: ALR Monthly Dinner
DESCRIPTION:Every month a member cooks something great!!!
URL:https://www.floridalegion.org/event/post-148-alr-monthly-dinner-2/2027-09-25/
LOCATION:Post 148\, 6740 Us Hwy 301 S\, Riverview\, Florida\, 33568\, United States
CATEGORIES:Legion Riders,Program Events
ORGANIZER;CN="ALR Post 148":MAILTO:director.post148@gmail.com
END:VEVENT
BEGIN:VEVENT
DTSTART;TZID=America/New_York:20271030T170000
DTEND;TZID=America/New_York:20271030T190000
DTSTAMP:20260425T235843
CREATED:20230327T120424Z
LAST-MODIFIED:20230327T120424Z
UID:10008741-1824915600-1824922800@www.floridalegion.org
SUMMARY:Post 148: ALR Monthly Dinner
DESCRIPTION:Every month a member cooks something great!!!
URL:https://www.floridalegion.org/event/post-148-alr-monthly-dinner-2/2027-10-30/
LOCATION:Post 148\, 6740 Us Hwy 301 S\, Riverview\, Florida\, 33568\, United States
CATEGORIES:Legion Riders,Program Events
ORGANIZER;CN="ALR Post 148":MAILTO:director.post148@gmail.com
END:VEVENT
BEGIN:VEVENT
DTSTART;TZID=America/New_York:20271127T170000
DTEND;TZID=America/New_York:20271127T190000
DTSTAMP:20260425T235843
CREATED:20230327T120424Z
LAST-MODIFIED:20230327T120424Z
UID:10008742-1827334800-1827342000@www.floridalegion.org
SUMMARY:Post 148: ALR Monthly Dinner
DESCRIPTION:Every month a member cooks something great!!!
URL:https://www.floridalegion.org/event/post-148-alr-monthly-dinner-2/2027-11-27/
LOCATION:Post 148\, 6740 Us Hwy 301 S\, Riverview\, Florida\, 33568\, United States
CATEGORIES:Legion Riders,Program Events
ORGANIZER;CN="ALR Post 148":MAILTO:director.post148@gmail.com
END:VEVENT
BEGIN:VEVENT
DTSTART;TZID=America/New_York:20271225T170000
DTEND;TZID=America/New_York:20271225T190000
DTSTAMP:20260425T235843
CREATED:20230327T120424Z
LAST-MODIFIED:20230327T120424Z
UID:10008743-1829754000-1829761200@www.floridalegion.org
SUMMARY:Post 148: ALR Monthly Dinner
DESCRIPTION:Every month a member cooks something great!!!
URL:https://www.floridalegion.org/event/post-148-alr-monthly-dinner-2/2027-12-25/
LOCATION:Post 148\, 6740 Us Hwy 301 S\, Riverview\, Florida\, 33568\, United States
CATEGORIES:Legion Riders,Program Events
ORGANIZER;CN="ALR Post 148":MAILTO:director.post148@gmail.com
END:VEVENT
BEGIN:VEVENT
DTSTART;TZID=America/New_York:20280129T170000
DTEND;TZID=America/New_York:20280129T190000
DTSTAMP:20260425T235843
CREATED:20230327T120424Z
LAST-MODIFIED:20230327T120424Z
UID:10008744-1832778000-1832785200@www.floridalegion.org
SUMMARY:Post 148: ALR Monthly Dinner
DESCRIPTION:Every month a member cooks something great!!!
URL:https://www.floridalegion.org/event/post-148-alr-monthly-dinner-2/2028-01-29/
LOCATION:Post 148\, 6740 Us Hwy 301 S\, Riverview\, Florida\, 33568\, United States
CATEGORIES:Legion Riders,Program Events
ORGANIZER;CN="ALR Post 148":MAILTO:director.post148@gmail.com
END:VEVENT
BEGIN:VEVENT
DTSTART;TZID=America/New_York:20280226T170000
DTEND;TZID=America/New_York:20280226T190000
DTSTAMP:20260425T235843
CREATED:20230327T120424Z
LAST-MODIFIED:20230327T120424Z
UID:10008745-1835197200-1835204400@www.floridalegion.org
SUMMARY:Post 148: ALR Monthly Dinner
DESCRIPTION:Every month a member cooks something great!!!
URL:https://www.floridalegion.org/event/post-148-alr-monthly-dinner-2/2028-02-26/
LOCATION:Post 148\, 6740 Us Hwy 301 S\, Riverview\, Florida\, 33568\, United States
CATEGORIES:Legion Riders,Program Events
ORGANIZER;CN="ALR Post 148":MAILTO:director.post148@gmail.com
END:VEVENT
BEGIN:VEVENT
DTSTART;TZID=America/New_York:20280325T170000
DTEND;TZID=America/New_York:20280325T190000
DTSTAMP:20260425T235843
CREATED:20230327T120424Z
LAST-MODIFIED:20230327T120424Z
UID:10008746-1837616400-1837623600@www.floridalegion.org
SUMMARY:Post 148: ALR Monthly Dinner
DESCRIPTION:Every month a member cooks something great!!!
URL:https://www.floridalegion.org/event/post-148-alr-monthly-dinner-2/2028-03-25/
LOCATION:Post 148\, 6740 Us Hwy 301 S\, Riverview\, Florida\, 33568\, United States
CATEGORIES:Legion Riders,Program Events
ORGANIZER;CN="ALR Post 148":MAILTO:director.post148@gmail.com
END:VEVENT
BEGIN:VEVENT
DTSTART;TZID=America/New_York:20280429T170000
DTEND;TZID=America/New_York:20280429T190000
DTSTAMP:20260425T235843
CREATED:20230327T120424Z
LAST-MODIFIED:20230327T120424Z
UID:10008747-1840640400-1840647600@www.floridalegion.org
SUMMARY:Post 148: ALR Monthly Dinner
DESCRIPTION:Every month a member cooks something great!!!
URL:https://www.floridalegion.org/event/post-148-alr-monthly-dinner-2/2028-04-29/
LOCATION:Post 148\, 6740 Us Hwy 301 S\, Riverview\, Florida\, 33568\, United States
CATEGORIES:Legion Riders,Program Events
ORGANIZER;CN="ALR Post 148":MAILTO:director.post148@gmail.com
END:VEVENT
BEGIN:VEVENT
DTSTART;TZID=America/New_York:20280527T170000
DTEND;TZID=America/New_York:20280527T190000
DTSTAMP:20260425T235843
CREATED:20230327T120424Z
LAST-MODIFIED:20230327T120424Z
UID:10008748-1843059600-1843066800@www.floridalegion.org
SUMMARY:Post 148: ALR Monthly Dinner
DESCRIPTION:Every month a member cooks something great!!!
URL:https://www.floridalegion.org/event/post-148-alr-monthly-dinner-2/2028-05-27/
LOCATION:Post 148\, 6740 Us Hwy 301 S\, Riverview\, Florida\, 33568\, United States
CATEGORIES:Legion Riders,Program Events
ORGANIZER;CN="ALR Post 148":MAILTO:director.post148@gmail.com
END:VEVENT
BEGIN:VEVENT
DTSTART;TZID=America/New_York:20280624T170000
DTEND;TZID=America/New_York:20280624T190000
DTSTAMP:20260425T235843
CREATED:20230327T120424Z
LAST-MODIFIED:20230327T120424Z
UID:10008749-1845478800-1845486000@www.floridalegion.org
SUMMARY:Post 148: ALR Monthly Dinner
DESCRIPTION:Every month a member cooks something great!!!
URL:https://www.floridalegion.org/event/post-148-alr-monthly-dinner-2/2028-06-24/
LOCATION:Post 148\, 6740 Us Hwy 301 S\, Riverview\, Florida\, 33568\, United States
CATEGORIES:Legion Riders,Program Events
ORGANIZER;CN="ALR Post 148":MAILTO:director.post148@gmail.com
END:VEVENT
BEGIN:VEVENT
DTSTART;TZID=America/New_York:20280729T170000
DTEND;TZID=America/New_York:20280729T190000
DTSTAMP:20260425T235843
CREATED:20230327T120424Z
LAST-MODIFIED:20230327T120424Z
UID:10008750-1848502800-1848510000@www.floridalegion.org
SUMMARY:Post 148: ALR Monthly Dinner
DESCRIPTION:Every month a member cooks something great!!!
URL:https://www.floridalegion.org/event/post-148-alr-monthly-dinner-2/2028-07-29/
LOCATION:Post 148\, 6740 Us Hwy 301 S\, Riverview\, Florida\, 33568\, United States
CATEGORIES:Legion Riders,Program Events
ORGANIZER;CN="ALR Post 148":MAILTO:director.post148@gmail.com
END:VEVENT
BEGIN:VEVENT
DTSTART;TZID=America/New_York:20280826T170000
DTEND;TZID=America/New_York:20280826T190000
DTSTAMP:20260425T235843
CREATED:20230327T120424Z
LAST-MODIFIED:20230327T120424Z
UID:10008751-1850922000-1850929200@www.floridalegion.org
SUMMARY:Post 148: ALR Monthly Dinner
DESCRIPTION:Every month a member cooks something great!!!
URL:https://www.floridalegion.org/event/post-148-alr-monthly-dinner-2/2028-08-26/
LOCATION:Post 148\, 6740 Us Hwy 301 S\, Riverview\, Florida\, 33568\, United States
CATEGORIES:Legion Riders,Program Events
ORGANIZER;CN="ALR Post 148":MAILTO:director.post148@gmail.com
END:VEVENT
BEGIN:VEVENT
DTSTART;TZID=America/New_York:20280930T170000
DTEND;TZID=America/New_York:20280930T190000
DTSTAMP:20260425T235843
CREATED:20230327T120424Z
LAST-MODIFIED:20230327T120424Z
UID:10008752-1853946000-1853953200@www.floridalegion.org
SUMMARY:Post 148: ALR Monthly Dinner
DESCRIPTION:Every month a member cooks something great!!!
URL:https://www.floridalegion.org/event/post-148-alr-monthly-dinner-2/2028-09-30/
LOCATION:Post 148\, 6740 Us Hwy 301 S\, Riverview\, Florida\, 33568\, United States
CATEGORIES:Legion Riders,Program Events
ORGANIZER;CN="ALR Post 148":MAILTO:director.post148@gmail.com
END:VEVENT
BEGIN:VEVENT
DTSTART;TZID=America/New_York:20281028T170000
DTEND;TZID=America/New_York:20281028T190000
DTSTAMP:20260425T235843
CREATED:20230327T120424Z
LAST-MODIFIED:20230327T120424Z
UID:10008753-1856365200-1856372400@www.floridalegion.org
SUMMARY:Post 148: ALR Monthly Dinner
DESCRIPTION:Every month a member cooks something great!!!
URL:https://www.floridalegion.org/event/post-148-alr-monthly-dinner-2/2028-10-28/
LOCATION:Post 148\, 6740 Us Hwy 301 S\, Riverview\, Florida\, 33568\, United States
CATEGORIES:Legion Riders,Program Events
ORGANIZER;CN="ALR Post 148":MAILTO:director.post148@gmail.com
END:VEVENT
BEGIN:VEVENT
DTSTART;TZID=America/New_York:20281125T170000
DTEND;TZID=America/New_York:20281125T190000
DTSTAMP:20260425T235843
CREATED:20230327T120424Z
LAST-MODIFIED:20230327T120424Z
UID:10008754-1858784400-1858791600@www.floridalegion.org
SUMMARY:Post 148: ALR Monthly Dinner
DESCRIPTION:Every month a member cooks something great!!!
URL:https://www.floridalegion.org/event/post-148-alr-monthly-dinner-2/2028-11-25/
LOCATION:Post 148\, 6740 Us Hwy 301 S\, Riverview\, Florida\, 33568\, United States
CATEGORIES:Legion Riders,Program Events
ORGANIZER;CN="ALR Post 148":MAILTO:director.post148@gmail.com
END:VEVENT
BEGIN:VEVENT
DTSTART;TZID=America/New_York:20281230T170000
DTEND;TZID=America/New_York:20281230T190000
DTSTAMP:20260425T235843
CREATED:20230327T120424Z
LAST-MODIFIED:20230327T120424Z
UID:10008755-1861808400-1861815600@www.floridalegion.org
SUMMARY:Post 148: ALR Monthly Dinner
DESCRIPTION:Every month a member cooks something great!!!
URL:https://www.floridalegion.org/event/post-148-alr-monthly-dinner-2/2028-12-30/
LOCATION:Post 148\, 6740 Us Hwy 301 S\, Riverview\, Florida\, 33568\, United States
CATEGORIES:Legion Riders,Program Events
ORGANIZER;CN="ALR Post 148":MAILTO:director.post148@gmail.com
END:VEVENT
BEGIN:VEVENT
DTSTART;TZID=America/New_York:20290127T170000
DTEND;TZID=America/New_York:20290127T190000
DTSTAMP:20260425T235843
CREATED:20230327T120424Z
LAST-MODIFIED:20230327T120424Z
UID:10008756-1864227600-1864234800@www.floridalegion.org
SUMMARY:Post 148: ALR Monthly Dinner
DESCRIPTION:Every month a member cooks something great!!!
URL:https://www.floridalegion.org/event/post-148-alr-monthly-dinner-2/2029-01-27/
LOCATION:Post 148\, 6740 Us Hwy 301 S\, Riverview\, Florida\, 33568\, United States
CATEGORIES:Legion Riders,Program Events
ORGANIZER;CN="ALR Post 148":MAILTO:director.post148@gmail.com
END:VEVENT
BEGIN:VEVENT
DTSTART;TZID=America/New_York:20290224T170000
DTEND;TZID=America/New_York:20290224T190000
DTSTAMP:20260425T235843
CREATED:20230327T120424Z
LAST-MODIFIED:20230327T120424Z
UID:10008757-1866646800-1866654000@www.floridalegion.org
SUMMARY:Post 148: ALR Monthly Dinner
DESCRIPTION:Every month a member cooks something great!!!
URL:https://www.floridalegion.org/event/post-148-alr-monthly-dinner-2/2029-02-24/
LOCATION:Post 148\, 6740 Us Hwy 301 S\, Riverview\, Florida\, 33568\, United States
CATEGORIES:Legion Riders,Program Events
ORGANIZER;CN="ALR Post 148":MAILTO:director.post148@gmail.com
END:VEVENT
BEGIN:VEVENT
DTSTART;TZID=America/New_York:20290331T170000
DTEND;TZID=America/New_York:20290331T190000
DTSTAMP:20260425T235843
CREATED:20230327T120424Z
LAST-MODIFIED:20230327T120424Z
UID:10008758-1869670800-1869678000@www.floridalegion.org
SUMMARY:Post 148: ALR Monthly Dinner
DESCRIPTION:Every month a member cooks something great!!!
URL:https://www.floridalegion.org/event/post-148-alr-monthly-dinner-2/2029-03-31/
LOCATION:Post 148\, 6740 Us Hwy 301 S\, Riverview\, Florida\, 33568\, United States
CATEGORIES:Legion Riders,Program Events
ORGANIZER;CN="ALR Post 148":MAILTO:director.post148@gmail.com
END:VEVENT
BEGIN:VEVENT
DTSTART;TZID=America/New_York:20290428T170000
DTEND;TZID=America/New_York:20290428T190000
DTSTAMP:20260425T235843
CREATED:20230327T120424Z
LAST-MODIFIED:20230327T120424Z
UID:10008759-1872090000-1872097200@www.floridalegion.org
SUMMARY:Post 148: ALR Monthly Dinner
DESCRIPTION:Every month a member cooks something great!!!
URL:https://www.floridalegion.org/event/post-148-alr-monthly-dinner-2/2029-04-28/
LOCATION:Post 148\, 6740 Us Hwy 301 S\, Riverview\, Florida\, 33568\, United States
CATEGORIES:Legion Riders,Program Events
ORGANIZER;CN="ALR Post 148":MAILTO:director.post148@gmail.com
END:VEVENT
BEGIN:VEVENT
DTSTART;TZID=America/New_York:20290526T170000
DTEND;TZID=America/New_York:20290526T190000
DTSTAMP:20260425T235843
CREATED:20230327T120424Z
LAST-MODIFIED:20230327T120424Z
UID:10008760-1874509200-1874516400@www.floridalegion.org
SUMMARY:Post 148: ALR Monthly Dinner
DESCRIPTION:Every month a member cooks something great!!!
URL:https://www.floridalegion.org/event/post-148-alr-monthly-dinner-2/2029-05-26/
LOCATION:Post 148\, 6740 Us Hwy 301 S\, Riverview\, Florida\, 33568\, United States
CATEGORIES:Legion Riders,Program Events
ORGANIZER;CN="ALR Post 148":MAILTO:director.post148@gmail.com
END:VEVENT
BEGIN:VEVENT
DTSTART;TZID=America/New_York:20290630T170000
DTEND;TZID=America/New_York:20290630T190000
DTSTAMP:20260425T235843
CREATED:20230327T120424Z
LAST-MODIFIED:20230327T120424Z
UID:10008761-1877533200-1877540400@www.floridalegion.org
SUMMARY:Post 148: ALR Monthly Dinner
DESCRIPTION:Every month a member cooks something great!!!
URL:https://www.floridalegion.org/event/post-148-alr-monthly-dinner-2/2029-06-30/
LOCATION:Post 148\, 6740 Us Hwy 301 S\, Riverview\, Florida\, 33568\, United States
CATEGORIES:Legion Riders,Program Events
ORGANIZER;CN="ALR Post 148":MAILTO:director.post148@gmail.com
END:VEVENT
BEGIN:VEVENT
DTSTART;TZID=America/New_York:20290728T170000
DTEND;TZID=America/New_York:20290728T190000
DTSTAMP:20260425T235843
CREATED:20230327T120424Z
LAST-MODIFIED:20230327T120424Z
UID:10008762-1879952400-1879959600@www.floridalegion.org
SUMMARY:Post 148: ALR Monthly Dinner
DESCRIPTION:Every month a member cooks something great!!!
URL:https://www.floridalegion.org/event/post-148-alr-monthly-dinner-2/2029-07-28/
LOCATION:Post 148\, 6740 Us Hwy 301 S\, Riverview\, Florida\, 33568\, United States
CATEGORIES:Legion Riders,Program Events
ORGANIZER;CN="ALR Post 148":MAILTO:director.post148@gmail.com
END:VEVENT
BEGIN:VEVENT
DTSTART;TZID=America/New_York:20290825T170000
DTEND;TZID=America/New_York:20290825T190000
DTSTAMP:20260425T235843
CREATED:20230327T120424Z
LAST-MODIFIED:20230327T120424Z
UID:10008763-1882371600-1882378800@www.floridalegion.org
SUMMARY:Post 148: ALR Monthly Dinner
DESCRIPTION:Every month a member cooks something great!!!
URL:https://www.floridalegion.org/event/post-148-alr-monthly-dinner-2/2029-08-25/
LOCATION:Post 148\, 6740 Us Hwy 301 S\, Riverview\, Florida\, 33568\, United States
CATEGORIES:Legion Riders,Program Events
ORGANIZER;CN="ALR Post 148":MAILTO:director.post148@gmail.com
END:VEVENT
END:VCALENDAR