BEGIN:VCALENDAR
VERSION:2.0
PRODID:-//Florida American Legion - ECPv6.15.20//NONSGML v1.0//EN
CALSCALE:GREGORIAN
METHOD:PUBLISH
X-ORIGINAL-URL:https://www.floridalegion.org
X-WR-CALDESC:Events for Florida American Legion
REFRESH-INTERVAL;VALUE=DURATION:PT1H
X-Robots-Tag:noindex
X-PUBLISHED-TTL:PT1H
BEGIN:VTIMEZONE
TZID:America/New_York
BEGIN:DAYLIGHT
TZOFFSETFROM:-0500
TZOFFSETTO:-0400
TZNAME:EDT
DTSTART:20260308T070000
END:DAYLIGHT
BEGIN:STANDARD
TZOFFSETFROM:-0400
TZOFFSETTO:-0500
TZNAME:EST
DTSTART:20261101T060000
END:STANDARD
BEGIN:DAYLIGHT
TZOFFSETFROM:-0500
TZOFFSETTO:-0400
TZNAME:EDT
DTSTART:20270314T070000
END:DAYLIGHT
BEGIN:STANDARD
TZOFFSETFROM:-0400
TZOFFSETTO:-0500
TZNAME:EST
DTSTART:20271107T060000
END:STANDARD
BEGIN:DAYLIGHT
TZOFFSETFROM:-0500
TZOFFSETTO:-0400
TZNAME:EDT
DTSTART:20280312T070000
END:DAYLIGHT
BEGIN:STANDARD
TZOFFSETFROM:-0400
TZOFFSETTO:-0500
TZNAME:EST
DTSTART:20281105T060000
END:STANDARD
BEGIN:DAYLIGHT
TZOFFSETFROM:-0500
TZOFFSETTO:-0400
TZNAME:EDT
DTSTART:20290311T070000
END:DAYLIGHT
BEGIN:STANDARD
TZOFFSETFROM:-0400
TZOFFSETTO:-0500
TZNAME:EST
DTSTART:20291104T060000
END:STANDARD
BEGIN:DAYLIGHT
TZOFFSETFROM:-0500
TZOFFSETTO:-0400
TZNAME:EDT
DTSTART:20300310T070000
END:DAYLIGHT
BEGIN:STANDARD
TZOFFSETFROM:-0400
TZOFFSETTO:-0500
TZNAME:EST
DTSTART:20301103T060000
END:STANDARD
END:VTIMEZONE
BEGIN:VEVENT
DTSTART;TZID=America/New_York:20270303T183000
DTEND;TZID=America/New_York:20270303T193000
DTSTAMP:20260425T095158
CREATED:20240212T141857Z
LAST-MODIFIED:20251208T164901Z
UID:10006478-1804098600-1804102200@www.floridalegion.org
SUMMARY:Chapter 136: ALR Monthly Meeting
DESCRIPTION:Join us for our monthly meeting the 1st Wednesday  each month
URL:https://www.floridalegion.org/event/alr-chapter-136-st-james-city-monthly-meeting/2027-03-03/
LOCATION:Post 136 Pine Island Inc\, 4106 Stringfellow Rd\, St James City\, FL\, 33956\, USA
CATEGORIES:Legion Riders,Program Events
ORGANIZER;CN="ALR136":MAILTO:chuck.warren@dignitymemorial.com
END:VEVENT
BEGIN:VEVENT
DTSTART;TZID=America/New_York:20270407T183000
DTEND;TZID=America/New_York:20270407T193000
DTSTAMP:20260425T095158
CREATED:20240212T141857Z
LAST-MODIFIED:20251208T164901Z
UID:10006479-1807122600-1807126200@www.floridalegion.org
SUMMARY:Chapter 136: ALR Monthly Meeting
DESCRIPTION:Join us for our monthly meeting the 1st Wednesday  each month
URL:https://www.floridalegion.org/event/alr-chapter-136-st-james-city-monthly-meeting/2027-04-07/
LOCATION:Post 136 Pine Island Inc\, 4106 Stringfellow Rd\, St James City\, FL\, 33956\, USA
CATEGORIES:Legion Riders,Program Events
ORGANIZER;CN="ALR136":MAILTO:chuck.warren@dignitymemorial.com
END:VEVENT
BEGIN:VEVENT
DTSTART;TZID=America/New_York:20270505T183000
DTEND;TZID=America/New_York:20270505T193000
DTSTAMP:20260425T095158
CREATED:20240212T141857Z
LAST-MODIFIED:20251208T164901Z
UID:10006480-1809541800-1809545400@www.floridalegion.org
SUMMARY:Chapter 136: ALR Monthly Meeting
DESCRIPTION:Join us for our monthly meeting the 1st Wednesday  each month
URL:https://www.floridalegion.org/event/alr-chapter-136-st-james-city-monthly-meeting/2027-05-05/
LOCATION:Post 136 Pine Island Inc\, 4106 Stringfellow Rd\, St James City\, FL\, 33956\, USA
CATEGORIES:Legion Riders,Program Events
ORGANIZER;CN="ALR136":MAILTO:chuck.warren@dignitymemorial.com
END:VEVENT
BEGIN:VEVENT
DTSTART;TZID=America/New_York:20270602T183000
DTEND;TZID=America/New_York:20270602T193000
DTSTAMP:20260425T095158
CREATED:20240212T141857Z
LAST-MODIFIED:20251208T164901Z
UID:10006481-1811961000-1811964600@www.floridalegion.org
SUMMARY:Chapter 136: ALR Monthly Meeting
DESCRIPTION:Join us for our monthly meeting the 1st Wednesday  each month
URL:https://www.floridalegion.org/event/alr-chapter-136-st-james-city-monthly-meeting/2027-06-02/
LOCATION:Post 136 Pine Island Inc\, 4106 Stringfellow Rd\, St James City\, FL\, 33956\, USA
CATEGORIES:Legion Riders,Program Events
ORGANIZER;CN="ALR136":MAILTO:chuck.warren@dignitymemorial.com
END:VEVENT
BEGIN:VEVENT
DTSTART;TZID=America/New_York:20270707T183000
DTEND;TZID=America/New_York:20270707T193000
DTSTAMP:20260425T095158
CREATED:20240212T141857Z
LAST-MODIFIED:20251208T164901Z
UID:10006482-1814985000-1814988600@www.floridalegion.org
SUMMARY:Chapter 136: ALR Monthly Meeting
DESCRIPTION:Join us for our monthly meeting the 1st Wednesday  each month
URL:https://www.floridalegion.org/event/alr-chapter-136-st-james-city-monthly-meeting/2027-07-07/
LOCATION:Post 136 Pine Island Inc\, 4106 Stringfellow Rd\, St James City\, FL\, 33956\, USA
CATEGORIES:Legion Riders,Program Events
ORGANIZER;CN="ALR136":MAILTO:chuck.warren@dignitymemorial.com
END:VEVENT
BEGIN:VEVENT
DTSTART;TZID=America/New_York:20270804T183000
DTEND;TZID=America/New_York:20270804T193000
DTSTAMP:20260425T095158
CREATED:20240212T141857Z
LAST-MODIFIED:20251208T164901Z
UID:10006483-1817404200-1817407800@www.floridalegion.org
SUMMARY:Chapter 136: ALR Monthly Meeting
DESCRIPTION:Join us for our monthly meeting the 1st Wednesday  each month
URL:https://www.floridalegion.org/event/alr-chapter-136-st-james-city-monthly-meeting/2027-08-04/
LOCATION:Post 136 Pine Island Inc\, 4106 Stringfellow Rd\, St James City\, FL\, 33956\, USA
CATEGORIES:Legion Riders,Program Events
ORGANIZER;CN="ALR136":MAILTO:chuck.warren@dignitymemorial.com
END:VEVENT
BEGIN:VEVENT
DTSTART;TZID=America/New_York:20270901T183000
DTEND;TZID=America/New_York:20270901T193000
DTSTAMP:20260425T095158
CREATED:20240212T141857Z
LAST-MODIFIED:20251208T164901Z
UID:10006484-1819823400-1819827000@www.floridalegion.org
SUMMARY:Chapter 136: ALR Monthly Meeting
DESCRIPTION:Join us for our monthly meeting the 1st Wednesday  each month
URL:https://www.floridalegion.org/event/alr-chapter-136-st-james-city-monthly-meeting/2027-09-01/
LOCATION:Post 136 Pine Island Inc\, 4106 Stringfellow Rd\, St James City\, FL\, 33956\, USA
CATEGORIES:Legion Riders,Program Events
ORGANIZER;CN="ALR136":MAILTO:chuck.warren@dignitymemorial.com
END:VEVENT
BEGIN:VEVENT
DTSTART;TZID=America/New_York:20271006T183000
DTEND;TZID=America/New_York:20271006T193000
DTSTAMP:20260425T095158
CREATED:20240212T141857Z
LAST-MODIFIED:20251208T164901Z
UID:10006485-1822847400-1822851000@www.floridalegion.org
SUMMARY:Chapter 136: ALR Monthly Meeting
DESCRIPTION:Join us for our monthly meeting the 1st Wednesday  each month
URL:https://www.floridalegion.org/event/alr-chapter-136-st-james-city-monthly-meeting/2027-10-06/
LOCATION:Post 136 Pine Island Inc\, 4106 Stringfellow Rd\, St James City\, FL\, 33956\, USA
CATEGORIES:Legion Riders,Program Events
ORGANIZER;CN="ALR136":MAILTO:chuck.warren@dignitymemorial.com
END:VEVENT
BEGIN:VEVENT
DTSTART;TZID=America/New_York:20271103T183000
DTEND;TZID=America/New_York:20271103T193000
DTSTAMP:20260425T095158
CREATED:20240212T141857Z
LAST-MODIFIED:20251208T164901Z
UID:10006486-1825266600-1825270200@www.floridalegion.org
SUMMARY:Chapter 136: ALR Monthly Meeting
DESCRIPTION:Join us for our monthly meeting the 1st Wednesday  each month
URL:https://www.floridalegion.org/event/alr-chapter-136-st-james-city-monthly-meeting/2027-11-03/
LOCATION:Post 136 Pine Island Inc\, 4106 Stringfellow Rd\, St James City\, FL\, 33956\, USA
CATEGORIES:Legion Riders,Program Events
ORGANIZER;CN="ALR136":MAILTO:chuck.warren@dignitymemorial.com
END:VEVENT
BEGIN:VEVENT
DTSTART;TZID=America/New_York:20271201T183000
DTEND;TZID=America/New_York:20271201T193000
DTSTAMP:20260425T095158
CREATED:20240212T141857Z
LAST-MODIFIED:20251208T164901Z
UID:10006487-1827685800-1827689400@www.floridalegion.org
SUMMARY:Chapter 136: ALR Monthly Meeting
DESCRIPTION:Join us for our monthly meeting the 1st Wednesday  each month
URL:https://www.floridalegion.org/event/alr-chapter-136-st-james-city-monthly-meeting/2027-12-01/
LOCATION:Post 136 Pine Island Inc\, 4106 Stringfellow Rd\, St James City\, FL\, 33956\, USA
CATEGORIES:Legion Riders,Program Events
ORGANIZER;CN="ALR136":MAILTO:chuck.warren@dignitymemorial.com
END:VEVENT
BEGIN:VEVENT
DTSTART;TZID=America/New_York:20280105T183000
DTEND;TZID=America/New_York:20280105T193000
DTSTAMP:20260425T095158
CREATED:20240212T141857Z
LAST-MODIFIED:20251208T164901Z
UID:10006488-1830709800-1830713400@www.floridalegion.org
SUMMARY:Chapter 136: ALR Monthly Meeting
DESCRIPTION:Join us for our monthly meeting the 1st Wednesday  each month
URL:https://www.floridalegion.org/event/alr-chapter-136-st-james-city-monthly-meeting/2028-01-05/
LOCATION:Post 136 Pine Island Inc\, 4106 Stringfellow Rd\, St James City\, FL\, 33956\, USA
CATEGORIES:Legion Riders,Program Events
ORGANIZER;CN="ALR136":MAILTO:chuck.warren@dignitymemorial.com
END:VEVENT
BEGIN:VEVENT
DTSTART;TZID=America/New_York:20280202T183000
DTEND;TZID=America/New_York:20280202T193000
DTSTAMP:20260425T095158
CREATED:20240212T141857Z
LAST-MODIFIED:20251208T164901Z
UID:10006489-1833129000-1833132600@www.floridalegion.org
SUMMARY:Chapter 136: ALR Monthly Meeting
DESCRIPTION:Join us for our monthly meeting the 1st Wednesday  each month
URL:https://www.floridalegion.org/event/alr-chapter-136-st-james-city-monthly-meeting/2028-02-02/
LOCATION:Post 136 Pine Island Inc\, 4106 Stringfellow Rd\, St James City\, FL\, 33956\, USA
CATEGORIES:Legion Riders,Program Events
ORGANIZER;CN="ALR136":MAILTO:chuck.warren@dignitymemorial.com
END:VEVENT
BEGIN:VEVENT
DTSTART;TZID=America/New_York:20280301T183000
DTEND;TZID=America/New_York:20280301T193000
DTSTAMP:20260425T095158
CREATED:20240212T141857Z
LAST-MODIFIED:20251208T164901Z
UID:10006490-1835548200-1835551800@www.floridalegion.org
SUMMARY:Chapter 136: ALR Monthly Meeting
DESCRIPTION:Join us for our monthly meeting the 1st Wednesday  each month
URL:https://www.floridalegion.org/event/alr-chapter-136-st-james-city-monthly-meeting/2028-03-01/
LOCATION:Post 136 Pine Island Inc\, 4106 Stringfellow Rd\, St James City\, FL\, 33956\, USA
CATEGORIES:Legion Riders,Program Events
ORGANIZER;CN="ALR136":MAILTO:chuck.warren@dignitymemorial.com
END:VEVENT
BEGIN:VEVENT
DTSTART;TZID=America/New_York:20280405T183000
DTEND;TZID=America/New_York:20280405T193000
DTSTAMP:20260425T095158
CREATED:20240212T141857Z
LAST-MODIFIED:20251208T164901Z
UID:10006491-1838572200-1838575800@www.floridalegion.org
SUMMARY:Chapter 136: ALR Monthly Meeting
DESCRIPTION:Join us for our monthly meeting the 1st Wednesday  each month
URL:https://www.floridalegion.org/event/alr-chapter-136-st-james-city-monthly-meeting/2028-04-05/
LOCATION:Post 136 Pine Island Inc\, 4106 Stringfellow Rd\, St James City\, FL\, 33956\, USA
CATEGORIES:Legion Riders,Program Events
ORGANIZER;CN="ALR136":MAILTO:chuck.warren@dignitymemorial.com
END:VEVENT
BEGIN:VEVENT
DTSTART;TZID=America/New_York:20280503T183000
DTEND;TZID=America/New_York:20280503T193000
DTSTAMP:20260425T095158
CREATED:20240212T141857Z
LAST-MODIFIED:20251208T164901Z
UID:10006492-1840991400-1840995000@www.floridalegion.org
SUMMARY:Chapter 136: ALR Monthly Meeting
DESCRIPTION:Join us for our monthly meeting the 1st Wednesday  each month
URL:https://www.floridalegion.org/event/alr-chapter-136-st-james-city-monthly-meeting/2028-05-03/
LOCATION:Post 136 Pine Island Inc\, 4106 Stringfellow Rd\, St James City\, FL\, 33956\, USA
CATEGORIES:Legion Riders,Program Events
ORGANIZER;CN="ALR136":MAILTO:chuck.warren@dignitymemorial.com
END:VEVENT
BEGIN:VEVENT
DTSTART;TZID=America/New_York:20280607T183000
DTEND;TZID=America/New_York:20280607T193000
DTSTAMP:20260425T095158
CREATED:20240212T141857Z
LAST-MODIFIED:20251208T164901Z
UID:10006493-1844015400-1844019000@www.floridalegion.org
SUMMARY:Chapter 136: ALR Monthly Meeting
DESCRIPTION:Join us for our monthly meeting the 1st Wednesday  each month
URL:https://www.floridalegion.org/event/alr-chapter-136-st-james-city-monthly-meeting/2028-06-07/
LOCATION:Post 136 Pine Island Inc\, 4106 Stringfellow Rd\, St James City\, FL\, 33956\, USA
CATEGORIES:Legion Riders,Program Events
ORGANIZER;CN="ALR136":MAILTO:chuck.warren@dignitymemorial.com
END:VEVENT
BEGIN:VEVENT
DTSTART;TZID=America/New_York:20280705T183000
DTEND;TZID=America/New_York:20280705T193000
DTSTAMP:20260425T095158
CREATED:20240212T141857Z
LAST-MODIFIED:20251208T164901Z
UID:10006494-1846434600-1846438200@www.floridalegion.org
SUMMARY:Chapter 136: ALR Monthly Meeting
DESCRIPTION:Join us for our monthly meeting the 1st Wednesday  each month
URL:https://www.floridalegion.org/event/alr-chapter-136-st-james-city-monthly-meeting/2028-07-05/
LOCATION:Post 136 Pine Island Inc\, 4106 Stringfellow Rd\, St James City\, FL\, 33956\, USA
CATEGORIES:Legion Riders,Program Events
ORGANIZER;CN="ALR136":MAILTO:chuck.warren@dignitymemorial.com
END:VEVENT
BEGIN:VEVENT
DTSTART;TZID=America/New_York:20280802T183000
DTEND;TZID=America/New_York:20280802T193000
DTSTAMP:20260425T095158
CREATED:20240212T141857Z
LAST-MODIFIED:20251208T164901Z
UID:10006495-1848853800-1848857400@www.floridalegion.org
SUMMARY:Chapter 136: ALR Monthly Meeting
DESCRIPTION:Join us for our monthly meeting the 1st Wednesday  each month
URL:https://www.floridalegion.org/event/alr-chapter-136-st-james-city-monthly-meeting/2028-08-02/
LOCATION:Post 136 Pine Island Inc\, 4106 Stringfellow Rd\, St James City\, FL\, 33956\, USA
CATEGORIES:Legion Riders,Program Events
ORGANIZER;CN="ALR136":MAILTO:chuck.warren@dignitymemorial.com
END:VEVENT
BEGIN:VEVENT
DTSTART;TZID=America/New_York:20280906T183000
DTEND;TZID=America/New_York:20280906T193000
DTSTAMP:20260425T095158
CREATED:20240212T141857Z
LAST-MODIFIED:20251208T164901Z
UID:10006496-1851877800-1851881400@www.floridalegion.org
SUMMARY:Chapter 136: ALR Monthly Meeting
DESCRIPTION:Join us for our monthly meeting the 1st Wednesday  each month
URL:https://www.floridalegion.org/event/alr-chapter-136-st-james-city-monthly-meeting/2028-09-06/
LOCATION:Post 136 Pine Island Inc\, 4106 Stringfellow Rd\, St James City\, FL\, 33956\, USA
CATEGORIES:Legion Riders,Program Events
ORGANIZER;CN="ALR136":MAILTO:chuck.warren@dignitymemorial.com
END:VEVENT
BEGIN:VEVENT
DTSTART;TZID=America/New_York:20281004T183000
DTEND;TZID=America/New_York:20281004T193000
DTSTAMP:20260425T095158
CREATED:20240212T141857Z
LAST-MODIFIED:20251208T164901Z
UID:10006497-1854297000-1854300600@www.floridalegion.org
SUMMARY:Chapter 136: ALR Monthly Meeting
DESCRIPTION:Join us for our monthly meeting the 1st Wednesday  each month
URL:https://www.floridalegion.org/event/alr-chapter-136-st-james-city-monthly-meeting/2028-10-04/
LOCATION:Post 136 Pine Island Inc\, 4106 Stringfellow Rd\, St James City\, FL\, 33956\, USA
CATEGORIES:Legion Riders,Program Events
ORGANIZER;CN="ALR136":MAILTO:chuck.warren@dignitymemorial.com
END:VEVENT
BEGIN:VEVENT
DTSTART;TZID=America/New_York:20281101T183000
DTEND;TZID=America/New_York:20281101T193000
DTSTAMP:20260425T095158
CREATED:20240212T141857Z
LAST-MODIFIED:20251208T164901Z
UID:10006498-1856716200-1856719800@www.floridalegion.org
SUMMARY:Chapter 136: ALR Monthly Meeting
DESCRIPTION:Join us for our monthly meeting the 1st Wednesday  each month
URL:https://www.floridalegion.org/event/alr-chapter-136-st-james-city-monthly-meeting/2028-11-01/
LOCATION:Post 136 Pine Island Inc\, 4106 Stringfellow Rd\, St James City\, FL\, 33956\, USA
CATEGORIES:Legion Riders,Program Events
ORGANIZER;CN="ALR136":MAILTO:chuck.warren@dignitymemorial.com
END:VEVENT
BEGIN:VEVENT
DTSTART;TZID=America/New_York:20281206T183000
DTEND;TZID=America/New_York:20281206T193000
DTSTAMP:20260425T095158
CREATED:20240212T141857Z
LAST-MODIFIED:20251208T164901Z
UID:10006499-1859740200-1859743800@www.floridalegion.org
SUMMARY:Chapter 136: ALR Monthly Meeting
DESCRIPTION:Join us for our monthly meeting the 1st Wednesday  each month
URL:https://www.floridalegion.org/event/alr-chapter-136-st-james-city-monthly-meeting/2028-12-06/
LOCATION:Post 136 Pine Island Inc\, 4106 Stringfellow Rd\, St James City\, FL\, 33956\, USA
CATEGORIES:Legion Riders,Program Events
ORGANIZER;CN="ALR136":MAILTO:chuck.warren@dignitymemorial.com
END:VEVENT
BEGIN:VEVENT
DTSTART;TZID=America/New_York:20290103T183000
DTEND;TZID=America/New_York:20290103T193000
DTSTAMP:20260425T095158
CREATED:20240212T141857Z
LAST-MODIFIED:20251208T164901Z
UID:10006500-1862159400-1862163000@www.floridalegion.org
SUMMARY:Chapter 136: ALR Monthly Meeting
DESCRIPTION:Join us for our monthly meeting the 1st Wednesday  each month
URL:https://www.floridalegion.org/event/alr-chapter-136-st-james-city-monthly-meeting/2029-01-03/
LOCATION:Post 136 Pine Island Inc\, 4106 Stringfellow Rd\, St James City\, FL\, 33956\, USA
CATEGORIES:Legion Riders,Program Events
ORGANIZER;CN="ALR136":MAILTO:chuck.warren@dignitymemorial.com
END:VEVENT
BEGIN:VEVENT
DTSTART;TZID=America/New_York:20290207T183000
DTEND;TZID=America/New_York:20290207T193000
DTSTAMP:20260425T095158
CREATED:20240212T141857Z
LAST-MODIFIED:20251208T164901Z
UID:10006770-1865183400-1865187000@www.floridalegion.org
SUMMARY:Chapter 136: ALR Monthly Meeting
DESCRIPTION:Join us for our monthly meeting the 1st Wednesday  each month
URL:https://www.floridalegion.org/event/alr-chapter-136-st-james-city-monthly-meeting/2029-02-07/
LOCATION:Post 136 Pine Island Inc\, 4106 Stringfellow Rd\, St James City\, FL\, 33956\, USA
CATEGORIES:Legion Riders,Program Events
ORGANIZER;CN="ALR136":MAILTO:chuck.warren@dignitymemorial.com
END:VEVENT
BEGIN:VEVENT
DTSTART;TZID=America/New_York:20290307T183000
DTEND;TZID=America/New_York:20290307T193000
DTSTAMP:20260425T095158
CREATED:20240212T141857Z
LAST-MODIFIED:20251208T164901Z
UID:10009761-1867602600-1867606200@www.floridalegion.org
SUMMARY:Chapter 136: ALR Monthly Meeting
DESCRIPTION:Join us for our monthly meeting the 1st Wednesday  each month
URL:https://www.floridalegion.org/event/alr-chapter-136-st-james-city-monthly-meeting/2029-03-07/
LOCATION:Post 136 Pine Island Inc\, 4106 Stringfellow Rd\, St James City\, FL\, 33956\, USA
CATEGORIES:Legion Riders,Program Events
ORGANIZER;CN="ALR136":MAILTO:chuck.warren@dignitymemorial.com
END:VEVENT
BEGIN:VEVENT
DTSTART;TZID=America/New_York:20290404T183000
DTEND;TZID=America/New_York:20290404T193000
DTSTAMP:20260425T095158
CREATED:20240212T141857Z
LAST-MODIFIED:20251208T164901Z
UID:10009762-1870021800-1870025400@www.floridalegion.org
SUMMARY:Chapter 136: ALR Monthly Meeting
DESCRIPTION:Join us for our monthly meeting the 1st Wednesday  each month
URL:https://www.floridalegion.org/event/alr-chapter-136-st-james-city-monthly-meeting/2029-04-04/
LOCATION:Post 136 Pine Island Inc\, 4106 Stringfellow Rd\, St James City\, FL\, 33956\, USA
CATEGORIES:Legion Riders,Program Events
ORGANIZER;CN="ALR136":MAILTO:chuck.warren@dignitymemorial.com
END:VEVENT
BEGIN:VEVENT
DTSTART;TZID=America/New_York:20290502T183000
DTEND;TZID=America/New_York:20290502T193000
DTSTAMP:20260425T095158
CREATED:20240212T141857Z
LAST-MODIFIED:20251208T164901Z
UID:10009763-1872441000-1872444600@www.floridalegion.org
SUMMARY:Chapter 136: ALR Monthly Meeting
DESCRIPTION:Join us for our monthly meeting the 1st Wednesday  each month
URL:https://www.floridalegion.org/event/alr-chapter-136-st-james-city-monthly-meeting/2029-05-02/
LOCATION:Post 136 Pine Island Inc\, 4106 Stringfellow Rd\, St James City\, FL\, 33956\, USA
CATEGORIES:Legion Riders,Program Events
ORGANIZER;CN="ALR136":MAILTO:chuck.warren@dignitymemorial.com
END:VEVENT
BEGIN:VEVENT
DTSTART;TZID=America/New_York:20290606T183000
DTEND;TZID=America/New_York:20290606T193000
DTSTAMP:20260425T095158
CREATED:20240212T141857Z
LAST-MODIFIED:20251208T164901Z
UID:10009764-1875465000-1875468600@www.floridalegion.org
SUMMARY:Chapter 136: ALR Monthly Meeting
DESCRIPTION:Join us for our monthly meeting the 1st Wednesday  each month
URL:https://www.floridalegion.org/event/alr-chapter-136-st-james-city-monthly-meeting/2029-06-06/
LOCATION:Post 136 Pine Island Inc\, 4106 Stringfellow Rd\, St James City\, FL\, 33956\, USA
CATEGORIES:Legion Riders,Program Events
ORGANIZER;CN="ALR136":MAILTO:chuck.warren@dignitymemorial.com
END:VEVENT
BEGIN:VEVENT
DTSTART;TZID=America/New_York:20290704T183000
DTEND;TZID=America/New_York:20290704T193000
DTSTAMP:20260425T095158
CREATED:20240212T141857Z
LAST-MODIFIED:20251208T164901Z
UID:10009765-1877884200-1877887800@www.floridalegion.org
SUMMARY:Chapter 136: ALR Monthly Meeting
DESCRIPTION:Join us for our monthly meeting the 1st Wednesday  each month
URL:https://www.floridalegion.org/event/alr-chapter-136-st-james-city-monthly-meeting/2029-07-04/
LOCATION:Post 136 Pine Island Inc\, 4106 Stringfellow Rd\, St James City\, FL\, 33956\, USA
CATEGORIES:Legion Riders,Program Events
ORGANIZER;CN="ALR136":MAILTO:chuck.warren@dignitymemorial.com
END:VEVENT
BEGIN:VEVENT
DTSTART;TZID=America/New_York:20290801T183000
DTEND;TZID=America/New_York:20290801T193000
DTSTAMP:20260425T095158
CREATED:20240212T141857Z
LAST-MODIFIED:20251208T164901Z
UID:10009766-1880303400-1880307000@www.floridalegion.org
SUMMARY:Chapter 136: ALR Monthly Meeting
DESCRIPTION:Join us for our monthly meeting the 1st Wednesday  each month
URL:https://www.floridalegion.org/event/alr-chapter-136-st-james-city-monthly-meeting/2029-08-01/
LOCATION:Post 136 Pine Island Inc\, 4106 Stringfellow Rd\, St James City\, FL\, 33956\, USA
CATEGORIES:Legion Riders,Program Events
ORGANIZER;CN="ALR136":MAILTO:chuck.warren@dignitymemorial.com
END:VEVENT
END:VCALENDAR