BEGIN:VCALENDAR
VERSION:2.0
PRODID:-//Florida American Legion - ECPv6.15.20//NONSGML v1.0//EN
CALSCALE:GREGORIAN
METHOD:PUBLISH
X-ORIGINAL-URL:https://www.floridalegion.org
X-WR-CALDESC:Events for Florida American Legion
REFRESH-INTERVAL;VALUE=DURATION:PT1H
X-Robots-Tag:noindex
X-PUBLISHED-TTL:PT1H
BEGIN:VTIMEZONE
TZID:America/New_York
BEGIN:DAYLIGHT
TZOFFSETFROM:-0500
TZOFFSETTO:-0400
TZNAME:EDT
DTSTART:20280312T070000
END:DAYLIGHT
BEGIN:STANDARD
TZOFFSETFROM:-0400
TZOFFSETTO:-0500
TZNAME:EST
DTSTART:20281105T060000
END:STANDARD
BEGIN:DAYLIGHT
TZOFFSETFROM:-0500
TZOFFSETTO:-0400
TZNAME:EDT
DTSTART:20290311T070000
END:DAYLIGHT
BEGIN:STANDARD
TZOFFSETFROM:-0400
TZOFFSETTO:-0500
TZNAME:EST
DTSTART:20291104T060000
END:STANDARD
BEGIN:DAYLIGHT
TZOFFSETFROM:-0500
TZOFFSETTO:-0400
TZNAME:EDT
DTSTART:20300310T070000
END:DAYLIGHT
BEGIN:STANDARD
TZOFFSETFROM:-0400
TZOFFSETTO:-0500
TZNAME:EST
DTSTART:20301103T060000
END:STANDARD
BEGIN:DAYLIGHT
TZOFFSETFROM:-0500
TZOFFSETTO:-0400
TZNAME:EDT
DTSTART:20310309T070000
END:DAYLIGHT
BEGIN:STANDARD
TZOFFSETFROM:-0400
TZOFFSETTO:-0500
TZNAME:EST
DTSTART:20311102T060000
END:STANDARD
BEGIN:DAYLIGHT
TZOFFSETFROM:-0500
TZOFFSETTO:-0400
TZNAME:EDT
DTSTART:20320314T070000
END:DAYLIGHT
BEGIN:STANDARD
TZOFFSETFROM:-0400
TZOFFSETTO:-0500
TZNAME:EST
DTSTART:20321107T060000
END:STANDARD
END:VTIMEZONE
BEGIN:VEVENT
DTSTART;TZID=America/New_York:20291019T170000
DTEND;TZID=America/New_York:20291019T183000
DTSTAMP:20260425T122438
CREATED:20230213T165041Z
LAST-MODIFIED:20230213T165041Z
UID:10008688-1887123600-1887129000@www.floridalegion.org
SUMMARY:Chapter 8: ALR Dinner Night
DESCRIPTION:Monthly ALR dinner night at Winter Haven Post 8
URL:https://www.floridalegion.org/event/chapter-8-alr-dinner-night/2029-10-19/
LOCATION:Winter Haven American Legion Post 8\, 300 Avenue M NW\, Winter Haven\, FL\, 33881\, United States
CATEGORIES:Legion Riders
ORGANIZER;CN="ALR Chapter 8":MAILTO:hglenn1973@yahoo.com
END:VEVENT
BEGIN:VEVENT
DTSTART;TZID=America/New_York:20291116T170000
DTEND;TZID=America/New_York:20291116T183000
DTSTAMP:20260425T122438
CREATED:20230213T165041Z
LAST-MODIFIED:20230213T165041Z
UID:10008689-1889542800-1889548200@www.floridalegion.org
SUMMARY:Chapter 8: ALR Dinner Night
DESCRIPTION:Monthly ALR dinner night at Winter Haven Post 8
URL:https://www.floridalegion.org/event/chapter-8-alr-dinner-night/2029-11-16/
LOCATION:Winter Haven American Legion Post 8\, 300 Avenue M NW\, Winter Haven\, FL\, 33881\, United States
CATEGORIES:Legion Riders
ORGANIZER;CN="ALR Chapter 8":MAILTO:hglenn1973@yahoo.com
END:VEVENT
BEGIN:VEVENT
DTSTART;TZID=America/New_York:20291221T170000
DTEND;TZID=America/New_York:20291221T183000
DTSTAMP:20260425T122438
CREATED:20230213T165041Z
LAST-MODIFIED:20230213T165041Z
UID:10008690-1892566800-1892572200@www.floridalegion.org
SUMMARY:Chapter 8: ALR Dinner Night
DESCRIPTION:Monthly ALR dinner night at Winter Haven Post 8
URL:https://www.floridalegion.org/event/chapter-8-alr-dinner-night/2029-12-21/
LOCATION:Winter Haven American Legion Post 8\, 300 Avenue M NW\, Winter Haven\, FL\, 33881\, United States
CATEGORIES:Legion Riders
ORGANIZER;CN="ALR Chapter 8":MAILTO:hglenn1973@yahoo.com
END:VEVENT
BEGIN:VEVENT
DTSTART;TZID=America/New_York:20300118T170000
DTEND;TZID=America/New_York:20300118T183000
DTSTAMP:20260425T122438
CREATED:20230213T165041Z
LAST-MODIFIED:20230213T165041Z
UID:10008691-1894986000-1894991400@www.floridalegion.org
SUMMARY:Chapter 8: ALR Dinner Night
DESCRIPTION:Monthly ALR dinner night at Winter Haven Post 8
URL:https://www.floridalegion.org/event/chapter-8-alr-dinner-night/2030-01-18/
LOCATION:Winter Haven American Legion Post 8\, 300 Avenue M NW\, Winter Haven\, FL\, 33881\, United States
CATEGORIES:Legion Riders
ORGANIZER;CN="ALR Chapter 8":MAILTO:hglenn1973@yahoo.com
END:VEVENT
BEGIN:VEVENT
DTSTART;TZID=America/New_York:20300215T170000
DTEND;TZID=America/New_York:20300215T183000
DTSTAMP:20260425T122438
CREATED:20230213T165041Z
LAST-MODIFIED:20230213T165041Z
UID:10008692-1897405200-1897410600@www.floridalegion.org
SUMMARY:Chapter 8: ALR Dinner Night
DESCRIPTION:Monthly ALR dinner night at Winter Haven Post 8
URL:https://www.floridalegion.org/event/chapter-8-alr-dinner-night/2030-02-15/
LOCATION:Winter Haven American Legion Post 8\, 300 Avenue M NW\, Winter Haven\, FL\, 33881\, United States
CATEGORIES:Legion Riders
ORGANIZER;CN="ALR Chapter 8":MAILTO:hglenn1973@yahoo.com
END:VEVENT
BEGIN:VEVENT
DTSTART;TZID=America/New_York:20300315T170000
DTEND;TZID=America/New_York:20300315T183000
DTSTAMP:20260425T122438
CREATED:20230213T165041Z
LAST-MODIFIED:20230213T165041Z
UID:10008699-1899824400-1899829800@www.floridalegion.org
SUMMARY:Chapter 8: ALR Dinner Night
DESCRIPTION:Monthly ALR dinner night at Winter Haven Post 8
URL:https://www.floridalegion.org/event/chapter-8-alr-dinner-night/2030-03-15/
LOCATION:Winter Haven American Legion Post 8\, 300 Avenue M NW\, Winter Haven\, FL\, 33881\, United States
CATEGORIES:Legion Riders
ORGANIZER;CN="ALR Chapter 8":MAILTO:hglenn1973@yahoo.com
END:VEVENT
BEGIN:VEVENT
DTSTART;TZID=America/New_York:20300419T170000
DTEND;TZID=America/New_York:20300419T183000
DTSTAMP:20260425T122438
CREATED:20230213T165041Z
LAST-MODIFIED:20230213T165041Z
UID:10008708-1902848400-1902853800@www.floridalegion.org
SUMMARY:Chapter 8: ALR Dinner Night
DESCRIPTION:Monthly ALR dinner night at Winter Haven Post 8
URL:https://www.floridalegion.org/event/chapter-8-alr-dinner-night/2030-04-19/
LOCATION:Winter Haven American Legion Post 8\, 300 Avenue M NW\, Winter Haven\, FL\, 33881\, United States
CATEGORIES:Legion Riders
ORGANIZER;CN="ALR Chapter 8":MAILTO:hglenn1973@yahoo.com
END:VEVENT
BEGIN:VEVENT
DTSTART;TZID=America/New_York:20300517T170000
DTEND;TZID=America/New_York:20300517T183000
DTSTAMP:20260425T122438
CREATED:20230213T165041Z
LAST-MODIFIED:20230213T165041Z
UID:10008774-1905267600-1905273000@www.floridalegion.org
SUMMARY:Chapter 8: ALR Dinner Night
DESCRIPTION:Monthly ALR dinner night at Winter Haven Post 8
URL:https://www.floridalegion.org/event/chapter-8-alr-dinner-night/2030-05-17/
LOCATION:Winter Haven American Legion Post 8\, 300 Avenue M NW\, Winter Haven\, FL\, 33881\, United States
CATEGORIES:Legion Riders
ORGANIZER;CN="ALR Chapter 8":MAILTO:hglenn1973@yahoo.com
END:VEVENT
BEGIN:VEVENT
DTSTART;TZID=America/New_York:20300621T170000
DTEND;TZID=America/New_York:20300621T183000
DTSTAMP:20260425T122438
CREATED:20230213T165041Z
LAST-MODIFIED:20230213T165041Z
UID:10009468-1908291600-1908297000@www.floridalegion.org
SUMMARY:Chapter 8: ALR Dinner Night
DESCRIPTION:Monthly ALR dinner night at Winter Haven Post 8
URL:https://www.floridalegion.org/event/chapter-8-alr-dinner-night/2030-06-21/
LOCATION:Winter Haven American Legion Post 8\, 300 Avenue M NW\, Winter Haven\, FL\, 33881\, United States
CATEGORIES:Legion Riders
ORGANIZER;CN="ALR Chapter 8":MAILTO:hglenn1973@yahoo.com
END:VEVENT
BEGIN:VEVENT
DTSTART;TZID=America/New_York:20300719T170000
DTEND;TZID=America/New_York:20300719T183000
DTSTAMP:20260425T122438
CREATED:20230213T165041Z
LAST-MODIFIED:20230213T165041Z
UID:10009469-1910710800-1910716200@www.floridalegion.org
SUMMARY:Chapter 8: ALR Dinner Night
DESCRIPTION:Monthly ALR dinner night at Winter Haven Post 8
URL:https://www.floridalegion.org/event/chapter-8-alr-dinner-night/2030-07-19/
LOCATION:Winter Haven American Legion Post 8\, 300 Avenue M NW\, Winter Haven\, FL\, 33881\, United States
CATEGORIES:Legion Riders
ORGANIZER;CN="ALR Chapter 8":MAILTO:hglenn1973@yahoo.com
END:VEVENT
BEGIN:VEVENT
DTSTART;TZID=America/New_York:20300816T170000
DTEND;TZID=America/New_York:20300816T183000
DTSTAMP:20260425T122438
CREATED:20230213T165041Z
LAST-MODIFIED:20230213T165041Z
UID:10009567-1913130000-1913135400@www.floridalegion.org
SUMMARY:Chapter 8: ALR Dinner Night
DESCRIPTION:Monthly ALR dinner night at Winter Haven Post 8
URL:https://www.floridalegion.org/event/chapter-8-alr-dinner-night/2030-08-16/
LOCATION:Winter Haven American Legion Post 8\, 300 Avenue M NW\, Winter Haven\, FL\, 33881\, United States
CATEGORIES:Legion Riders
ORGANIZER;CN="ALR Chapter 8":MAILTO:hglenn1973@yahoo.com
END:VEVENT
BEGIN:VEVENT
DTSTART;TZID=America/New_York:20300920T170000
DTEND;TZID=America/New_York:20300920T183000
DTSTAMP:20260425T122438
CREATED:20230213T165041Z
LAST-MODIFIED:20230213T165041Z
UID:10009719-1916154000-1916159400@www.floridalegion.org
SUMMARY:Chapter 8: ALR Dinner Night
DESCRIPTION:Monthly ALR dinner night at Winter Haven Post 8
URL:https://www.floridalegion.org/event/chapter-8-alr-dinner-night/2030-09-20/
LOCATION:Winter Haven American Legion Post 8\, 300 Avenue M NW\, Winter Haven\, FL\, 33881\, United States
CATEGORIES:Legion Riders
ORGANIZER;CN="ALR Chapter 8":MAILTO:hglenn1973@yahoo.com
END:VEVENT
BEGIN:VEVENT
DTSTART;TZID=America/New_York:20301018T170000
DTEND;TZID=America/New_York:20301018T183000
DTSTAMP:20260425T122438
CREATED:20230213T165041Z
LAST-MODIFIED:20230213T165041Z
UID:10009720-1918573200-1918578600@www.floridalegion.org
SUMMARY:Chapter 8: ALR Dinner Night
DESCRIPTION:Monthly ALR dinner night at Winter Haven Post 8
URL:https://www.floridalegion.org/event/chapter-8-alr-dinner-night/2030-10-18/
LOCATION:Winter Haven American Legion Post 8\, 300 Avenue M NW\, Winter Haven\, FL\, 33881\, United States
CATEGORIES:Legion Riders
ORGANIZER;CN="ALR Chapter 8":MAILTO:hglenn1973@yahoo.com
END:VEVENT
BEGIN:VEVENT
DTSTART;TZID=America/New_York:20301115T170000
DTEND;TZID=America/New_York:20301115T183000
DTSTAMP:20260425T122438
CREATED:20230213T165041Z
LAST-MODIFIED:20230213T165041Z
UID:10009755-1920992400-1920997800@www.floridalegion.org
SUMMARY:Chapter 8: ALR Dinner Night
DESCRIPTION:Monthly ALR dinner night at Winter Haven Post 8
URL:https://www.floridalegion.org/event/chapter-8-alr-dinner-night/2030-11-15/
LOCATION:Winter Haven American Legion Post 8\, 300 Avenue M NW\, Winter Haven\, FL\, 33881\, United States
CATEGORIES:Legion Riders
ORGANIZER;CN="ALR Chapter 8":MAILTO:hglenn1973@yahoo.com
END:VEVENT
BEGIN:VEVENT
DTSTART;TZID=America/New_York:20301220T170000
DTEND;TZID=America/New_York:20301220T183000
DTSTAMP:20260425T122439
CREATED:20230213T165041Z
LAST-MODIFIED:20230213T165041Z
UID:10009806-1924016400-1924021800@www.floridalegion.org
SUMMARY:Chapter 8: ALR Dinner Night
DESCRIPTION:Monthly ALR dinner night at Winter Haven Post 8
URL:https://www.floridalegion.org/event/chapter-8-alr-dinner-night/2030-12-20/
LOCATION:Winter Haven American Legion Post 8\, 300 Avenue M NW\, Winter Haven\, FL\, 33881\, United States
CATEGORIES:Legion Riders
ORGANIZER;CN="ALR Chapter 8":MAILTO:hglenn1973@yahoo.com
END:VEVENT
BEGIN:VEVENT
DTSTART;TZID=America/New_York:20310117T170000
DTEND;TZID=America/New_York:20310117T183000
DTSTAMP:20260425T122439
CREATED:20230213T165041Z
LAST-MODIFIED:20230213T165041Z
UID:10009807-1926435600-1926441000@www.floridalegion.org
SUMMARY:Chapter 8: ALR Dinner Night
DESCRIPTION:Monthly ALR dinner night at Winter Haven Post 8
URL:https://www.floridalegion.org/event/chapter-8-alr-dinner-night/2031-01-17/
LOCATION:Winter Haven American Legion Post 8\, 300 Avenue M NW\, Winter Haven\, FL\, 33881\, United States
CATEGORIES:Legion Riders
ORGANIZER;CN="ALR Chapter 8":MAILTO:hglenn1973@yahoo.com
END:VEVENT
BEGIN:VEVENT
DTSTART;TZID=America/New_York:20310221T170000
DTEND;TZID=America/New_York:20310221T183000
DTSTAMP:20260425T122439
CREATED:20230213T165041Z
LAST-MODIFIED:20230213T165041Z
UID:10010033-1929459600-1929465000@www.floridalegion.org
SUMMARY:Chapter 8: ALR Dinner Night
DESCRIPTION:Monthly ALR dinner night at Winter Haven Post 8
URL:https://www.floridalegion.org/event/chapter-8-alr-dinner-night/2031-02-21/
LOCATION:Winter Haven American Legion Post 8\, 300 Avenue M NW\, Winter Haven\, FL\, 33881\, United States
CATEGORIES:Legion Riders
ORGANIZER;CN="ALR Chapter 8":MAILTO:hglenn1973@yahoo.com
END:VEVENT
BEGIN:VEVENT
DTSTART;TZID=America/New_York:20310321T170000
DTEND;TZID=America/New_York:20310321T183000
DTSTAMP:20260425T122439
CREATED:20230213T165041Z
LAST-MODIFIED:20230213T165041Z
UID:10010185-1931878800-1931884200@www.floridalegion.org
SUMMARY:Chapter 8: ALR Dinner Night
DESCRIPTION:Monthly ALR dinner night at Winter Haven Post 8
URL:https://www.floridalegion.org/event/chapter-8-alr-dinner-night/2031-03-21/
LOCATION:Winter Haven American Legion Post 8\, 300 Avenue M NW\, Winter Haven\, FL\, 33881\, United States
CATEGORIES:Legion Riders
ORGANIZER;CN="ALR Chapter 8":MAILTO:hglenn1973@yahoo.com
END:VEVENT
BEGIN:VEVENT
DTSTART;TZID=America/New_York:20310418T170000
DTEND;TZID=America/New_York:20310418T183000
DTSTAMP:20260425T122439
CREATED:20230213T165041Z
LAST-MODIFIED:20230213T165041Z
UID:10010186-1934298000-1934303400@www.floridalegion.org
SUMMARY:Chapter 8: ALR Dinner Night
DESCRIPTION:Monthly ALR dinner night at Winter Haven Post 8
URL:https://www.floridalegion.org/event/chapter-8-alr-dinner-night/2031-04-18/
LOCATION:Winter Haven American Legion Post 8\, 300 Avenue M NW\, Winter Haven\, FL\, 33881\, United States
CATEGORIES:Legion Riders
ORGANIZER;CN="ALR Chapter 8":MAILTO:hglenn1973@yahoo.com
END:VEVENT
END:VCALENDAR