BEGIN:VCALENDAR
VERSION:2.0
PRODID:-//Florida American Legion - ECPv6.15.20//NONSGML v1.0//EN
CALSCALE:GREGORIAN
METHOD:PUBLISH
X-WR-CALNAME:Florida American Legion
X-ORIGINAL-URL:https://www.floridalegion.org
X-WR-CALDESC:Events for Florida American Legion
REFRESH-INTERVAL;VALUE=DURATION:PT1H
X-Robots-Tag:noindex
X-PUBLISHED-TTL:PT1H
BEGIN:VTIMEZONE
TZID:America/New_York
BEGIN:DAYLIGHT
TZOFFSETFROM:-0500
TZOFFSETTO:-0400
TZNAME:EDT
DTSTART:20250309T070000
END:DAYLIGHT
BEGIN:STANDARD
TZOFFSETFROM:-0400
TZOFFSETTO:-0500
TZNAME:EST
DTSTART:20251102T060000
END:STANDARD
BEGIN:DAYLIGHT
TZOFFSETFROM:-0500
TZOFFSETTO:-0400
TZNAME:EDT
DTSTART:20260308T070000
END:DAYLIGHT
BEGIN:STANDARD
TZOFFSETFROM:-0400
TZOFFSETTO:-0500
TZNAME:EST
DTSTART:20261101T060000
END:STANDARD
BEGIN:DAYLIGHT
TZOFFSETFROM:-0500
TZOFFSETTO:-0400
TZNAME:EDT
DTSTART:20270314T070000
END:DAYLIGHT
BEGIN:STANDARD
TZOFFSETFROM:-0400
TZOFFSETTO:-0500
TZNAME:EST
DTSTART:20271107T060000
END:STANDARD
BEGIN:DAYLIGHT
TZOFFSETFROM:-0500
TZOFFSETTO:-0400
TZNAME:EDT
DTSTART:20280312T070000
END:DAYLIGHT
BEGIN:STANDARD
TZOFFSETFROM:-0400
TZOFFSETTO:-0500
TZNAME:EST
DTSTART:20281105T060000
END:STANDARD
END:VTIMEZONE
BEGIN:VEVENT
DTSTART;TZID=America/New_York:20260510T130000
DTEND;TZID=America/New_York:20260510T140000
DTSTAMP:20260424T203525
CREATED:20240712T152500Z
LAST-MODIFIED:20240712T152500Z
UID:10008360-1778418000-1778421600@www.floridalegion.org
SUMMARY:Chapter 8: ALR Meeting
DESCRIPTION:Monthly meeting to discuss new business\, old business\, and good of the Riders.
URL:https://www.floridalegion.org/event/chapter-8-alr-meeting-2/2026-05-10/
LOCATION:Winter Haven American Legion Post 8\, 300 Avenue M NW\, Winter Haven\, FL\, 33881\, United States
CATEGORIES:Legion Riders,Post Events,Program Events
ORGANIZER;CN="ALR Chapter 8":MAILTO:hglenn1973@yahoo.com
END:VEVENT
BEGIN:VEVENT
DTSTART;TZID=America/New_York:20260515T170000
DTEND;TZID=America/New_York:20260515T183000
DTSTAMP:20260424T203525
CREATED:20230213T165041Z
LAST-MODIFIED:20230213T165041Z
UID:10008647-1778864400-1778869800@www.floridalegion.org
SUMMARY:Chapter 8: ALR Dinner Night
DESCRIPTION:Monthly ALR dinner night at Winter Haven Post 8
URL:https://www.floridalegion.org/event/chapter-8-alr-dinner-night/2026-05-15/
LOCATION:Winter Haven American Legion Post 8\, 300 Avenue M NW\, Winter Haven\, FL\, 33881\, United States
CATEGORIES:Legion Riders
ORGANIZER;CN="ALR Chapter 8":MAILTO:hglenn1973@yahoo.com
END:VEVENT
BEGIN:VEVENT
DTSTART;TZID=America/New_York:20260614T130000
DTEND;TZID=America/New_York:20260614T140000
DTSTAMP:20260424T203525
CREATED:20240712T152500Z
LAST-MODIFIED:20240712T152500Z
UID:10008361-1781442000-1781445600@www.floridalegion.org
SUMMARY:Chapter 8: ALR Meeting
DESCRIPTION:Monthly meeting to discuss new business\, old business\, and good of the Riders.
URL:https://www.floridalegion.org/event/chapter-8-alr-meeting-2/2026-06-14/
LOCATION:Winter Haven American Legion Post 8\, 300 Avenue M NW\, Winter Haven\, FL\, 33881\, United States
CATEGORIES:Legion Riders,Post Events,Program Events
ORGANIZER;CN="ALR Chapter 8":MAILTO:hglenn1973@yahoo.com
END:VEVENT
BEGIN:VEVENT
DTSTART;TZID=America/New_York:20260619T170000
DTEND;TZID=America/New_York:20260619T183000
DTSTAMP:20260424T203525
CREATED:20230213T165041Z
LAST-MODIFIED:20230213T165041Z
UID:10008648-1781888400-1781893800@www.floridalegion.org
SUMMARY:Chapter 8: ALR Dinner Night
DESCRIPTION:Monthly ALR dinner night at Winter Haven Post 8
URL:https://www.floridalegion.org/event/chapter-8-alr-dinner-night/2026-06-19/
LOCATION:Winter Haven American Legion Post 8\, 300 Avenue M NW\, Winter Haven\, FL\, 33881\, United States
CATEGORIES:Legion Riders
ORGANIZER;CN="ALR Chapter 8":MAILTO:hglenn1973@yahoo.com
END:VEVENT
BEGIN:VEVENT
DTSTART;TZID=America/New_York:20260712T130000
DTEND;TZID=America/New_York:20260712T140000
DTSTAMP:20260424T203525
CREATED:20240712T152500Z
LAST-MODIFIED:20240712T152500Z
UID:10008362-1783861200-1783864800@www.floridalegion.org
SUMMARY:Chapter 8: ALR Meeting
DESCRIPTION:Monthly meeting to discuss new business\, old business\, and good of the Riders.
URL:https://www.floridalegion.org/event/chapter-8-alr-meeting-2/2026-07-12/
LOCATION:Winter Haven American Legion Post 8\, 300 Avenue M NW\, Winter Haven\, FL\, 33881\, United States
CATEGORIES:Legion Riders,Post Events,Program Events
ORGANIZER;CN="ALR Chapter 8":MAILTO:hglenn1973@yahoo.com
END:VEVENT
BEGIN:VEVENT
DTSTART;TZID=America/New_York:20260717T170000
DTEND;TZID=America/New_York:20260717T183000
DTSTAMP:20260424T203525
CREATED:20230213T165041Z
LAST-MODIFIED:20230213T165041Z
UID:10008649-1784307600-1784313000@www.floridalegion.org
SUMMARY:Chapter 8: ALR Dinner Night
DESCRIPTION:Monthly ALR dinner night at Winter Haven Post 8
URL:https://www.floridalegion.org/event/chapter-8-alr-dinner-night/2026-07-17/
LOCATION:Winter Haven American Legion Post 8\, 300 Avenue M NW\, Winter Haven\, FL\, 33881\, United States
CATEGORIES:Legion Riders
ORGANIZER;CN="ALR Chapter 8":MAILTO:hglenn1973@yahoo.com
END:VEVENT
BEGIN:VEVENT
DTSTART;TZID=America/New_York:20260809T130000
DTEND;TZID=America/New_York:20260809T140000
DTSTAMP:20260424T203525
CREATED:20240712T152500Z
LAST-MODIFIED:20240712T152500Z
UID:10008363-1786280400-1786284000@www.floridalegion.org
SUMMARY:Chapter 8: ALR Meeting
DESCRIPTION:Monthly meeting to discuss new business\, old business\, and good of the Riders.
URL:https://www.floridalegion.org/event/chapter-8-alr-meeting-2/2026-08-09/
LOCATION:Winter Haven American Legion Post 8\, 300 Avenue M NW\, Winter Haven\, FL\, 33881\, United States
CATEGORIES:Legion Riders,Post Events,Program Events
ORGANIZER;CN="ALR Chapter 8":MAILTO:hglenn1973@yahoo.com
END:VEVENT
BEGIN:VEVENT
DTSTART;TZID=America/New_York:20260821T170000
DTEND;TZID=America/New_York:20260821T183000
DTSTAMP:20260424T203525
CREATED:20230213T165041Z
LAST-MODIFIED:20230213T165041Z
UID:10008650-1787331600-1787337000@www.floridalegion.org
SUMMARY:Chapter 8: ALR Dinner Night
DESCRIPTION:Monthly ALR dinner night at Winter Haven Post 8
URL:https://www.floridalegion.org/event/chapter-8-alr-dinner-night/2026-08-21/
LOCATION:Winter Haven American Legion Post 8\, 300 Avenue M NW\, Winter Haven\, FL\, 33881\, United States
CATEGORIES:Legion Riders
ORGANIZER;CN="ALR Chapter 8":MAILTO:hglenn1973@yahoo.com
END:VEVENT
BEGIN:VEVENT
DTSTART;TZID=America/New_York:20260913T130000
DTEND;TZID=America/New_York:20260913T140000
DTSTAMP:20260424T203525
CREATED:20240712T152500Z
LAST-MODIFIED:20240712T152500Z
UID:10008364-1789304400-1789308000@www.floridalegion.org
SUMMARY:Chapter 8: ALR Meeting
DESCRIPTION:Monthly meeting to discuss new business\, old business\, and good of the Riders.
URL:https://www.floridalegion.org/event/chapter-8-alr-meeting-2/2026-09-13/
LOCATION:Winter Haven American Legion Post 8\, 300 Avenue M NW\, Winter Haven\, FL\, 33881\, United States
CATEGORIES:Legion Riders,Post Events,Program Events
ORGANIZER;CN="ALR Chapter 8":MAILTO:hglenn1973@yahoo.com
END:VEVENT
BEGIN:VEVENT
DTSTART;TZID=America/New_York:20260918T170000
DTEND;TZID=America/New_York:20260918T183000
DTSTAMP:20260424T203525
CREATED:20230213T165041Z
LAST-MODIFIED:20230213T165041Z
UID:10008651-1789750800-1789756200@www.floridalegion.org
SUMMARY:Chapter 8: ALR Dinner Night
DESCRIPTION:Monthly ALR dinner night at Winter Haven Post 8
URL:https://www.floridalegion.org/event/chapter-8-alr-dinner-night/2026-09-18/
LOCATION:Winter Haven American Legion Post 8\, 300 Avenue M NW\, Winter Haven\, FL\, 33881\, United States
CATEGORIES:Legion Riders
ORGANIZER;CN="ALR Chapter 8":MAILTO:hglenn1973@yahoo.com
END:VEVENT
BEGIN:VEVENT
DTSTART;TZID=America/New_York:20261011T130000
DTEND;TZID=America/New_York:20261011T140000
DTSTAMP:20260424T203525
CREATED:20240712T152500Z
LAST-MODIFIED:20240712T152500Z
UID:10008365-1791723600-1791727200@www.floridalegion.org
SUMMARY:Chapter 8: ALR Meeting
DESCRIPTION:Monthly meeting to discuss new business\, old business\, and good of the Riders.
URL:https://www.floridalegion.org/event/chapter-8-alr-meeting-2/2026-10-11/
LOCATION:Winter Haven American Legion Post 8\, 300 Avenue M NW\, Winter Haven\, FL\, 33881\, United States
CATEGORIES:Legion Riders,Post Events,Program Events
ORGANIZER;CN="ALR Chapter 8":MAILTO:hglenn1973@yahoo.com
END:VEVENT
BEGIN:VEVENT
DTSTART;TZID=America/New_York:20261016T170000
DTEND;TZID=America/New_York:20261016T183000
DTSTAMP:20260424T203526
CREATED:20230213T165041Z
LAST-MODIFIED:20230213T165041Z
UID:10008652-1792170000-1792175400@www.floridalegion.org
SUMMARY:Chapter 8: ALR Dinner Night
DESCRIPTION:Monthly ALR dinner night at Winter Haven Post 8
URL:https://www.floridalegion.org/event/chapter-8-alr-dinner-night/2026-10-16/
LOCATION:Winter Haven American Legion Post 8\, 300 Avenue M NW\, Winter Haven\, FL\, 33881\, United States
CATEGORIES:Legion Riders
ORGANIZER;CN="ALR Chapter 8":MAILTO:hglenn1973@yahoo.com
END:VEVENT
BEGIN:VEVENT
DTSTART;TZID=America/New_York:20261108T130000
DTEND;TZID=America/New_York:20261108T140000
DTSTAMP:20260424T203526
CREATED:20240712T152500Z
LAST-MODIFIED:20240712T152500Z
UID:10008366-1794142800-1794146400@www.floridalegion.org
SUMMARY:Chapter 8: ALR Meeting
DESCRIPTION:Monthly meeting to discuss new business\, old business\, and good of the Riders.
URL:https://www.floridalegion.org/event/chapter-8-alr-meeting-2/2026-11-08/
LOCATION:Winter Haven American Legion Post 8\, 300 Avenue M NW\, Winter Haven\, FL\, 33881\, United States
CATEGORIES:Legion Riders,Post Events,Program Events
ORGANIZER;CN="ALR Chapter 8":MAILTO:hglenn1973@yahoo.com
END:VEVENT
BEGIN:VEVENT
DTSTART;TZID=America/New_York:20261120T170000
DTEND;TZID=America/New_York:20261120T183000
DTSTAMP:20260424T203526
CREATED:20230213T165041Z
LAST-MODIFIED:20230213T165041Z
UID:10008653-1795194000-1795199400@www.floridalegion.org
SUMMARY:Chapter 8: ALR Dinner Night
DESCRIPTION:Monthly ALR dinner night at Winter Haven Post 8
URL:https://www.floridalegion.org/event/chapter-8-alr-dinner-night/2026-11-20/
LOCATION:Winter Haven American Legion Post 8\, 300 Avenue M NW\, Winter Haven\, FL\, 33881\, United States
CATEGORIES:Legion Riders
ORGANIZER;CN="ALR Chapter 8":MAILTO:hglenn1973@yahoo.com
END:VEVENT
BEGIN:VEVENT
DTSTART;TZID=America/New_York:20261213T130000
DTEND;TZID=America/New_York:20261213T140000
DTSTAMP:20260424T203526
CREATED:20240712T152500Z
LAST-MODIFIED:20240712T152500Z
UID:10008367-1797166800-1797170400@www.floridalegion.org
SUMMARY:Chapter 8: ALR Meeting
DESCRIPTION:Monthly meeting to discuss new business\, old business\, and good of the Riders.
URL:https://www.floridalegion.org/event/chapter-8-alr-meeting-2/2026-12-13/
LOCATION:Winter Haven American Legion Post 8\, 300 Avenue M NW\, Winter Haven\, FL\, 33881\, United States
CATEGORIES:Legion Riders,Post Events,Program Events
ORGANIZER;CN="ALR Chapter 8":MAILTO:hglenn1973@yahoo.com
END:VEVENT
BEGIN:VEVENT
DTSTART;TZID=America/New_York:20261218T170000
DTEND;TZID=America/New_York:20261218T183000
DTSTAMP:20260424T203526
CREATED:20230213T165041Z
LAST-MODIFIED:20230213T165041Z
UID:10008654-1797613200-1797618600@www.floridalegion.org
SUMMARY:Chapter 8: ALR Dinner Night
DESCRIPTION:Monthly ALR dinner night at Winter Haven Post 8
URL:https://www.floridalegion.org/event/chapter-8-alr-dinner-night/2026-12-18/
LOCATION:Winter Haven American Legion Post 8\, 300 Avenue M NW\, Winter Haven\, FL\, 33881\, United States
CATEGORIES:Legion Riders
ORGANIZER;CN="ALR Chapter 8":MAILTO:hglenn1973@yahoo.com
END:VEVENT
BEGIN:VEVENT
DTSTART;TZID=America/New_York:20270110T130000
DTEND;TZID=America/New_York:20270110T140000
DTSTAMP:20260424T203526
CREATED:20240712T152500Z
LAST-MODIFIED:20240712T152500Z
UID:10008368-1799586000-1799589600@www.floridalegion.org
SUMMARY:Chapter 8: ALR Meeting
DESCRIPTION:Monthly meeting to discuss new business\, old business\, and good of the Riders.
URL:https://www.floridalegion.org/event/chapter-8-alr-meeting-2/2027-01-10/
LOCATION:Winter Haven American Legion Post 8\, 300 Avenue M NW\, Winter Haven\, FL\, 33881\, United States
CATEGORIES:Legion Riders,Post Events,Program Events
ORGANIZER;CN="ALR Chapter 8":MAILTO:hglenn1973@yahoo.com
END:VEVENT
BEGIN:VEVENT
DTSTART;TZID=America/New_York:20270115T170000
DTEND;TZID=America/New_York:20270115T183000
DTSTAMP:20260424T203526
CREATED:20230213T165041Z
LAST-MODIFIED:20230213T165041Z
UID:10008655-1800032400-1800037800@www.floridalegion.org
SUMMARY:Chapter 8: ALR Dinner Night
DESCRIPTION:Monthly ALR dinner night at Winter Haven Post 8
URL:https://www.floridalegion.org/event/chapter-8-alr-dinner-night/2027-01-15/
LOCATION:Winter Haven American Legion Post 8\, 300 Avenue M NW\, Winter Haven\, FL\, 33881\, United States
CATEGORIES:Legion Riders
ORGANIZER;CN="ALR Chapter 8":MAILTO:hglenn1973@yahoo.com
END:VEVENT
BEGIN:VEVENT
DTSTART;TZID=America/New_York:20270214T130000
DTEND;TZID=America/New_York:20270214T140000
DTSTAMP:20260424T203526
CREATED:20240712T152500Z
LAST-MODIFIED:20240712T152500Z
UID:10008369-1802610000-1802613600@www.floridalegion.org
SUMMARY:Chapter 8: ALR Meeting
DESCRIPTION:Monthly meeting to discuss new business\, old business\, and good of the Riders.
URL:https://www.floridalegion.org/event/chapter-8-alr-meeting-2/2027-02-14/
LOCATION:Winter Haven American Legion Post 8\, 300 Avenue M NW\, Winter Haven\, FL\, 33881\, United States
CATEGORIES:Legion Riders,Post Events,Program Events
ORGANIZER;CN="ALR Chapter 8":MAILTO:hglenn1973@yahoo.com
END:VEVENT
BEGIN:VEVENT
DTSTART;TZID=America/New_York:20270219T170000
DTEND;TZID=America/New_York:20270219T183000
DTSTAMP:20260424T203526
CREATED:20230213T165041Z
LAST-MODIFIED:20230213T165041Z
UID:10008656-1803056400-1803061800@www.floridalegion.org
SUMMARY:Chapter 8: ALR Dinner Night
DESCRIPTION:Monthly ALR dinner night at Winter Haven Post 8
URL:https://www.floridalegion.org/event/chapter-8-alr-dinner-night/2027-02-19/
LOCATION:Winter Haven American Legion Post 8\, 300 Avenue M NW\, Winter Haven\, FL\, 33881\, United States
CATEGORIES:Legion Riders
ORGANIZER;CN="ALR Chapter 8":MAILTO:hglenn1973@yahoo.com
END:VEVENT
BEGIN:VEVENT
DTSTART;TZID=America/New_York:20270314T130000
DTEND;TZID=America/New_York:20270314T140000
DTSTAMP:20260424T203526
CREATED:20240712T152500Z
LAST-MODIFIED:20240712T152500Z
UID:10008370-1805029200-1805032800@www.floridalegion.org
SUMMARY:Chapter 8: ALR Meeting
DESCRIPTION:Monthly meeting to discuss new business\, old business\, and good of the Riders.
URL:https://www.floridalegion.org/event/chapter-8-alr-meeting-2/2027-03-14/
LOCATION:Winter Haven American Legion Post 8\, 300 Avenue M NW\, Winter Haven\, FL\, 33881\, United States
CATEGORIES:Legion Riders,Post Events,Program Events
ORGANIZER;CN="ALR Chapter 8":MAILTO:hglenn1973@yahoo.com
END:VEVENT
BEGIN:VEVENT
DTSTART;TZID=America/New_York:20270319T170000
DTEND;TZID=America/New_York:20270319T183000
DTSTAMP:20260424T203526
CREATED:20230213T165041Z
LAST-MODIFIED:20230213T165041Z
UID:10008657-1805475600-1805481000@www.floridalegion.org
SUMMARY:Chapter 8: ALR Dinner Night
DESCRIPTION:Monthly ALR dinner night at Winter Haven Post 8
URL:https://www.floridalegion.org/event/chapter-8-alr-dinner-night/2027-03-19/
LOCATION:Winter Haven American Legion Post 8\, 300 Avenue M NW\, Winter Haven\, FL\, 33881\, United States
CATEGORIES:Legion Riders
ORGANIZER;CN="ALR Chapter 8":MAILTO:hglenn1973@yahoo.com
END:VEVENT
BEGIN:VEVENT
DTSTART;TZID=America/New_York:20270411T130000
DTEND;TZID=America/New_York:20270411T140000
DTSTAMP:20260424T203526
CREATED:20240712T152500Z
LAST-MODIFIED:20240712T152500Z
UID:10008371-1807448400-1807452000@www.floridalegion.org
SUMMARY:Chapter 8: ALR Meeting
DESCRIPTION:Monthly meeting to discuss new business\, old business\, and good of the Riders.
URL:https://www.floridalegion.org/event/chapter-8-alr-meeting-2/2027-04-11/
LOCATION:Winter Haven American Legion Post 8\, 300 Avenue M NW\, Winter Haven\, FL\, 33881\, United States
CATEGORIES:Legion Riders,Post Events,Program Events
ORGANIZER;CN="ALR Chapter 8":MAILTO:hglenn1973@yahoo.com
END:VEVENT
BEGIN:VEVENT
DTSTART;TZID=America/New_York:20270416T170000
DTEND;TZID=America/New_York:20270416T183000
DTSTAMP:20260424T203526
CREATED:20230213T165041Z
LAST-MODIFIED:20230213T165041Z
UID:10008658-1807894800-1807900200@www.floridalegion.org
SUMMARY:Chapter 8: ALR Dinner Night
DESCRIPTION:Monthly ALR dinner night at Winter Haven Post 8
URL:https://www.floridalegion.org/event/chapter-8-alr-dinner-night/2027-04-16/
LOCATION:Winter Haven American Legion Post 8\, 300 Avenue M NW\, Winter Haven\, FL\, 33881\, United States
CATEGORIES:Legion Riders
ORGANIZER;CN="ALR Chapter 8":MAILTO:hglenn1973@yahoo.com
END:VEVENT
BEGIN:VEVENT
DTSTART;TZID=America/New_York:20270509T130000
DTEND;TZID=America/New_York:20270509T140000
DTSTAMP:20260424T203526
CREATED:20240712T152500Z
LAST-MODIFIED:20240712T152500Z
UID:10008372-1809867600-1809871200@www.floridalegion.org
SUMMARY:Chapter 8: ALR Meeting
DESCRIPTION:Monthly meeting to discuss new business\, old business\, and good of the Riders.
URL:https://www.floridalegion.org/event/chapter-8-alr-meeting-2/2027-05-09/
LOCATION:Winter Haven American Legion Post 8\, 300 Avenue M NW\, Winter Haven\, FL\, 33881\, United States
CATEGORIES:Legion Riders,Post Events,Program Events
ORGANIZER;CN="ALR Chapter 8":MAILTO:hglenn1973@yahoo.com
END:VEVENT
BEGIN:VEVENT
DTSTART;TZID=America/New_York:20270521T170000
DTEND;TZID=America/New_York:20270521T183000
DTSTAMP:20260424T203526
CREATED:20230213T165041Z
LAST-MODIFIED:20230213T165041Z
UID:10008659-1810918800-1810924200@www.floridalegion.org
SUMMARY:Chapter 8: ALR Dinner Night
DESCRIPTION:Monthly ALR dinner night at Winter Haven Post 8
URL:https://www.floridalegion.org/event/chapter-8-alr-dinner-night/2027-05-21/
LOCATION:Winter Haven American Legion Post 8\, 300 Avenue M NW\, Winter Haven\, FL\, 33881\, United States
CATEGORIES:Legion Riders
ORGANIZER;CN="ALR Chapter 8":MAILTO:hglenn1973@yahoo.com
END:VEVENT
BEGIN:VEVENT
DTSTART;TZID=America/New_York:20270613T130000
DTEND;TZID=America/New_York:20270613T140000
DTSTAMP:20260424T203526
CREATED:20240712T152500Z
LAST-MODIFIED:20240712T152500Z
UID:10008373-1812891600-1812895200@www.floridalegion.org
SUMMARY:Chapter 8: ALR Meeting
DESCRIPTION:Monthly meeting to discuss new business\, old business\, and good of the Riders.
URL:https://www.floridalegion.org/event/chapter-8-alr-meeting-2/2027-06-13/
LOCATION:Winter Haven American Legion Post 8\, 300 Avenue M NW\, Winter Haven\, FL\, 33881\, United States
CATEGORIES:Legion Riders,Post Events,Program Events
ORGANIZER;CN="ALR Chapter 8":MAILTO:hglenn1973@yahoo.com
END:VEVENT
BEGIN:VEVENT
DTSTART;TZID=America/New_York:20270618T170000
DTEND;TZID=America/New_York:20270618T183000
DTSTAMP:20260424T203526
CREATED:20230213T165041Z
LAST-MODIFIED:20230213T165041Z
UID:10008660-1813338000-1813343400@www.floridalegion.org
SUMMARY:Chapter 8: ALR Dinner Night
DESCRIPTION:Monthly ALR dinner night at Winter Haven Post 8
URL:https://www.floridalegion.org/event/chapter-8-alr-dinner-night/2027-06-18/
LOCATION:Winter Haven American Legion Post 8\, 300 Avenue M NW\, Winter Haven\, FL\, 33881\, United States
CATEGORIES:Legion Riders
ORGANIZER;CN="ALR Chapter 8":MAILTO:hglenn1973@yahoo.com
END:VEVENT
BEGIN:VEVENT
DTSTART;TZID=America/New_York:20270711T130000
DTEND;TZID=America/New_York:20270711T140000
DTSTAMP:20260424T203526
CREATED:20240712T152500Z
LAST-MODIFIED:20240712T152500Z
UID:10008374-1815310800-1815314400@www.floridalegion.org
SUMMARY:Chapter 8: ALR Meeting
DESCRIPTION:Monthly meeting to discuss new business\, old business\, and good of the Riders.
URL:https://www.floridalegion.org/event/chapter-8-alr-meeting-2/2027-07-11/
LOCATION:Winter Haven American Legion Post 8\, 300 Avenue M NW\, Winter Haven\, FL\, 33881\, United States
CATEGORIES:Legion Riders,Post Events,Program Events
ORGANIZER;CN="ALR Chapter 8":MAILTO:hglenn1973@yahoo.com
END:VEVENT
BEGIN:VEVENT
DTSTART;TZID=America/New_York:20270716T170000
DTEND;TZID=America/New_York:20270716T183000
DTSTAMP:20260424T203526
CREATED:20230213T165041Z
LAST-MODIFIED:20230213T165041Z
UID:10008661-1815757200-1815762600@www.floridalegion.org
SUMMARY:Chapter 8: ALR Dinner Night
DESCRIPTION:Monthly ALR dinner night at Winter Haven Post 8
URL:https://www.floridalegion.org/event/chapter-8-alr-dinner-night/2027-07-16/
LOCATION:Winter Haven American Legion Post 8\, 300 Avenue M NW\, Winter Haven\, FL\, 33881\, United States
CATEGORIES:Legion Riders
ORGANIZER;CN="ALR Chapter 8":MAILTO:hglenn1973@yahoo.com
END:VEVENT
END:VCALENDAR