BEGIN:VCALENDAR
VERSION:2.0
PRODID:-//Florida American Legion - ECPv6.15.20//NONSGML v1.0//EN
CALSCALE:GREGORIAN
METHOD:PUBLISH
X-ORIGINAL-URL:https://www.floridalegion.org
X-WR-CALDESC:Events for Florida American Legion
REFRESH-INTERVAL;VALUE=DURATION:PT1H
X-Robots-Tag:noindex
X-PUBLISHED-TTL:PT1H
BEGIN:VTIMEZONE
TZID:America/New_York
BEGIN:DAYLIGHT
TZOFFSETFROM:-0500
TZOFFSETTO:-0400
TZNAME:EDT
DTSTART:20250309T070000
END:DAYLIGHT
BEGIN:STANDARD
TZOFFSETFROM:-0400
TZOFFSETTO:-0500
TZNAME:EST
DTSTART:20251102T060000
END:STANDARD
BEGIN:DAYLIGHT
TZOFFSETFROM:-0500
TZOFFSETTO:-0400
TZNAME:EDT
DTSTART:20260308T070000
END:DAYLIGHT
BEGIN:STANDARD
TZOFFSETFROM:-0400
TZOFFSETTO:-0500
TZNAME:EST
DTSTART:20261101T060000
END:STANDARD
BEGIN:DAYLIGHT
TZOFFSETFROM:-0500
TZOFFSETTO:-0400
TZNAME:EDT
DTSTART:20270314T070000
END:DAYLIGHT
BEGIN:STANDARD
TZOFFSETFROM:-0400
TZOFFSETTO:-0500
TZNAME:EST
DTSTART:20271107T060000
END:STANDARD
END:VTIMEZONE
BEGIN:VEVENT
DTSTART;TZID=America/New_York:20260803T173000
DTEND;TZID=America/New_York:20260803T190000
DTSTAMP:20260419T223844
CREATED:20240308T134054Z
LAST-MODIFIED:20240528T201036Z
UID:10006917-1785778200-1785783600@www.floridalegion.org
SUMMARY:Chapter 316: ALR Burgers and Bingo
DESCRIPTION:Serving burger\, dogs etc. during Monday night Bingo
URL:https://www.floridalegion.org/event/chapter-316-alr-burgers-and-bingo/2026-08-03/
LOCATION:ALR 316\, 1127 Atlantic Blvd.\, Atlantic Beach\, 32233\, United States
CATEGORIES:Post Events
ORGANIZER;CN="Denise Strickland":MAILTO:dndfishing@aol.com
END:VEVENT
BEGIN:VEVENT
DTSTART;VALUE=DATE:20260804
DTEND;VALUE=DATE:20260805
DTSTAMP:20260419T223844
CREATED:20250703T170725Z
LAST-MODIFIED:20250703T170725Z
UID:10008895-1785801600-1785887999@www.floridalegion.org
SUMMARY:Coast Guard Birthday (1790)
DESCRIPTION:
URL:https://www.floridalegion.org/event/coast-guard-birthday-1790/2026-08-04/
LOCATION:FL
CATEGORIES:Other Events
END:VEVENT
BEGIN:VEVENT
DTSTART;TZID=America/New_York:20260804T170000
DTEND;TZID=America/New_York:20260804T190000
DTSTAMP:20260419T223844
CREATED:20240510T190532Z
LAST-MODIFIED:20240528T201210Z
UID:10007711-1785862800-1785870000@www.floridalegion.org
SUMMARY:ALR: Chapter 10 Taco Tuesday
DESCRIPTION:Taco Tuesday\, every Tuesday sponsored by Chapter 10 Kissimmee.
URL:https://www.floridalegion.org/event/chapter-10-taco-tuesday/2026-08-04/
LOCATION:American Legion Post 10\, 205 Lakeview Dr\, Kissimmee\, FL\, 34741\, United States
CATEGORIES:All Categories,Legion Riders
END:VEVENT
BEGIN:VEVENT
DTSTART;TZID=America/New_York:20260804T180000
DTEND;TZID=America/New_York:20260804T220000
DTSTAMP:20260419T223844
CREATED:20240212T141637Z
LAST-MODIFIED:20240528T201306Z
UID:10006637-1785866400-1785880800@www.floridalegion.org
SUMMARY:Chapter 117: ALR Riders Corn Hole Tournament
DESCRIPTION:Every Tuesday\, Chapter 117 holds a Corn Hole Tournament. $5 Registration starts at 6:00pm and starts at 6:30pm. Come on out! We have a great time.
URL:https://www.floridalegion.org/event/chapter-117-alr-riders-corn-hole-tournament/2026-08-04/
LOCATION:189 Veterans DrSE\, 189 Veterans Dr SE\, Palm Bay\, 32909\, United States
CATEGORIES:Legion Riders,Program Events
END:VEVENT
BEGIN:VEVENT
DTSTART;TZID=America/New_York:20260805T183000
DTEND;TZID=America/New_York:20260805T193000
DTSTAMP:20260419T223844
CREATED:20240212T141857Z
LAST-MODIFIED:20251208T164901Z
UID:10006471-1785954600-1785958200@www.floridalegion.org
SUMMARY:Chapter 136: ALR Monthly Meeting
DESCRIPTION:Join us for our monthly meeting the 1st Wednesday  each month
URL:https://www.floridalegion.org/event/alr-chapter-136-st-james-city-monthly-meeting/2026-08-05/
LOCATION:Post 136 Pine Island Inc\, 4106 Stringfellow Rd\, St James City\, FL\, 33956\, USA
CATEGORIES:Legion Riders,Program Events
ORGANIZER;CN="ALR136":MAILTO:chuck.warren@dignitymemorial.com
END:VEVENT
BEGIN:VEVENT
DTSTART;VALUE=DATE:20260807
DTEND;VALUE=DATE:20260808
DTSTAMP:20260419T223844
CREATED:20250703T172329Z
LAST-MODIFIED:20250703T172329Z
UID:10008971-1786060800-1786147199@www.floridalegion.org
SUMMARY:R.E.D. Friday
DESCRIPTION:Don’t forget to wear RED (Remember Everyone Deployed)
URL:https://www.floridalegion.org/event/r-e-d-friday/2026-08-07/
LOCATION:FL
CATEGORIES:Other Events
END:VEVENT
BEGIN:VEVENT
DTSTART;TZID=America/New_York:20260807T170000
DTEND;TZID=America/New_York:20260807T200000
DTSTAMP:20260419T223844
CREATED:20230911T153910Z
LAST-MODIFIED:20231002T134313Z
UID:10005730-1786122000-1786132800@www.floridalegion.org
SUMMARY:Post 316: Steak & Salmon Dinner
DESCRIPTION:American Legion Post 316 Steak & Salmon every Friday night \nDownload Flyer
URL:https://www.floridalegion.org/event/post-316-steak-salmon-dinner/2026-08-07/
LOCATION:American Legion Post 316\, 1127 Atlantic Blvd\, Atlantic Beach\, 32233\, United States
CATEGORIES:Post Events
END:VEVENT
BEGIN:VEVENT
DTSTART;TZID=America/New_York:20260808T170000
DTEND;TZID=America/New_York:20260808T190000
DTSTAMP:20260419T223844
CREATED:20230612T194230Z
LAST-MODIFIED:20230612T194230Z
UID:10005435-1786208400-1786215600@www.floridalegion.org
SUMMARY:Chapter 10: ALR Riders Dinner
DESCRIPTION:Monthly Riders Dinner Night..
URL:https://www.floridalegion.org/event/chapter-10-alr-riders-dinner/2026-08-08/
LOCATION:American Legion Post 10\, 205 Lakeview Dr\, Kissimmee\, FL\, 34741\, United States
CATEGORIES:Legion Riders,Program Events
END:VEVENT
BEGIN:VEVENT
DTSTART;TZID=America/New_York:20260809T130000
DTEND;TZID=America/New_York:20260809T140000
DTSTAMP:20260419T223844
CREATED:20240712T152500Z
LAST-MODIFIED:20240712T152500Z
UID:10008363-1786280400-1786284000@www.floridalegion.org
SUMMARY:Chapter 8: ALR Meeting
DESCRIPTION:Monthly meeting to discuss new business\, old business\, and good of the Riders.
URL:https://www.floridalegion.org/event/chapter-8-alr-meeting-2/2026-08-09/
LOCATION:Winter Haven American Legion Post 8\, 300 Avenue M NW\, Winter Haven\, FL\, 33881\, United States
CATEGORIES:Legion Riders,Post Events,Program Events
ORGANIZER;CN="ALR Chapter 8":MAILTO:hglenn1973@yahoo.com
END:VEVENT
END:VCALENDAR