BEGIN:VCALENDAR
VERSION:2.0
PRODID:-//Florida American Legion - ECPv6.15.20//NONSGML v1.0//EN
CALSCALE:GREGORIAN
METHOD:PUBLISH
X-WR-CALNAME:Florida American Legion
X-ORIGINAL-URL:https://www.floridalegion.org
X-WR-CALDESC:Events for Florida American Legion
REFRESH-INTERVAL;VALUE=DURATION:PT1H
X-Robots-Tag:noindex
X-PUBLISHED-TTL:PT1H
BEGIN:VTIMEZONE
TZID:America/New_York
BEGIN:DAYLIGHT
TZOFFSETFROM:-0500
TZOFFSETTO:-0400
TZNAME:EDT
DTSTART:20240310T070000
END:DAYLIGHT
BEGIN:STANDARD
TZOFFSETFROM:-0400
TZOFFSETTO:-0500
TZNAME:EST
DTSTART:20241103T060000
END:STANDARD
BEGIN:DAYLIGHT
TZOFFSETFROM:-0500
TZOFFSETTO:-0400
TZNAME:EDT
DTSTART:20250309T070000
END:DAYLIGHT
BEGIN:STANDARD
TZOFFSETFROM:-0400
TZOFFSETTO:-0500
TZNAME:EST
DTSTART:20251102T060000
END:STANDARD
BEGIN:DAYLIGHT
TZOFFSETFROM:-0500
TZOFFSETTO:-0400
TZNAME:EDT
DTSTART:20260308T070000
END:DAYLIGHT
BEGIN:STANDARD
TZOFFSETFROM:-0400
TZOFFSETTO:-0500
TZNAME:EST
DTSTART:20261101T060000
END:STANDARD
BEGIN:DAYLIGHT
TZOFFSETFROM:-0500
TZOFFSETTO:-0400
TZNAME:EDT
DTSTART:20270314T070000
END:DAYLIGHT
BEGIN:STANDARD
TZOFFSETFROM:-0400
TZOFFSETTO:-0500
TZNAME:EST
DTSTART:20271107T060000
END:STANDARD
END:VTIMEZONE
BEGIN:VTIMEZONE
TZID:America/Chicago
BEGIN:DAYLIGHT
TZOFFSETFROM:-0600
TZOFFSETTO:-0500
TZNAME:CDT
DTSTART:20240310T080000
END:DAYLIGHT
BEGIN:STANDARD
TZOFFSETFROM:-0500
TZOFFSETTO:-0600
TZNAME:CST
DTSTART:20241103T070000
END:STANDARD
BEGIN:DAYLIGHT
TZOFFSETFROM:-0600
TZOFFSETTO:-0500
TZNAME:CDT
DTSTART:20250309T080000
END:DAYLIGHT
BEGIN:STANDARD
TZOFFSETFROM:-0500
TZOFFSETTO:-0600
TZNAME:CST
DTSTART:20251102T070000
END:STANDARD
BEGIN:DAYLIGHT
TZOFFSETFROM:-0600
TZOFFSETTO:-0500
TZNAME:CDT
DTSTART:20260308T080000
END:DAYLIGHT
BEGIN:STANDARD
TZOFFSETFROM:-0500
TZOFFSETTO:-0600
TZNAME:CST
DTSTART:20261101T070000
END:STANDARD
END:VTIMEZONE
BEGIN:VEVENT
DTSTART;VALUE=DATE:20251101
DTEND;VALUE=DATE:20260301
DTSTAMP:20260420T155155
CREATED:20250716T162147Z
LAST-MODIFIED:20250716T162147Z
UID:10009467-1761955200-1772323199@www.floridalegion.org
SUMMARY:District 13: ALR Winter Passport Tour
DESCRIPTION:This 4-month tour takes you on a journey through SWFL to some wonderful restaurants\, great American Legions\, VFW’s\, and Moose Lodges.  Try to complete the book for a chance to win $500\, $250 or $100.  First one to finish wins $100.  Prizes will be given out at the Passport Party on 3/22.
URL:https://www.floridalegion.org/event/district-13-alr-winter-passport-tour/
LOCATION:SW Florida\, United States
CATEGORIES:District Events,Legion Riders
ATTACH;FMTTYPE=image/png:https://www.floridalegion.org/wp-content/uploads/2025/07/Winter-Tour-Stop-Flyer.png
ORGANIZER;CN="ALR District 13":MAILTO:laursandstrom@yahoo.com
END:VEVENT
BEGIN:VEVENT
DTSTART;VALUE=DATE:20251101
DTEND;VALUE=DATE:20251201
DTSTAMP:20260420T155155
CREATED:20250703T175454Z
LAST-MODIFIED:20250703T175454Z
UID:10009244-1761955200-1764547199@www.floridalegion.org
SUMMARY:Veterans & Military Family Month
DESCRIPTION:
URL:https://www.floridalegion.org/event/veterans-military-family-month-3/
CATEGORIES:Other Events
END:VEVENT
BEGIN:VEVENT
DTSTART;VALUE=DATE:20251101
DTEND;VALUE=DATE:20251201
DTSTAMP:20260420T155155
CREATED:20250703T175510Z
LAST-MODIFIED:20250703T175510Z
UID:10009245-1761955200-1764547199@www.floridalegion.org
SUMMARY:Warrior Care Month
DESCRIPTION:
URL:https://www.floridalegion.org/event/warrior-care-month-3/
CATEGORIES:Other Events
END:VEVENT
BEGIN:VEVENT
DTSTART;VALUE=DATE:20251101
DTEND;VALUE=DATE:20251201
DTSTAMP:20260420T155155
CREATED:20250703T175522Z
LAST-MODIFIED:20250703T175522Z
UID:10009246-1761955200-1764547199@www.floridalegion.org
SUMMARY:Family Caregivers Month
DESCRIPTION:
URL:https://www.floridalegion.org/event/family-caregivers-month-3/
CATEGORIES:Other Events
END:VEVENT
BEGIN:VEVENT
DTSTART;VALUE=DATE:20251108
DTEND;VALUE=DATE:20251112
DTSTAMP:20260420T155155
CREATED:20250728T140207Z
LAST-MODIFIED:20251021T140227Z
UID:10009493-1762560000-1762905599@www.floridalegion.org
SUMMARY:District 16: Commander's Tour
DESCRIPTION:
URL:https://www.floridalegion.org/event/district-16-commanders-tour/
CATEGORIES:Commanders,District Events
END:VEVENT
BEGIN:VEVENT
DTSTART;VALUE=DATE:20251109
DTEND;VALUE=DATE:20251116
DTSTAMP:20260420T155155
CREATED:20250703T175140Z
LAST-MODIFIED:20250703T175140Z
UID:10009234-1762646400-1763251199@www.floridalegion.org
SUMMARY:Buddy Check Week
DESCRIPTION:
URL:https://www.floridalegion.org/event/buddy-check-week-2/
CATEGORIES:Program Events
END:VEVENT
BEGIN:VEVENT
DTSTART;TZID=America/New_York:20251110T173000
DTEND;TZID=America/New_York:20251110T190000
DTSTAMP:20260420T155155
CREATED:20240308T134054Z
LAST-MODIFIED:20240528T201036Z
UID:10006879-1762795800-1762801200@www.floridalegion.org
SUMMARY:Chapter 316: ALR Burgers and Bingo
DESCRIPTION:Serving burger\, dogs etc. during Monday night Bingo
URL:https://www.floridalegion.org/event/chapter-316-alr-burgers-and-bingo/2025-11-10/
LOCATION:ALR 316\, 1127 Atlantic Blvd.\, Atlantic Beach\, 32233\, United States
CATEGORIES:Post Events
ORGANIZER;CN="Denise Strickland":MAILTO:dndfishing@aol.com
END:VEVENT
BEGIN:VEVENT
DTSTART;VALUE=DATE:20251111
DTEND;VALUE=DATE:20251112
DTSTAMP:20260420T155155
CREATED:20250703T175155Z
LAST-MODIFIED:20250703T175155Z
UID:10009235-1762819200-1762905599@www.floridalegion.org
SUMMARY:World War I Ends (1918)
DESCRIPTION:
URL:https://www.floridalegion.org/event/world-war-i-ends-1918-3/
CATEGORIES:Other Events
END:VEVENT
BEGIN:VEVENT
DTSTART;VALUE=DATE:20251111
DTEND;VALUE=DATE:20251112
DTSTAMP:20260420T155155
CREATED:20250703T175209Z
LAST-MODIFIED:20250703T175209Z
UID:10009236-1762819200-1762905599@www.floridalegion.org
SUMMARY:Armistice/Remembrance Day
DESCRIPTION:
URL:https://www.floridalegion.org/event/armistice-remembrance-day-2/
CATEGORIES:Other Events
END:VEVENT
BEGIN:VEVENT
DTSTART;VALUE=DATE:20251111
DTEND;VALUE=DATE:20251112
DTSTAMP:20260420T155155
CREATED:20250703T175223Z
LAST-MODIFIED:20250703T175223Z
UID:10009237-1762819200-1762905599@www.floridalegion.org
SUMMARY:Veterans Day
DESCRIPTION:
URL:https://www.floridalegion.org/event/veterans-day-3/
CATEGORIES:Other Events
END:VEVENT
BEGIN:VEVENT
DTSTART;VALUE=DATE:20251111
DTEND;VALUE=DATE:20251112
DTSTAMP:20260420T155155
CREATED:20250703T175238Z
LAST-MODIFIED:20250703T175238Z
UID:10009238-1762819200-1762905599@www.floridalegion.org
SUMMARY:Headquarters Closed
DESCRIPTION:
URL:https://www.floridalegion.org/event/headquarters-closed-2/
CATEGORIES:Department Events
END:VEVENT
BEGIN:VEVENT
DTSTART;VALUE=DATE:20251111
DTEND;VALUE=DATE:20251112
DTSTAMP:20260420T155155
CREATED:20250728T140746Z
LAST-MODIFIED:20250728T140746Z
UID:10009500-1762819200-1762905599@www.floridalegion.org
SUMMARY:Post 168: Veterans Day Ceremony and Parade
DESCRIPTION:
URL:https://www.floridalegion.org/event/post-168-veterans-day-ceremony-and-parade/
LOCATION:Post 168 William Weech\, 803 Emma St\, Key West\, FL\, 33040-7344\, USA
CATEGORIES:Post Events
END:VEVENT
BEGIN:VEVENT
DTSTART;TZID=America/New_York:20251111T170000
DTEND;TZID=America/New_York:20251111T190000
DTSTAMP:20260420T155155
CREATED:20240510T190532Z
LAST-MODIFIED:20240528T201210Z
UID:10007673-1762880400-1762887600@www.floridalegion.org
SUMMARY:ALR: Chapter 10 Taco Tuesday
DESCRIPTION:Taco Tuesday\, every Tuesday sponsored by Chapter 10 Kissimmee.
URL:https://www.floridalegion.org/event/chapter-10-taco-tuesday/2025-11-11/
LOCATION:American Legion Post 10\, 205 Lakeview Dr\, Kissimmee\, FL\, 34741\, United States
CATEGORIES:All Categories,Legion Riders
END:VEVENT
BEGIN:VEVENT
DTSTART;TZID=America/New_York:20251111T180000
DTEND;TZID=America/New_York:20251111T220000
DTSTAMP:20260420T155155
CREATED:20240212T141637Z
LAST-MODIFIED:20240528T201306Z
UID:10006599-1762884000-1762898400@www.floridalegion.org
SUMMARY:Chapter 117: ALR Riders Corn Hole Tournament
DESCRIPTION:Every Tuesday\, Chapter 117 holds a Corn Hole Tournament. $5 Registration starts at 6:00pm and starts at 6:30pm. Come on out! We have a great time.
URL:https://www.floridalegion.org/event/chapter-117-alr-riders-corn-hole-tournament/2025-11-11/
LOCATION:189 Veterans DrSE\, 189 Veterans Dr SE\, Palm Bay\, 32909\, United States
CATEGORIES:Legion Riders,Program Events
END:VEVENT
BEGIN:VEVENT
DTSTART;TZID=America/New_York:20251112T190000
DTEND;TZID=America/New_York:20251112T200000
DTSTAMP:20260420T155155
CREATED:20240122T135337Z
LAST-MODIFIED:20240122T135337Z
UID:10006393-1762974000-1762977600@www.floridalegion.org
SUMMARY:ALR: Chapter 10 Meeting
DESCRIPTION:American Legion Riders Monthly meeting\, Chapter 10\, Kissimmee
URL:https://www.floridalegion.org/event/alr-chapter-10-meeting-2/2025-11-12/
LOCATION:American Legion Post 10\, 205 Lakeview Dr\, Kissimmee\, FL\, 34741\, United States
CATEGORIES:Legion Riders,Program Events
END:VEVENT
BEGIN:VEVENT
DTSTART;VALUE=DATE:20251113
DTEND;VALUE=DATE:20251114
DTSTAMP:20260420T155155
CREATED:20250703T175642Z
LAST-MODIFIED:20250703T175642Z
UID:10009249-1762992000-1763078399@www.floridalegion.org
SUMMARY:Membership National 65% Target
DESCRIPTION:
URL:https://www.floridalegion.org/event/membership-national-65-target/
CATEGORIES:Membership
END:VEVENT
BEGIN:VEVENT
DTSTART;VALUE=DATE:20251113
DTEND;VALUE=DATE:20251117
DTSTAMP:20260420T155155
CREATED:20250908T131752Z
LAST-MODIFIED:20250908T131752Z
UID:10009584-1762992000-1763337599@www.floridalegion.org
SUMMARY:District 6: Commander's Tour
DESCRIPTION:
URL:https://www.floridalegion.org/event/district-6-commanders-tour/
CATEGORIES:Commanders,District Events
END:VEVENT
BEGIN:VEVENT
DTSTART;VALUE=DATE:20251114
DTEND;VALUE=DATE:20251115
DTSTAMP:20260420T155155
CREATED:20250703T172329Z
LAST-MODIFIED:20250703T172329Z
UID:10008933-1763078400-1763164799@www.floridalegion.org
SUMMARY:R.E.D. Friday
DESCRIPTION:Don’t forget to wear RED (Remember Everyone Deployed)
URL:https://www.floridalegion.org/event/r-e-d-friday/2025-11-14/
CATEGORIES:Other Events
END:VEVENT
BEGIN:VEVENT
DTSTART;TZID=America/New_York:20251114T170000
DTEND;TZID=America/New_York:20251114T200000
DTSTAMP:20260420T155155
CREATED:20230911T153910Z
LAST-MODIFIED:20231002T134313Z
UID:10005692-1763139600-1763150400@www.floridalegion.org
SUMMARY:Post 316: Steak & Salmon Dinner
DESCRIPTION:American Legion Post 316 Steak & Salmon every Friday night \nDownload Flyer
URL:https://www.floridalegion.org/event/post-316-steak-salmon-dinner/2025-11-14/
LOCATION:American Legion Post 316\, 1127 Atlantic Blvd\, Atlantic Beach\, 32233\, United States
CATEGORIES:Post Events
END:VEVENT
BEGIN:VEVENT
DTSTART;VALUE=DATE:20251115
DTEND;VALUE=DATE:20251116
DTSTAMP:20260420T155155
CREATED:20250703T165816Z
LAST-MODIFIED:20250703T165816Z
UID:10008871-1763164800-1763251199@www.floridalegion.org
SUMMARY:Legion Link Articles Due
DESCRIPTION:
URL:https://www.floridalegion.org/event/legion-link-articles-due-3/2025-11-15/
CATEGORIES:Commanders,Department Events
END:VEVENT
BEGIN:VEVENT
DTSTART;VALUE=DATE:20251115
DTEND;VALUE=DATE:20251116
DTSTAMP:20260420T155155
CREATED:20250703T175706Z
LAST-MODIFIED:20251023T132348Z
UID:10009250-1763164800-1763251199@www.floridalegion.org
SUMMARY:Post 63: Challenge 22
DESCRIPTION:
URL:https://www.floridalegion.org/event/post-63-challenge-22/
CATEGORIES:Commanders,Other Events,Post Events
END:VEVENT
BEGIN:VEVENT
DTSTART;VALUE=DATE:20251115
DTEND;VALUE=DATE:20251116
DTSTAMP:20260420T155155
CREATED:20251023T132452Z
LAST-MODIFIED:20251023T132452Z
UID:10009728-1763164800-1763251199@www.floridalegion.org
SUMMARY:District 5: Training
DESCRIPTION:
URL:https://www.floridalegion.org/event/district-5-training/
CATEGORIES:District Events
END:VEVENT
BEGIN:VEVENT
DTSTART;TZID=America/Chicago:20251115T090000
DTEND;TZID=America/Chicago:20251115T140000
DTSTAMP:20260420T155155
CREATED:20251031T164513Z
LAST-MODIFIED:20251031T164513Z
UID:10009744-1763197200-1763215200@www.floridalegion.org
SUMMARY:Post 272: 1st Annual Veterans Villa
DESCRIPTION:At the train depot on Pear St in Blountstown Florida \nLots of amazing vendors are coming together in one place- right on time for Christmas shopping!  Handmade treasures\, festive decor\, unique gifts\, photo ops\, fly over by Foxtrot 95 and live music featuring Mason Hill\, Kade Hill\, Makenna Patton   & (the band)                        FREE ADMISSION! \n  \n  \nThe inspiration for Veterans Villa came about as a way to honor those who served and highlight local veteran owned businesses\, businesses that offer veterans discounts and serve veterans and their families. The “Villa” portion of Veterans Villa is “showcasing” \nthose businesses.
URL:https://www.floridalegion.org/event/post-272-1st-annual-veterans-villa/
LOCATION:blountstown\, fl\, train depot Pear St\, Blountstown\, 32424\, United States
CATEGORIES:Other Events,Post Events
ATTACH;FMTTYPE=image/png:https://www.floridalegion.org/wp-content/uploads/2025/10/Screenshot-2025-10-07-171725.png
ORGANIZER;CN="Post 272AmericanLegionBlountstown":MAILTO:post272calhouncounty@gmail.com
END:VEVENT
BEGIN:VEVENT
DTSTART;TZID=America/New_York:20251115T100000
DTEND;TZID=America/New_York:20251115T170000
DTSTAMP:20260420T155155
CREATED:20251023T132539Z
LAST-MODIFIED:20251023T132539Z
UID:10009729-1763200800-1763226000@www.floridalegion.org
SUMMARY:District 12: Meeting
DESCRIPTION:
URL:https://www.floridalegion.org/event/district-12-meeting-2/
LOCATION:Post 1 Titusville\, 1281 N Us Highway 1\, Titusville\, FL\, 32796-2118\, USA
CATEGORIES:District Events
END:VEVENT
BEGIN:VEVENT
DTSTART;TZID=America/New_York:20251115T130000
DTEND;TZID=America/New_York:20251115T170000
DTSTAMP:20260420T155155
CREATED:20250728T140904Z
LAST-MODIFIED:20250728T140904Z
UID:10009501-1763211600-1763226000@www.floridalegion.org
SUMMARY:District 15: Picnic
DESCRIPTION:
URL:https://www.floridalegion.org/event/district-15-picnic/
LOCATION:Post 138 Hugh Gilbert Strickland\, 5535 W Prescott St\, Tampa\, FL\, 33616-1333\, USA
CATEGORIES:District Events,Program Events
END:VEVENT
BEGIN:VEVENT
DTSTART;TZID=America/New_York:20251115T170000
DTEND;TZID=America/New_York:20251115T190000
DTSTAMP:20260420T155155
CREATED:20240710T124628Z
LAST-MODIFIED:20240710T124628Z
UID:10008291-1763226000-1763233200@www.floridalegion.org
SUMMARY:ALR: Chapter 54 Steak Night
DESCRIPTION:Come out to beautiful Amelia Island for a Steak dinner! \nYou get a 12 oz. Ribeye\, baked potato\, Corn on the Cob\, salad and roll all for the amazing price of $18.00 or 2/$35.00. We cook the steaks to order so you will not be disappointed.\n\nSAVE YOUR STEAKS: prepay with Venmo or PayPal and you can “Save Your Steaks.” Simply scan the QR code or input the screen name.\nVenmo: @Roninna-JakwayPayPal: @RoninnaEmail: tangentnina@gmail.com\nPut steak dinner in the notes when you make your payment and your steak(s) will be set aside for you.
URL:https://www.floridalegion.org/event/alr-chapter-54-steak-night/2025-11-15/
LOCATION:American Legion Post 54\, 626 S. 3rd Street\, fernandina beach\, fl\, 32034\, United States
CATEGORIES:Legion Riders,Post Events
ATTACH;FMTTYPE=image/png:https://www.floridalegion.org/wp-content/uploads/2024/07/Steak.png
ORGANIZER;CN="A.L.R. Post 54":MAILTO:alpost54FirstVice@gmail.com
END:VEVENT
END:VCALENDAR