BEGIN:VCALENDAR
VERSION:2.0
PRODID:-//Florida American Legion - ECPv6.15.20//NONSGML v1.0//EN
CALSCALE:GREGORIAN
METHOD:PUBLISH
X-ORIGINAL-URL:https://www.floridalegion.org
X-WR-CALDESC:Events for Florida American Legion
REFRESH-INTERVAL;VALUE=DURATION:PT1H
X-Robots-Tag:noindex
X-PUBLISHED-TTL:PT1H
BEGIN:VTIMEZONE
TZID:America/New_York
BEGIN:DAYLIGHT
TZOFFSETFROM:-0500
TZOFFSETTO:-0400
TZNAME:EDT
DTSTART:20230312T070000
END:DAYLIGHT
BEGIN:STANDARD
TZOFFSETFROM:-0400
TZOFFSETTO:-0500
TZNAME:EST
DTSTART:20231105T060000
END:STANDARD
BEGIN:DAYLIGHT
TZOFFSETFROM:-0500
TZOFFSETTO:-0400
TZNAME:EDT
DTSTART:20240310T070000
END:DAYLIGHT
BEGIN:STANDARD
TZOFFSETFROM:-0400
TZOFFSETTO:-0500
TZNAME:EST
DTSTART:20241103T060000
END:STANDARD
BEGIN:DAYLIGHT
TZOFFSETFROM:-0500
TZOFFSETTO:-0400
TZNAME:EDT
DTSTART:20250309T070000
END:DAYLIGHT
BEGIN:STANDARD
TZOFFSETFROM:-0400
TZOFFSETTO:-0500
TZNAME:EST
DTSTART:20251102T060000
END:STANDARD
END:VTIMEZONE
BEGIN:VEVENT
DTSTART;VALUE=DATE:20240701
DTEND;VALUE=DATE:20240709
DTSTAMP:20260421T004207
CREATED:20240703T125312Z
LAST-MODIFIED:20240703T125312Z
UID:10007901-1719792000-1720483199@www.floridalegion.org
SUMMARY:Membership Renewal Mailing
DESCRIPTION:
URL:https://www.floridalegion.org/event/membership-renewal-mailing/
CATEGORIES:Membership,National Events
END:VEVENT
BEGIN:VEVENT
DTSTART;TZID=America/New_York:20240708T173000
DTEND;TZID=America/New_York:20240708T190000
DTSTAMP:20260421T004207
CREATED:20240308T134054Z
LAST-MODIFIED:20240528T201036Z
UID:10006809-1720459800-1720465200@www.floridalegion.org
SUMMARY:Chapter 316: ALR Burgers and Bingo
DESCRIPTION:Serving burger\, dogs etc. during Monday night Bingo
URL:https://www.floridalegion.org/event/chapter-316-alr-burgers-and-bingo/2024-07-08/
LOCATION:ALR 316\, 1127 Atlantic Blvd.\, Atlantic Beach\, 32233\, United States
CATEGORIES:Post Events
ORGANIZER;CN="Denise Strickland":MAILTO:dndfishing@aol.com
END:VEVENT
BEGIN:VEVENT
DTSTART;TZID=America/New_York:20240709T170000
DTEND;TZID=America/New_York:20240709T190000
DTSTAMP:20260421T004207
CREATED:20240510T190532Z
LAST-MODIFIED:20240528T201210Z
UID:10007603-1720544400-1720551600@www.floridalegion.org
SUMMARY:ALR: Chapter 10 Taco Tuesday
DESCRIPTION:Taco Tuesday\, every Tuesday sponsored by Chapter 10 Kissimmee.
URL:https://www.floridalegion.org/event/chapter-10-taco-tuesday/2024-07-09/
LOCATION:American Legion Post 10\, 205 Lakeview Dr\, Kissimmee\, FL\, 34741\, United States
CATEGORIES:All Categories,Legion Riders
END:VEVENT
BEGIN:VEVENT
DTSTART;TZID=America/New_York:20240709T180000
DTEND;TZID=America/New_York:20240709T220000
DTSTAMP:20260421T004207
CREATED:20240212T141637Z
LAST-MODIFIED:20240528T201306Z
UID:10006529-1720548000-1720562400@www.floridalegion.org
SUMMARY:Chapter 117: ALR Riders Corn Hole Tournament
DESCRIPTION:Every Tuesday\, Chapter 117 holds a Corn Hole Tournament. $5 Registration starts at 6:00pm and starts at 6:30pm. Come on out! We have a great time.
URL:https://www.floridalegion.org/event/chapter-117-alr-riders-corn-hole-tournament/2024-07-09/
LOCATION:189 Veterans DrSE\, 189 Veterans Dr SE\, Palm Bay\, 32909\, United States
CATEGORIES:Legion Riders,Program Events
END:VEVENT
BEGIN:VEVENT
DTSTART;TZID=America/New_York:20240710T190000
DTEND;TZID=America/New_York:20240710T200000
DTSTAMP:20260421T004207
CREATED:20240122T135337Z
LAST-MODIFIED:20240122T135337Z
UID:10004846-1720638000-1720641600@www.floridalegion.org
SUMMARY:ALR: Chapter 10 Meeting
DESCRIPTION:American Legion Riders Monthly meeting\, Chapter 10\, Kissimmee
URL:https://www.floridalegion.org/event/alr-chapter-10-meeting-2/2024-07-10/
LOCATION:American Legion Post 10\, 205 Lakeview Dr\, Kissimmee\, FL\, 34741\, United States
CATEGORIES:Legion Riders,Program Events
END:VEVENT
BEGIN:VEVENT
DTSTART;TZID=America/New_York:20240712T170000
DTEND;TZID=America/New_York:20240712T200000
DTSTAMP:20260421T004207
CREATED:20230911T153910Z
LAST-MODIFIED:20231002T134313Z
UID:10005622-1720803600-1720814400@www.floridalegion.org
SUMMARY:Post 316: Steak & Salmon Dinner
DESCRIPTION:American Legion Post 316 Steak & Salmon every Friday night \nDownload Flyer
URL:https://www.floridalegion.org/event/post-316-steak-salmon-dinner/2024-07-12/
LOCATION:American Legion Post 316\, 1127 Atlantic Blvd\, Atlantic Beach\, 32233\, United States
CATEGORIES:Post Events
END:VEVENT
BEGIN:VEVENT
DTSTART;TZID=America/New_York:20240713T170000
DTEND;TZID=America/New_York:20240713T190000
DTSTAMP:20260421T004207
CREATED:20230612T194230Z
LAST-MODIFIED:20230612T194230Z
UID:10005410-1720890000-1720897200@www.floridalegion.org
SUMMARY:Chapter 10: ALR Riders Dinner
DESCRIPTION:Monthly Riders Dinner Night..
URL:https://www.floridalegion.org/event/chapter-10-alr-riders-dinner/2024-07-13/
LOCATION:American Legion Post 10\, 205 Lakeview Dr\, Kissimmee\, FL\, 34741\, United States
CATEGORIES:Legion Riders,Program Events
END:VEVENT
BEGIN:VEVENT
DTSTART;VALUE=DATE:20240714
DTEND;VALUE=DATE:20240717
DTSTAMP:20260421T004207
CREATED:20240703T125452Z
LAST-MODIFIED:20240703T125452Z
UID:10007904-1720915200-1721174399@www.floridalegion.org
SUMMARY:Baseball Area Playoffs
DESCRIPTION:
URL:https://www.floridalegion.org/event/baseball-area-playoffs/
CATEGORIES:Department Events,District Events,Program Events
END:VEVENT
BEGIN:VEVENT
DTSTART;TZID=America/New_York:20240714T130000
DTEND;TZID=America/New_York:20240714T140000
DTSTAMP:20260421T004207
CREATED:20240712T152500Z
LAST-MODIFIED:20240712T152500Z
UID:10008338-1720962000-1720965600@www.floridalegion.org
SUMMARY:Chapter 8: ALR Meeting
DESCRIPTION:Monthly meeting to discuss new business\, old business\, and good of the Riders.
URL:https://www.floridalegion.org/event/chapter-8-alr-meeting-2/2024-07-14/
LOCATION:Winter Haven American Legion Post 8\, 300 Avenue M NW\, Winter Haven\, FL\, 33881\, United States
CATEGORIES:Legion Riders,Post Events,Program Events
ORGANIZER;CN="ALR Chapter 8":MAILTO:hglenn1973@yahoo.com
END:VEVENT
END:VCALENDAR