BEGIN:VCALENDAR
VERSION:2.0
PRODID:-//Florida American Legion - ECPv6.15.20//NONSGML v1.0//EN
CALSCALE:GREGORIAN
METHOD:PUBLISH
X-WR-CALNAME:Florida American Legion
X-ORIGINAL-URL:https://www.floridalegion.org
X-WR-CALDESC:Events for Florida American Legion
REFRESH-INTERVAL;VALUE=DURATION:PT1H
X-Robots-Tag:noindex
X-PUBLISHED-TTL:PT1H
BEGIN:VTIMEZONE
TZID:America/New_York
BEGIN:DAYLIGHT
TZOFFSETFROM:-0500
TZOFFSETTO:-0400
TZNAME:EDT
DTSTART:20230312T070000
END:DAYLIGHT
BEGIN:STANDARD
TZOFFSETFROM:-0400
TZOFFSETTO:-0500
TZNAME:EST
DTSTART:20231105T060000
END:STANDARD
BEGIN:DAYLIGHT
TZOFFSETFROM:-0500
TZOFFSETTO:-0400
TZNAME:EDT
DTSTART:20240310T070000
END:DAYLIGHT
BEGIN:STANDARD
TZOFFSETFROM:-0400
TZOFFSETTO:-0500
TZNAME:EST
DTSTART:20241103T060000
END:STANDARD
BEGIN:DAYLIGHT
TZOFFSETFROM:-0500
TZOFFSETTO:-0400
TZNAME:EDT
DTSTART:20250309T070000
END:DAYLIGHT
BEGIN:STANDARD
TZOFFSETFROM:-0400
TZOFFSETTO:-0500
TZNAME:EST
DTSTART:20251102T060000
END:STANDARD
END:VTIMEZONE
BEGIN:VEVENT
DTSTART;TZID=America/New_York:20240429T173000
DTEND;TZID=America/New_York:20240429T190000
DTSTAMP:20260420T174850
CREATED:20240308T134054Z
LAST-MODIFIED:20240528T201036Z
UID:10006799-1714411800-1714417200@www.floridalegion.org
SUMMARY:Chapter 316: ALR Burgers and Bingo
DESCRIPTION:Serving burger\, dogs etc. during Monday night Bingo
URL:https://www.floridalegion.org/event/chapter-316-alr-burgers-and-bingo/2024-04-29/
LOCATION:ALR 316\, 1127 Atlantic Blvd.\, Atlantic Beach\, 32233\, United States
CATEGORIES:Post Events
ORGANIZER;CN="Denise Strickland":MAILTO:dndfishing@aol.com
END:VEVENT
BEGIN:VEVENT
DTSTART;TZID=America/New_York:20240429T190000
DTEND;TZID=America/New_York:20240429T210000
DTSTAMP:20260420T174850
CREATED:20230911T141006Z
LAST-MODIFIED:20230911T141006Z
UID:10005577-1714417200-1714424400@www.floridalegion.org
SUMMARY:District 15: District Commander Visit to Post 108
DESCRIPTION:
URL:https://www.floridalegion.org/event/district-15-district-commander-visit-to-post-108-2/
LOCATION:Post 108 Lutz-Land O’Lakes\, PO Box 747\, Land O Lakes\, FL\, 34639-0747\, USA
CATEGORIES:District Events,Post Events
END:VEVENT
BEGIN:VEVENT
DTSTART;VALUE=DATE:20240430
DTEND;VALUE=DATE:20240501
DTSTAMP:20260420T174850
CREATED:20230524T133943Z
LAST-MODIFIED:20230804T122901Z
UID:10005330-1714435200-1714521599@www.floridalegion.org
SUMMARY:Military Brats Day
DESCRIPTION:
URL:https://www.floridalegion.org/event/military-brats-day/
LOCATION:FL
CATEGORIES:Other Events
END:VEVENT
BEGIN:VEVENT
DTSTART;TZID=America/New_York:20240430T180000
DTEND;TZID=America/New_York:20240430T220000
DTSTAMP:20260420T174850
CREATED:20240212T141637Z
LAST-MODIFIED:20240528T201306Z
UID:10006519-1714500000-1714514400@www.floridalegion.org
SUMMARY:Chapter 117: ALR Riders Corn Hole Tournament
DESCRIPTION:Every Tuesday\, Chapter 117 holds a Corn Hole Tournament. $5 Registration starts at 6:00pm and starts at 6:30pm. Come on out! We have a great time.
URL:https://www.floridalegion.org/event/chapter-117-alr-riders-corn-hole-tournament/2024-04-30/
LOCATION:189 Veterans DrSE\, 189 Veterans Dr SE\, Palm Bay\, 32909\, United States
CATEGORIES:Legion Riders,Program Events
END:VEVENT
BEGIN:VEVENT
DTSTART;VALUE=DATE:20240501
DTEND;VALUE=DATE:20240502
DTSTAMP:20260420T174850
CREATED:20230524T134118Z
LAST-MODIFIED:20230524T134118Z
UID:10005335-1714521600-1714607999@www.floridalegion.org
SUMMARY:Children & Youth Fund Applications Due
DESCRIPTION:
URL:https://www.floridalegion.org/event/children-youth-fund-applications-due-2/
LOCATION:FL
CATEGORIES:Department Events,Other Events
END:VEVENT
BEGIN:VEVENT
DTSTART;VALUE=DATE:20240501
DTEND;VALUE=DATE:20240502
DTSTAMP:20260420T174850
CREATED:20230524T134054Z
LAST-MODIFIED:20230804T122953Z
UID:10005334-1714521600-1714607999@www.floridalegion.org
SUMMARY:May Day
DESCRIPTION:
URL:https://www.floridalegion.org/event/may-day-3/
LOCATION:FL
CATEGORIES:Other Events
END:VEVENT
BEGIN:VEVENT
DTSTART;VALUE=DATE:20240501
DTEND;VALUE=DATE:20240502
DTSTAMP:20260420T174850
CREATED:20230524T134039Z
LAST-MODIFIED:20230804T122950Z
UID:10005333-1714521600-1714607999@www.floridalegion.org
SUMMARY:Law Day
DESCRIPTION:
URL:https://www.floridalegion.org/event/law-day/
LOCATION:FL
CATEGORIES:Other Events
END:VEVENT
BEGIN:VEVENT
DTSTART;VALUE=DATE:20240501
DTEND;VALUE=DATE:20240502
DTSTAMP:20260420T174850
CREATED:20230524T134027Z
LAST-MODIFIED:20230804T122947Z
UID:10005332-1714521600-1714607999@www.floridalegion.org
SUMMARY:Loyalty Day
DESCRIPTION:
URL:https://www.floridalegion.org/event/loyalty-day-2/
LOCATION:FL
CATEGORIES:Other Events
END:VEVENT
BEGIN:VEVENT
DTSTART;TZID=America/New_York:20240501T183000
DTEND;TZID=America/New_York:20240501T193000
DTSTAMP:20260420T174850
CREATED:20240212T141857Z
LAST-MODIFIED:20251208T164901Z
UID:10006444-1714588200-1714591800@www.floridalegion.org
SUMMARY:Chapter 136: ALR Monthly Meeting
DESCRIPTION:Join us for our monthly meeting the 1st Wednesday  each month
URL:https://www.floridalegion.org/event/alr-chapter-136-st-james-city-monthly-meeting/2024-05-01/
LOCATION:Post 136 Pine Island Inc\, 4106 Stringfellow Rd\, St James City\, FL\, 33956\, USA
CATEGORIES:Legion Riders,Program Events
ORGANIZER;CN="ALR136":MAILTO:chuck.warren@dignitymemorial.com
END:VEVENT
BEGIN:VEVENT
DTSTART;VALUE=DATE:20240502
DTEND;VALUE=DATE:20240503
DTSTAMP:20260420T174850
CREATED:20230524T134135Z
LAST-MODIFIED:20230804T123000Z
UID:10005336-1714608000-1714694399@www.floridalegion.org
SUMMARY:National Day of Prayer
DESCRIPTION:
URL:https://www.floridalegion.org/event/national-day-of-prayer/
LOCATION:FL
CATEGORIES:Other Events
END:VEVENT
END:VCALENDAR