BEGIN:VCALENDAR
VERSION:2.0
PRODID:-//Florida American Legion - ECPv6.15.20//NONSGML v1.0//EN
CALSCALE:GREGORIAN
METHOD:PUBLISH
X-WR-CALNAME:Florida American Legion
X-ORIGINAL-URL:https://www.floridalegion.org
X-WR-CALDESC:Events for Florida American Legion
REFRESH-INTERVAL;VALUE=DURATION:PT1H
X-Robots-Tag:noindex
X-PUBLISHED-TTL:PT1H
BEGIN:VTIMEZONE
TZID:America/New_York
BEGIN:DAYLIGHT
TZOFFSETFROM:-0500
TZOFFSETTO:-0400
TZNAME:EDT
DTSTART:20230312T070000
END:DAYLIGHT
BEGIN:STANDARD
TZOFFSETFROM:-0400
TZOFFSETTO:-0500
TZNAME:EST
DTSTART:20231105T060000
END:STANDARD
BEGIN:DAYLIGHT
TZOFFSETFROM:-0500
TZOFFSETTO:-0400
TZNAME:EDT
DTSTART:20240310T070000
END:DAYLIGHT
BEGIN:STANDARD
TZOFFSETFROM:-0400
TZOFFSETTO:-0500
TZNAME:EST
DTSTART:20241103T060000
END:STANDARD
BEGIN:DAYLIGHT
TZOFFSETFROM:-0500
TZOFFSETTO:-0400
TZNAME:EDT
DTSTART:20250309T070000
END:DAYLIGHT
BEGIN:STANDARD
TZOFFSETFROM:-0400
TZOFFSETTO:-0500
TZNAME:EST
DTSTART:20251102T060000
END:STANDARD
END:VTIMEZONE
BEGIN:VEVENT
DTSTART;VALUE=DATE:20240501
DTEND;VALUE=DATE:20240502
DTSTAMP:20260422T154117
CREATED:20230524T134039Z
LAST-MODIFIED:20230804T122950Z
UID:10005333-1714521600-1714607999@www.floridalegion.org
SUMMARY:Law Day
DESCRIPTION:
URL:https://www.floridalegion.org/event/law-day/
LOCATION:FL
CATEGORIES:Other Events
END:VEVENT
BEGIN:VEVENT
DTSTART;VALUE=DATE:20240501
DTEND;VALUE=DATE:20240502
DTSTAMP:20260422T154117
CREATED:20230524T134027Z
LAST-MODIFIED:20230804T122947Z
UID:10005332-1714521600-1714607999@www.floridalegion.org
SUMMARY:Loyalty Day
DESCRIPTION:
URL:https://www.floridalegion.org/event/loyalty-day-2/
LOCATION:FL
CATEGORIES:Other Events
END:VEVENT
BEGIN:VEVENT
DTSTART;TZID=America/New_York:20240501T183000
DTEND;TZID=America/New_York:20240501T193000
DTSTAMP:20260422T154117
CREATED:20240212T141857Z
LAST-MODIFIED:20251208T164901Z
UID:10006444-1714588200-1714591800@www.floridalegion.org
SUMMARY:Chapter 136: ALR Monthly Meeting
DESCRIPTION:Join us for our monthly meeting the 1st Wednesday  each month
URL:https://www.floridalegion.org/event/alr-chapter-136-st-james-city-monthly-meeting/2024-05-01/
LOCATION:Post 136 Pine Island Inc\, 4106 Stringfellow Rd\, St James City\, FL\, 33956\, USA
CATEGORIES:Legion Riders,Program Events
ORGANIZER;CN="ALR136":MAILTO:chuck.warren@dignitymemorial.com
END:VEVENT
BEGIN:VEVENT
DTSTART;VALUE=DATE:20240502
DTEND;VALUE=DATE:20240503
DTSTAMP:20260422T154117
CREATED:20230524T134135Z
LAST-MODIFIED:20230804T123000Z
UID:10005336-1714608000-1714694399@www.floridalegion.org
SUMMARY:National Day of Prayer
DESCRIPTION:
URL:https://www.floridalegion.org/event/national-day-of-prayer/
LOCATION:FL
CATEGORIES:Other Events
END:VEVENT
BEGIN:VEVENT
DTSTART;VALUE=DATE:20240503
DTEND;VALUE=DATE:20240505
DTSTAMP:20260422T154117
CREATED:20240409T134333Z
LAST-MODIFIED:20240409T134333Z
UID:10007328-1714694400-1714867199@www.floridalegion.org
SUMMARY:Dept Commander Visits District 15
DESCRIPTION:Download Schedule
URL:https://www.floridalegion.org/event/dept-commander-visits-district-15/
LOCATION:FL
CATEGORIES:Commanders,Department Events,District Events
END:VEVENT
BEGIN:VEVENT
DTSTART;TZID=America/New_York:20240503T170000
DTEND;TZID=America/New_York:20240503T200000
DTSTAMP:20260422T154117
CREATED:20230911T153910Z
LAST-MODIFIED:20231002T134313Z
UID:10005612-1714755600-1714766400@www.floridalegion.org
SUMMARY:Post 316: Steak & Salmon Dinner
DESCRIPTION:American Legion Post 316 Steak & Salmon every Friday night \nDownload Flyer
URL:https://www.floridalegion.org/event/post-316-steak-salmon-dinner/2024-05-03/
LOCATION:American Legion Post 316\, 1127 Atlantic Blvd\, Atlantic Beach\, 32233\, United States
CATEGORIES:Post Events
END:VEVENT
BEGIN:VEVENT
DTSTART;VALUE=DATE:20240504
DTEND;VALUE=DATE:20240505
DTSTAMP:20260422T154117
CREATED:20230524T134458Z
LAST-MODIFIED:20240423T175556Z
UID:10005340-1714780800-1714867199@www.floridalegion.org
SUMMARY:Flags at Half Staff (Sunrise to Sunset)
DESCRIPTION:
URL:https://www.floridalegion.org/event/flags-at-half-staff-sunrise-to-sunset/
LOCATION:FL
CATEGORIES:Department Events,District Events,National Events,Other Events,Post Events
END:VEVENT
BEGIN:VEVENT
DTSTART;VALUE=DATE:20240504
DTEND;VALUE=DATE:20240505
DTSTAMP:20260422T154117
CREATED:20230524T134302Z
LAST-MODIFIED:20240423T175550Z
UID:10005339-1714780800-1714867199@www.floridalegion.org
SUMMARY:Firefighters Memorial Day
DESCRIPTION:
URL:https://www.floridalegion.org/event/firefighters-memorial-day-3/
LOCATION:FL
CATEGORIES:Other Events
END:VEVENT
BEGIN:VEVENT
DTSTART;TZID=America/New_York:20240504T090000
DTEND;TZID=America/New_York:20240504T100000
DTSTAMP:20260422T154117
CREATED:20230911T154007Z
LAST-MODIFIED:20250711T170540Z
UID:10005853-1714813200-1714816800@www.floridalegion.org
SUMMARY:Chapter 316: ALR Monthly Meeting
DESCRIPTION:eBoard meets at 8:30 am
URL:https://www.floridalegion.org/event/chapter-316-alr-monthly-meeting/2024-05-04/
LOCATION:American Legion Post 316\, 1127 Atlantic Blvd\, Atlantic Beach\, 32233\, United States
CATEGORIES:Legion Riders
ORGANIZER;CN="Denise Strickland":MAILTO:dndfishing@aol.com
END:VEVENT
BEGIN:VEVENT
DTSTART;TZID=America/New_York:20240504T093000
DTEND;TZID=America/New_York:20240504T120000
DTSTAMP:20260422T154117
CREATED:20230705T134029Z
LAST-MODIFIED:20231201T200006Z
UID:10005461-1714815000-1714824000@www.floridalegion.org
SUMMARY:DCC: District 9
DESCRIPTION:
URL:https://www.floridalegion.org/event/dcc-district-9/
LOCATION:Post 321 Cooper City Memorial\, 9081 SW 51st St\, Cooper City\, FL\, 33328-4201\, USA
CATEGORIES:District Events
END:VEVENT
BEGIN:VEVENT
DTSTART;VALUE=DATE:20240506
DTEND;VALUE=DATE:20240507
DTSTAMP:20260422T154117
CREATED:20230524T134626Z
LAST-MODIFIED:20230804T124206Z
UID:10005344-1714953600-1715039999@www.floridalegion.org
SUMMARY:Nurses Day
DESCRIPTION:
URL:https://www.floridalegion.org/event/nurses-day/
LOCATION:FL
CATEGORIES:Other Events
END:VEVENT
BEGIN:VEVENT
DTSTART;TZID=America/New_York:20240506T173000
DTEND;TZID=America/New_York:20240506T190000
DTSTAMP:20260422T154117
CREATED:20240308T134054Z
LAST-MODIFIED:20240528T201036Z
UID:10006800-1715016600-1715022000@www.floridalegion.org
SUMMARY:Chapter 316: ALR Burgers and Bingo
DESCRIPTION:Serving burger\, dogs etc. during Monday night Bingo
URL:https://www.floridalegion.org/event/chapter-316-alr-burgers-and-bingo/2024-05-06/
LOCATION:ALR 316\, 1127 Atlantic Blvd.\, Atlantic Beach\, 32233\, United States
CATEGORIES:Post Events
ORGANIZER;CN="Denise Strickland":MAILTO:dndfishing@aol.com
END:VEVENT
BEGIN:VEVENT
DTSTART;VALUE=DATE:20240507
DTEND;VALUE=DATE:20240508
DTSTAMP:20260422T154118
CREATED:20230524T134648Z
LAST-MODIFIED:20230804T124208Z
UID:10005345-1715040000-1715126399@www.floridalegion.org
SUMMARY:Teacher Appreciation Day
DESCRIPTION:
URL:https://www.floridalegion.org/event/teacher-appreciation-day-2/
LOCATION:FL
CATEGORIES:Other Events
END:VEVENT
BEGIN:VEVENT
DTSTART;TZID=America/New_York:20240507T180000
DTEND;TZID=America/New_York:20240507T220000
DTSTAMP:20260422T154118
CREATED:20240212T141637Z
LAST-MODIFIED:20240528T201306Z
UID:10006520-1715104800-1715119200@www.floridalegion.org
SUMMARY:Chapter 117: ALR Riders Corn Hole Tournament
DESCRIPTION:Every Tuesday\, Chapter 117 holds a Corn Hole Tournament. $5 Registration starts at 6:00pm and starts at 6:30pm. Come on out! We have a great time.
URL:https://www.floridalegion.org/event/chapter-117-alr-riders-corn-hole-tournament/2024-05-07/
LOCATION:189 Veterans DrSE\, 189 Veterans Dr SE\, Palm Bay\, 32909\, United States
CATEGORIES:Legion Riders,Program Events
END:VEVENT
END:VCALENDAR