BEGIN:VCALENDAR
VERSION:2.0
PRODID:-//Florida American Legion - ECPv6.15.20//NONSGML v1.0//EN
CALSCALE:GREGORIAN
METHOD:PUBLISH
X-WR-CALNAME:Florida American Legion
X-ORIGINAL-URL:https://www.floridalegion.org
X-WR-CALDESC:Events for Florida American Legion
REFRESH-INTERVAL;VALUE=DURATION:PT1H
X-Robots-Tag:noindex
X-PUBLISHED-TTL:PT1H
BEGIN:VTIMEZONE
TZID:America/New_York
BEGIN:DAYLIGHT
TZOFFSETFROM:-0500
TZOFFSETTO:-0400
TZNAME:EDT
DTSTART:20230312T070000
END:DAYLIGHT
BEGIN:STANDARD
TZOFFSETFROM:-0400
TZOFFSETTO:-0500
TZNAME:EST
DTSTART:20231105T060000
END:STANDARD
BEGIN:DAYLIGHT
TZOFFSETFROM:-0500
TZOFFSETTO:-0400
TZNAME:EDT
DTSTART:20240310T070000
END:DAYLIGHT
BEGIN:STANDARD
TZOFFSETFROM:-0400
TZOFFSETTO:-0500
TZNAME:EST
DTSTART:20241103T060000
END:STANDARD
BEGIN:DAYLIGHT
TZOFFSETFROM:-0500
TZOFFSETTO:-0400
TZNAME:EDT
DTSTART:20250309T070000
END:DAYLIGHT
BEGIN:STANDARD
TZOFFSETFROM:-0400
TZOFFSETTO:-0500
TZNAME:EST
DTSTART:20251102T060000
END:STANDARD
END:VTIMEZONE
BEGIN:VEVENT
DTSTART;TZID=America/New_York:20240419T170000
DTEND;TZID=America/New_York:20240419T200000
DTSTAMP:20260420T092336
CREATED:20260420T121856Z
LAST-MODIFIED:20260420T121856Z
UID:10010190-1713546000-1713556800@www.floridalegion.org
SUMMARY:Post 316: Steak & Salmon Dinner
DESCRIPTION:American Legion Post 316 Steak & Salmon every Friday night \nDownload Flyer
URL:https://www.floridalegion.org/event/post-316-steak-salmon-dinner-5/
LOCATION:American Legion Post 316\, 1127 Atlantic Blvd\, Atlantic Beach\, 32233\, United States
CATEGORIES:Post Events
END:VEVENT
BEGIN:VEVENT
DTSTART;TZID=America/New_York:20240419T170000
DTEND;TZID=America/New_York:20240419T200000
DTSTAMP:20260420T092336
CREATED:20260420T121856Z
LAST-MODIFIED:20260420T121856Z
UID:10010191-1713546000-1713556800@www.floridalegion.org
SUMMARY:Post 316: Steak & Salmon Dinner
DESCRIPTION:American Legion Post 316 Steak & Salmon every Friday night \nDownload Flyer
URL:https://www.floridalegion.org/event/post-316-steak-salmon-dinner-6/
LOCATION:American Legion Post 316\, 1127 Atlantic Blvd\, Atlantic Beach\, 32233\, United States
CATEGORIES:Post Events
END:VEVENT
BEGIN:VEVENT
DTSTART;TZID=America/New_York:20240419T170000
DTEND;TZID=America/New_York:20240419T200000
DTSTAMP:20260420T092336
CREATED:20260420T121855Z
LAST-MODIFIED:20260420T121855Z
UID:10010188-1713546000-1713556800@www.floridalegion.org
SUMMARY:Post 316: Steak & Salmon Dinner
DESCRIPTION:American Legion Post 316 Steak & Salmon every Friday night \nDownload Flyer
URL:https://www.floridalegion.org/event/post-316-steak-salmon-dinner-2/
LOCATION:American Legion Post 316\, 1127 Atlantic Blvd\, Atlantic Beach\, 32233\, United States
CATEGORIES:Post Events
END:VEVENT
BEGIN:VEVENT
DTSTART;TZID=America/New_York:20240419T170000
DTEND;TZID=America/New_York:20240419T200000
DTSTAMP:20260420T092336
CREATED:20260420T121855Z
LAST-MODIFIED:20260420T121855Z
UID:10010184-1713546000-1713556800@www.floridalegion.org
SUMMARY:Post 316: Steak & Salmon Dinner
DESCRIPTION:American Legion Post 316 Steak & Salmon every Friday night \nDownload Flyer
URL:https://www.floridalegion.org/event/post-316-steak-salmon-dinner-2/
LOCATION:American Legion Post 316\, 1127 Atlantic Blvd\, Atlantic Beach\, 32233\, United States
CATEGORIES:Post Events
END:VEVENT
BEGIN:VEVENT
DTSTART;TZID=America/New_York:20240419T170000
DTEND;TZID=America/New_York:20240419T200000
DTSTAMP:20260420T092336
CREATED:20260420T121855Z
LAST-MODIFIED:20260420T121855Z
UID:10010182-1713546000-1713556800@www.floridalegion.org
SUMMARY:Post 316: Steak & Salmon Dinner
DESCRIPTION:American Legion Post 316 Steak & Salmon every Friday night \nDownload Flyer
URL:https://www.floridalegion.org/event/post-316-steak-salmon-dinner-3/
LOCATION:American Legion Post 316\, 1127 Atlantic Blvd\, Atlantic Beach\, 32233\, United States
CATEGORIES:Post Events
END:VEVENT
BEGIN:VEVENT
DTSTART;TZID=America/New_York:20240419T170000
DTEND;TZID=America/New_York:20240419T200000
DTSTAMP:20260420T092336
CREATED:20260420T121855Z
LAST-MODIFIED:20260420T121855Z
UID:10010181-1713546000-1713556800@www.floridalegion.org
SUMMARY:Post 316: Steak & Salmon Dinner
DESCRIPTION:American Legion Post 316 Steak & Salmon every Friday night \nDownload Flyer
URL:https://www.floridalegion.org/event/post-316-steak-salmon-dinner-3/
LOCATION:American Legion Post 316\, 1127 Atlantic Blvd\, Atlantic Beach\, 32233\, United States
CATEGORIES:Post Events
END:VEVENT
BEGIN:VEVENT
DTSTART;TZID=America/New_York:20240419T170000
DTEND;TZID=America/New_York:20240419T183000
DTSTAMP:20260420T092336
CREATED:20260420T121845Z
LAST-MODIFIED:20260420T121845Z
UID:10010187-1713546000-1713551400@www.floridalegion.org
SUMMARY:Chapter 8: ALR Dinner Night
DESCRIPTION:Monthly ALR dinner night at Winter Haven Post 8
URL:https://www.floridalegion.org/event/chapter-8-alr-dinner-night-7/
LOCATION:Winter Haven American Legion Post 8\, 300 Avenue M NW\, Winter Haven\, FL\, 33881\, United States
CATEGORIES:Legion Riders
ORGANIZER;CN="ALR Chapter 8":MAILTO:hglenn1973@yahoo.com
END:VEVENT
BEGIN:VEVENT
DTSTART;TZID=America/New_York:20240419T170000
DTEND;TZID=America/New_York:20240419T183000
DTSTAMP:20260420T092336
CREATED:20260420T121837Z
LAST-MODIFIED:20260420T121837Z
UID:10010180-1713546000-1713551400@www.floridalegion.org
SUMMARY:Chapter 8: ALR Dinner Night
DESCRIPTION:Monthly ALR dinner night at Winter Haven Post 8
URL:https://www.floridalegion.org/event/chapter-8-alr-dinner-night-6/
LOCATION:Winter Haven American Legion Post 8\, 300 Avenue M NW\, Winter Haven\, FL\, 33881\, United States
CATEGORIES:Legion Riders
ORGANIZER;CN="ALR Chapter 8":MAILTO:hglenn1973@yahoo.com
END:VEVENT
BEGIN:VEVENT
DTSTART;TZID=America/New_York:20240419T170000
DTEND;TZID=America/New_York:20240419T183000
DTSTAMP:20260420T092336
CREATED:20260420T121837Z
LAST-MODIFIED:20260420T121837Z
UID:10010183-1713546000-1713551400@www.floridalegion.org
SUMMARY:Chapter 8: ALR Dinner Night
DESCRIPTION:Monthly ALR dinner night at Winter Haven Post 8
URL:https://www.floridalegion.org/event/chapter-8-alr-dinner-night-5/
LOCATION:Winter Haven American Legion Post 8\, 300 Avenue M NW\, Winter Haven\, FL\, 33881\, United States
CATEGORIES:Legion Riders
ORGANIZER;CN="ALR Chapter 8":MAILTO:hglenn1973@yahoo.com
END:VEVENT
BEGIN:VEVENT
DTSTART;TZID=America/New_York:20240419T170000
DTEND;TZID=America/New_York:20240419T183000
DTSTAMP:20260420T092336
CREATED:20260420T121832Z
LAST-MODIFIED:20260420T121832Z
UID:10010189-1713546000-1713551400@www.floridalegion.org
SUMMARY:Chapter 8: ALR Dinner Night
DESCRIPTION:Monthly ALR dinner night at Winter Haven Post 8
URL:https://www.floridalegion.org/event/chapter-8-alr-dinner-night-4/
LOCATION:Winter Haven American Legion Post 8\, 300 Avenue M NW\, Winter Haven\, FL\, 33881\, United States
CATEGORIES:Legion Riders
ORGANIZER;CN="ALR Chapter 8":MAILTO:hglenn1973@yahoo.com
END:VEVENT
BEGIN:VEVENT
DTSTART;TZID=America/New_York:20240419T170000
DTEND;TZID=America/New_York:20240419T183000
DTSTAMP:20260420T092336
CREATED:20260420T121828Z
LAST-MODIFIED:20260420T121828Z
UID:10010178-1713546000-1713551400@www.floridalegion.org
SUMMARY:Chapter 8: ALR Dinner Night
DESCRIPTION:Monthly ALR dinner night at Winter Haven Post 8
URL:https://www.floridalegion.org/event/chapter-8-alr-dinner-night-3/
LOCATION:Winter Haven American Legion Post 8\, 300 Avenue M NW\, Winter Haven\, FL\, 33881\, United States
CATEGORIES:Legion Riders
ORGANIZER;CN="ALR Chapter 8":MAILTO:hglenn1973@yahoo.com
END:VEVENT
BEGIN:VEVENT
DTSTART;TZID=America/New_York:20240419T170000
DTEND;TZID=America/New_York:20240419T183000
DTSTAMP:20260420T092336
CREATED:20260420T121826Z
LAST-MODIFIED:20260420T121826Z
UID:10010179-1713546000-1713551400@www.floridalegion.org
SUMMARY:Chapter 8: ALR Dinner Night
DESCRIPTION:Monthly ALR dinner night at Winter Haven Post 8
URL:https://www.floridalegion.org/event/chapter-8-alr-dinner-night-2/
LOCATION:Winter Haven American Legion Post 8\, 300 Avenue M NW\, Winter Haven\, FL\, 33881\, United States
CATEGORIES:Legion Riders
ORGANIZER;CN="ALR Chapter 8":MAILTO:hglenn1973@yahoo.com
END:VEVENT
END:VCALENDAR