BEGIN:VCALENDAR
VERSION:2.0
PRODID:-//Florida American Legion - ECPv6.15.20//NONSGML v1.0//EN
CALSCALE:GREGORIAN
METHOD:PUBLISH
X-ORIGINAL-URL:https://www.floridalegion.org
X-WR-CALDESC:Events for Florida American Legion
REFRESH-INTERVAL;VALUE=DURATION:PT1H
X-Robots-Tag:noindex
X-PUBLISHED-TTL:PT1H
BEGIN:VTIMEZONE
TZID:America/New_York
BEGIN:DAYLIGHT
TZOFFSETFROM:-0500
TZOFFSETTO:-0400
TZNAME:EDT
DTSTART:20250309T070000
END:DAYLIGHT
BEGIN:STANDARD
TZOFFSETFROM:-0400
TZOFFSETTO:-0500
TZNAME:EST
DTSTART:20251102T060000
END:STANDARD
BEGIN:DAYLIGHT
TZOFFSETFROM:-0500
TZOFFSETTO:-0400
TZNAME:EDT
DTSTART:20260308T070000
END:DAYLIGHT
BEGIN:STANDARD
TZOFFSETFROM:-0400
TZOFFSETTO:-0500
TZNAME:EST
DTSTART:20261101T060000
END:STANDARD
BEGIN:DAYLIGHT
TZOFFSETFROM:-0500
TZOFFSETTO:-0400
TZNAME:EDT
DTSTART:20270314T070000
END:DAYLIGHT
BEGIN:STANDARD
TZOFFSETFROM:-0400
TZOFFSETTO:-0500
TZNAME:EST
DTSTART:20271107T060000
END:STANDARD
END:VTIMEZONE
BEGIN:VEVENT
DTSTART;TZID=America/New_York:20260707T180000
DTEND;TZID=America/New_York:20260707T220000
DTSTAMP:20260421T084453
CREATED:20240212T141637Z
LAST-MODIFIED:20240528T201306Z
UID:10006633-1783447200-1783461600@www.floridalegion.org
SUMMARY:Chapter 117: ALR Riders Corn Hole Tournament
DESCRIPTION:Every Tuesday\, Chapter 117 holds a Corn Hole Tournament. $5 Registration starts at 6:00pm and starts at 6:30pm. Come on out! We have a great time.
URL:https://www.floridalegion.org/event/chapter-117-alr-riders-corn-hole-tournament/2026-07-07/
LOCATION:189 Veterans DrSE\, 189 Veterans Dr SE\, Palm Bay\, 32909\, United States
CATEGORIES:Legion Riders,Program Events
END:VEVENT
BEGIN:VEVENT
DTSTART;TZID=America/New_York:20260708T190000
DTEND;TZID=America/New_York:20260708T200000
DTSTAMP:20260421T084453
CREATED:20240122T135337Z
LAST-MODIFIED:20240122T135337Z
UID:10006401-1783537200-1783540800@www.floridalegion.org
SUMMARY:ALR: Chapter 10 Meeting
DESCRIPTION:American Legion Riders Monthly meeting\, Chapter 10\, Kissimmee
URL:https://www.floridalegion.org/event/alr-chapter-10-meeting-2/2026-07-08/
LOCATION:American Legion Post 10\, 205 Lakeview Dr\, Kissimmee\, FL\, 34741\, United States
CATEGORIES:Legion Riders,Program Events
END:VEVENT
BEGIN:VEVENT
DTSTART;TZID=America/New_York:20260711T170000
DTEND;TZID=America/New_York:20260711T190000
DTSTAMP:20260421T084453
CREATED:20230612T194230Z
LAST-MODIFIED:20230612T194230Z
UID:10005434-1783789200-1783796400@www.floridalegion.org
SUMMARY:Chapter 10: ALR Riders Dinner
DESCRIPTION:Monthly Riders Dinner Night..
URL:https://www.floridalegion.org/event/chapter-10-alr-riders-dinner/2026-07-11/
LOCATION:American Legion Post 10\, 205 Lakeview Dr\, Kissimmee\, FL\, 34741\, United States
CATEGORIES:Legion Riders,Program Events
END:VEVENT
BEGIN:VEVENT
DTSTART;TZID=America/New_York:20260712T130000
DTEND;TZID=America/New_York:20260712T140000
DTSTAMP:20260421T084453
CREATED:20240712T152500Z
LAST-MODIFIED:20240712T152500Z
UID:10008362-1783861200-1783864800@www.floridalegion.org
SUMMARY:Chapter 8: ALR Meeting
DESCRIPTION:Monthly meeting to discuss new business\, old business\, and good of the Riders.
URL:https://www.floridalegion.org/event/chapter-8-alr-meeting-2/2026-07-12/
LOCATION:Winter Haven American Legion Post 8\, 300 Avenue M NW\, Winter Haven\, FL\, 33881\, United States
CATEGORIES:Legion Riders,Post Events,Program Events
ORGANIZER;CN="ALR Chapter 8":MAILTO:hglenn1973@yahoo.com
END:VEVENT
END:VCALENDAR