BEGIN:VCALENDAR
VERSION:2.0
PRODID:-//Florida American Legion - ECPv6.15.20//NONSGML v1.0//EN
CALSCALE:GREGORIAN
METHOD:PUBLISH
X-WR-CALNAME:Florida American Legion
X-ORIGINAL-URL:https://www.floridalegion.org
X-WR-CALDESC:Events for Florida American Legion
REFRESH-INTERVAL;VALUE=DURATION:PT1H
X-Robots-Tag:noindex
X-PUBLISHED-TTL:PT1H
BEGIN:VTIMEZONE
TZID:America/New_York
BEGIN:DAYLIGHT
TZOFFSETFROM:-0500
TZOFFSETTO:-0400
TZNAME:EDT
DTSTART:20250309T070000
END:DAYLIGHT
BEGIN:STANDARD
TZOFFSETFROM:-0400
TZOFFSETTO:-0500
TZNAME:EST
DTSTART:20251102T060000
END:STANDARD
BEGIN:DAYLIGHT
TZOFFSETFROM:-0500
TZOFFSETTO:-0400
TZNAME:EDT
DTSTART:20260308T070000
END:DAYLIGHT
BEGIN:STANDARD
TZOFFSETFROM:-0400
TZOFFSETTO:-0500
TZNAME:EST
DTSTART:20261101T060000
END:STANDARD
BEGIN:DAYLIGHT
TZOFFSETFROM:-0500
TZOFFSETTO:-0400
TZNAME:EDT
DTSTART:20270314T070000
END:DAYLIGHT
BEGIN:STANDARD
TZOFFSETFROM:-0400
TZOFFSETTO:-0500
TZNAME:EST
DTSTART:20271107T060000
END:STANDARD
END:VTIMEZONE
BEGIN:VEVENT
DTSTART;VALUE=DATE:20260601
DTEND;VALUE=DATE:20260602
DTSTAMP:20260421T020609
CREATED:20250711T144222Z
LAST-MODIFIED:20250711T144222Z
UID:10009416-1780272000-1780358399@www.floridalegion.org
SUMMARY:Youth Law Cadet Application & Fee Deadline
DESCRIPTION:
URL:https://www.floridalegion.org/event/youth-law-cadet-application-fee-deadline-2/
LOCATION:FL
CATEGORIES:Program Events
END:VEVENT
BEGIN:VEVENT
DTSTART;TZID=America/New_York:20260602T180000
DTEND;TZID=America/New_York:20260602T220000
DTSTAMP:20260421T020610
CREATED:20240212T141637Z
LAST-MODIFIED:20240528T201306Z
UID:10006628-1780423200-1780437600@www.floridalegion.org
SUMMARY:Chapter 117: ALR Riders Corn Hole Tournament
DESCRIPTION:Every Tuesday\, Chapter 117 holds a Corn Hole Tournament. $5 Registration starts at 6:00pm and starts at 6:30pm. Come on out! We have a great time.
URL:https://www.floridalegion.org/event/chapter-117-alr-riders-corn-hole-tournament/2026-06-02/
LOCATION:189 Veterans DrSE\, 189 Veterans Dr SE\, Palm Bay\, 32909\, United States
CATEGORIES:Legion Riders,Program Events
END:VEVENT
BEGIN:VEVENT
DTSTART;TZID=America/New_York:20260603T183000
DTEND;TZID=America/New_York:20260603T193000
DTSTAMP:20260421T020610
CREATED:20240212T141857Z
LAST-MODIFIED:20251208T164901Z
UID:10006469-1780511400-1780515000@www.floridalegion.org
SUMMARY:Chapter 136: ALR Monthly Meeting
DESCRIPTION:Join us for our monthly meeting the 1st Wednesday  each month
URL:https://www.floridalegion.org/event/alr-chapter-136-st-james-city-monthly-meeting/2026-06-03/
LOCATION:Post 136 Pine Island Inc\, 4106 Stringfellow Rd\, St James City\, FL\, 33956\, USA
CATEGORIES:Legion Riders,Program Events
ORGANIZER;CN="ALR136":MAILTO:chuck.warren@dignitymemorial.com
END:VEVENT
BEGIN:VEVENT
DTSTART;TZID=America/New_York:20260606T080000
DTEND;TZID=America/New_York:20260606T170000
DTSTAMP:20260421T020610
CREATED:20260320T182855Z
LAST-MODIFIED:20260320T182855Z
UID:10010035-1780732800-1780765200@www.floridalegion.org
SUMMARY:Chapter 194: ALR Fallen Riders Charity Ride
DESCRIPTION:ALR Chapter 194 Fallen Riders Charity Ride is to honor two of our own; Eric Pop Terry and Ida McDuffy. The funds raised are to support thier respective local schools in St. Augustine. Saint Augustine H.S. and Webster Elementary School.
URL:https://www.floridalegion.org/event/chapter-194-alr-fallen-riders-charity-ride/
LOCATION:American Legion Post194\, 1029 Pearl Street\, St. Augustine\, FL\, 32084\, United States
CATEGORIES:Legion Riders,Post Events,Program Events
ORGANIZER;CN="ALR Chapter194":MAILTO:bgreene1060@gmail.com
END:VEVENT
END:VCALENDAR