BEGIN:VCALENDAR
VERSION:2.0
PRODID:-//Florida American Legion - ECPv6.15.20//NONSGML v1.0//EN
CALSCALE:GREGORIAN
METHOD:PUBLISH
X-WR-CALNAME:Florida American Legion
X-ORIGINAL-URL:https://www.floridalegion.org
X-WR-CALDESC:Events for Florida American Legion
REFRESH-INTERVAL;VALUE=DURATION:PT1H
X-Robots-Tag:noindex
X-PUBLISHED-TTL:PT1H
BEGIN:VTIMEZONE
TZID:America/New_York
BEGIN:DAYLIGHT
TZOFFSETFROM:-0500
TZOFFSETTO:-0400
TZNAME:EDT
DTSTART:20250309T070000
END:DAYLIGHT
BEGIN:STANDARD
TZOFFSETFROM:-0400
TZOFFSETTO:-0500
TZNAME:EST
DTSTART:20251102T060000
END:STANDARD
BEGIN:DAYLIGHT
TZOFFSETFROM:-0500
TZOFFSETTO:-0400
TZNAME:EDT
DTSTART:20260308T070000
END:DAYLIGHT
BEGIN:STANDARD
TZOFFSETFROM:-0400
TZOFFSETTO:-0500
TZNAME:EST
DTSTART:20261101T060000
END:STANDARD
BEGIN:DAYLIGHT
TZOFFSETFROM:-0500
TZOFFSETTO:-0400
TZNAME:EDT
DTSTART:20270314T070000
END:DAYLIGHT
BEGIN:STANDARD
TZOFFSETFROM:-0400
TZOFFSETTO:-0500
TZNAME:EST
DTSTART:20271107T060000
END:STANDARD
END:VTIMEZONE
BEGIN:VEVENT
DTSTART;VALUE=DATE:20260401
DTEND;VALUE=DATE:20260501
DTSTAMP:20260419T142844
CREATED:20250711T141042Z
LAST-MODIFIED:20250711T141042Z
UID:10009368-1775001600-1777593599@www.floridalegion.org
SUMMARY:Children & Youth Month
DESCRIPTION:
URL:https://www.floridalegion.org/event/children-youth-month-3/
LOCATION:FL
CATEGORIES:Other Events,Program Events
END:VEVENT
BEGIN:VEVENT
DTSTART;VALUE=DATE:20260401
DTEND;VALUE=DATE:20260501
DTSTAMP:20260419T142844
CREATED:20250711T141141Z
LAST-MODIFIED:20250711T141141Z
UID:10009369-1775001600-1777593599@www.floridalegion.org
SUMMARY:ALR Round Robin
DESCRIPTION:
URL:https://www.floridalegion.org/event/alr-round-robin-2/
LOCATION:FL
CATEGORIES:Legion Riders,Program Events
END:VEVENT
BEGIN:VEVENT
DTSTART;TZID=America/New_York:20260407T180000
DTEND;TZID=America/New_York:20260407T220000
DTSTAMP:20260419T142844
CREATED:20240212T141637Z
LAST-MODIFIED:20240528T201306Z
UID:10006620-1775584800-1775599200@www.floridalegion.org
SUMMARY:Chapter 117: ALR Riders Corn Hole Tournament
DESCRIPTION:Every Tuesday\, Chapter 117 holds a Corn Hole Tournament. $5 Registration starts at 6:00pm and starts at 6:30pm. Come on out! We have a great time.
URL:https://www.floridalegion.org/event/chapter-117-alr-riders-corn-hole-tournament/2026-04-07/
LOCATION:189 Veterans DrSE\, 189 Veterans Dr SE\, Palm Bay\, 32909\, United States
CATEGORIES:Legion Riders,Program Events
END:VEVENT
BEGIN:VEVENT
DTSTART;TZID=America/New_York:20260408T190000
DTEND;TZID=America/New_York:20260408T200000
DTSTAMP:20260419T142844
CREATED:20240122T135337Z
LAST-MODIFIED:20240122T135337Z
UID:10006398-1775674800-1775678400@www.floridalegion.org
SUMMARY:ALR: Chapter 10 Meeting
DESCRIPTION:American Legion Riders Monthly meeting\, Chapter 10\, Kissimmee
URL:https://www.floridalegion.org/event/alr-chapter-10-meeting-2/2026-04-08/
LOCATION:American Legion Post 10\, 205 Lakeview Dr\, Kissimmee\, FL\, 34741\, United States
CATEGORIES:Legion Riders,Program Events
END:VEVENT
BEGIN:VEVENT
DTSTART;VALUE=DATE:20260409
DTEND;VALUE=DATE:20260410
DTSTAMP:20260419T142844
CREATED:20250711T141401Z
LAST-MODIFIED:20250711T141401Z
UID:10009375-1775692800-1775779199@www.floridalegion.org
SUMMARY:Baseball Recruiting Maps Due
DESCRIPTION:
URL:https://www.floridalegion.org/event/baseball-recruiting-maps-due-3/
LOCATION:FL
CATEGORIES:Program Events
END:VEVENT
BEGIN:VEVENT
DTSTART;VALUE=DATE:20260410
DTEND;VALUE=DATE:20260411
DTSTAMP:20260419T142844
CREATED:20250711T141423Z
LAST-MODIFIED:20250711T141423Z
UID:10009376-1775779200-1775865599@www.floridalegion.org
SUMMARY:Purple Up! For Military Kids Day
DESCRIPTION:
URL:https://www.floridalegion.org/event/purple-up-for-military-kids-day-2/
LOCATION:FL
CATEGORIES:Other Events,Program Events
END:VEVENT
BEGIN:VEVENT
DTSTART;TZID=America/New_York:20260411T120000
DTEND;TZID=America/New_York:20260411T170000
DTSTAMP:20260419T142844
CREATED:20250711T141453Z
LAST-MODIFIED:20260121T191038Z
UID:10009377-1775908800-1775926800@www.floridalegion.org
SUMMARY:Department Children & Youth Picnic
DESCRIPTION:Download Flyer
URL:https://www.floridalegion.org/event/department-children-youth-picnic/
LOCATION:Post 117 Charles F. Thomas\, IV\, 189 Veterans Dr SE\, Palm Bay\, FL\, 32909-3852\, USA
CATEGORIES:Commanders,Program Events
ATTACH;FMTTYPE=image/jpeg:https://www.floridalegion.org/wp-content/uploads/2026/01/CY-Picnic-Flyer--scaled.jpg
END:VEVENT
BEGIN:VEVENT
DTSTART;TZID=America/New_York:20260411T170000
DTEND;TZID=America/New_York:20260411T190000
DTSTAMP:20260419T142844
CREATED:20230612T194230Z
LAST-MODIFIED:20230612T194230Z
UID:10005431-1775926800-1775934000@www.floridalegion.org
SUMMARY:Chapter 10: ALR Riders Dinner
DESCRIPTION:Monthly Riders Dinner Night..
URL:https://www.floridalegion.org/event/chapter-10-alr-riders-dinner/2026-04-11/
LOCATION:American Legion Post 10\, 205 Lakeview Dr\, Kissimmee\, FL\, 34741\, United States
CATEGORIES:Legion Riders,Program Events
END:VEVENT
BEGIN:VEVENT
DTSTART;TZID=America/New_York:20260412T090000
DTEND;TZID=America/New_York:20260412T170000
DTSTAMP:20260419T142844
CREATED:20260127T191547Z
LAST-MODIFIED:20260127T191637Z
UID:10009811-1775984400-1776013200@www.floridalegion.org
SUMMARY:Post 77: American Heroes Poker Run
DESCRIPTION:Chapter 77 American Heroes Poker Run (formerly known as Vietnam Veterans Gathering). Sunday\, April 12. Register at American Legion Post 77\, Inverness\, Florida at 9 AM. KSU 10:30 AM. See the flyer for stops.Event to benefit: American Heroes & other Veteran/Community Charities. To bring the Vietnam traveling memorial walls to Citrus County. Food to be served at the end of the ride.For more info: John Gramzow 352-634-0891
URL:https://www.floridalegion.org/event/post-77-american-heroes-poker-run/
LOCATION:Post 77 Allen Rawls\, 4375 S Little Al Pt\, Inverness\, FL\, 34452-7529\, USA
CATEGORIES:Legion Riders,Post Events,Program Events
ATTACH;FMTTYPE=image/png:https://www.floridalegion.org/wp-content/uploads/2026/01/chapter-77.png
ORGANIZER;CN="john gra":MAILTO:mtglou@yahoo.com
END:VEVENT
BEGIN:VEVENT
DTSTART;TZID=America/New_York:20260412T130000
DTEND;TZID=America/New_York:20260412T140000
DTSTAMP:20260419T142844
CREATED:20240712T152500Z
LAST-MODIFIED:20240712T152500Z
UID:10008359-1775998800-1776002400@www.floridalegion.org
SUMMARY:Chapter 8: ALR Meeting
DESCRIPTION:Monthly meeting to discuss new business\, old business\, and good of the Riders.
URL:https://www.floridalegion.org/event/chapter-8-alr-meeting-2/2026-04-12/
LOCATION:Winter Haven American Legion Post 8\, 300 Avenue M NW\, Winter Haven\, FL\, 33881\, United States
CATEGORIES:Legion Riders,Post Events,Program Events
ORGANIZER;CN="ALR Chapter 8":MAILTO:hglenn1973@yahoo.com
END:VEVENT
END:VCALENDAR