BEGIN:VCALENDAR
VERSION:2.0
PRODID:-//Florida American Legion - ECPv6.15.20//NONSGML v1.0//EN
CALSCALE:GREGORIAN
METHOD:PUBLISH
X-ORIGINAL-URL:https://www.floridalegion.org
X-WR-CALDESC:Events for Florida American Legion
REFRESH-INTERVAL;VALUE=DURATION:PT1H
X-Robots-Tag:noindex
X-PUBLISHED-TTL:PT1H
BEGIN:VTIMEZONE
TZID:America/New_York
BEGIN:DAYLIGHT
TZOFFSETFROM:-0500
TZOFFSETTO:-0400
TZNAME:EDT
DTSTART:20250309T070000
END:DAYLIGHT
BEGIN:STANDARD
TZOFFSETFROM:-0400
TZOFFSETTO:-0500
TZNAME:EST
DTSTART:20251102T060000
END:STANDARD
BEGIN:DAYLIGHT
TZOFFSETFROM:-0500
TZOFFSETTO:-0400
TZNAME:EDT
DTSTART:20260308T070000
END:DAYLIGHT
BEGIN:STANDARD
TZOFFSETFROM:-0400
TZOFFSETTO:-0500
TZNAME:EST
DTSTART:20261101T060000
END:STANDARD
BEGIN:DAYLIGHT
TZOFFSETFROM:-0500
TZOFFSETTO:-0400
TZNAME:EDT
DTSTART:20270314T070000
END:DAYLIGHT
BEGIN:STANDARD
TZOFFSETFROM:-0400
TZOFFSETTO:-0500
TZNAME:EST
DTSTART:20271107T060000
END:STANDARD
END:VTIMEZONE
BEGIN:VEVENT
DTSTART;TZID=America/New_York:20260324T180000
DTEND;TZID=America/New_York:20260324T220000
DTSTAMP:20260419T233642
CREATED:20240212T141637Z
LAST-MODIFIED:20240528T201306Z
UID:10006618-1774375200-1774389600@www.floridalegion.org
SUMMARY:Chapter 117: ALR Riders Corn Hole Tournament
DESCRIPTION:Every Tuesday\, Chapter 117 holds a Corn Hole Tournament. $5 Registration starts at 6:00pm and starts at 6:30pm. Come on out! We have a great time.
URL:https://www.floridalegion.org/event/chapter-117-alr-riders-corn-hole-tournament/2026-03-24/
LOCATION:189 Veterans DrSE\, 189 Veterans Dr SE\, Palm Bay\, 32909\, United States
CATEGORIES:Legion Riders,Program Events
END:VEVENT
BEGIN:VEVENT
DTSTART;VALUE=DATE:20260327
DTEND;VALUE=DATE:20260328
DTSTAMP:20260419T233642
CREATED:20250711T140006Z
LAST-MODIFIED:20250711T140006Z
UID:10009347-1774569600-1774655999@www.floridalegion.org
SUMMARY:Baseball Domicile Establishment Deadline
DESCRIPTION:
URL:https://www.floridalegion.org/event/baseball-domicile-establishment-deadline-2/
LOCATION:FL
CATEGORIES:Program Events
END:VEVENT
BEGIN:VEVENT
DTSTART;TZID=America/New_York:20260328T170000
DTEND;TZID=America/New_York:20260328T190000
DTSTAMP:20260419T233642
CREATED:20230327T120424Z
LAST-MODIFIED:20230327T120424Z
UID:10008722-1774717200-1774724400@www.floridalegion.org
SUMMARY:Post 148: ALR Monthly Dinner
DESCRIPTION:Every month a member cooks something great!!!
URL:https://www.floridalegion.org/event/post-148-alr-monthly-dinner-2/2026-03-28/
LOCATION:Post 148\, 6740 Us Hwy 301 S\, Riverview\, Florida\, 33568\, United States
CATEGORIES:Legion Riders,Program Events
ORGANIZER;CN="ALR Post 148":MAILTO:director.post148@gmail.com
END:VEVENT
BEGIN:VEVENT
DTSTART;TZID=America/New_York:20260328T190000
DTEND;TZID=America/New_York:20260328T210000
DTSTAMP:20260419T233642
CREATED:20250128T172949Z
LAST-MODIFIED:20250128T172949Z
UID:10008538-1774724400-1774731600@www.floridalegion.org
SUMMARY:ALR: Chapter 10 Bike Night
DESCRIPTION:Download Flyer
URL:https://www.floridalegion.org/event/alr-chapter-10-bike-night/2026-03-28/
LOCATION:Captain and Tequilla Dockside\, 69 Lakeview Dr\, Kissimmee\, 34741\, United States
CATEGORIES:Legion Riders,Program Events
ATTACH;FMTTYPE=image/jpeg:https://www.floridalegion.org/wp-content/uploads/2025/01/Bike-Night-Flyer-2025-scaled.jpg
END:VEVENT
END:VCALENDAR