BEGIN:VCALENDAR
VERSION:2.0
PRODID:-//Florida American Legion - ECPv6.15.20//NONSGML v1.0//EN
CALSCALE:GREGORIAN
METHOD:PUBLISH
X-WR-CALNAME:Florida American Legion
X-ORIGINAL-URL:https://www.floridalegion.org
X-WR-CALDESC:Events for Florida American Legion
REFRESH-INTERVAL;VALUE=DURATION:PT1H
X-Robots-Tag:noindex
X-PUBLISHED-TTL:PT1H
BEGIN:VTIMEZONE
TZID:America/New_York
BEGIN:DAYLIGHT
TZOFFSETFROM:-0500
TZOFFSETTO:-0400
TZNAME:EDT
DTSTART:20250309T070000
END:DAYLIGHT
BEGIN:STANDARD
TZOFFSETFROM:-0400
TZOFFSETTO:-0500
TZNAME:EST
DTSTART:20251102T060000
END:STANDARD
BEGIN:DAYLIGHT
TZOFFSETFROM:-0500
TZOFFSETTO:-0400
TZNAME:EDT
DTSTART:20260308T070000
END:DAYLIGHT
BEGIN:STANDARD
TZOFFSETFROM:-0400
TZOFFSETTO:-0500
TZNAME:EST
DTSTART:20261101T060000
END:STANDARD
BEGIN:DAYLIGHT
TZOFFSETFROM:-0500
TZOFFSETTO:-0400
TZNAME:EDT
DTSTART:20270314T070000
END:DAYLIGHT
BEGIN:STANDARD
TZOFFSETFROM:-0400
TZOFFSETTO:-0500
TZNAME:EST
DTSTART:20271107T060000
END:STANDARD
END:VTIMEZONE
BEGIN:VEVENT
DTSTART;TZID=America/New_York:20260317T180000
DTEND;TZID=America/New_York:20260317T220000
DTSTAMP:20260420T012527
CREATED:20240212T141637Z
LAST-MODIFIED:20240528T201306Z
UID:10006617-1773770400-1773784800@www.floridalegion.org
SUMMARY:Chapter 117: ALR Riders Corn Hole Tournament
DESCRIPTION:Every Tuesday\, Chapter 117 holds a Corn Hole Tournament. $5 Registration starts at 6:00pm and starts at 6:30pm. Come on out! We have a great time.
URL:https://www.floridalegion.org/event/chapter-117-alr-riders-corn-hole-tournament/2026-03-17/
LOCATION:189 Veterans DrSE\, 189 Veterans Dr SE\, Palm Bay\, 32909\, United States
CATEGORIES:Legion Riders,Program Events
END:VEVENT
BEGIN:VEVENT
DTSTART;VALUE=DATE:20260318
DTEND;VALUE=DATE:20260319
DTSTAMP:20260420T012527
CREATED:20250711T135247Z
LAST-MODIFIED:20250711T135247Z
UID:10009333-1773792000-1773878399@www.floridalegion.org
SUMMARY:Boys State Online Delegate/Alternate Registration Closes
DESCRIPTION:
URL:https://www.floridalegion.org/event/boys-state-online-delegate-alternate-registration-closes/
LOCATION:FL
CATEGORIES:Program Events
END:VEVENT
BEGIN:VEVENT
DTSTART;VALUE=DATE:20260321
DTEND;VALUE=DATE:20260322
DTSTAMP:20260420T012527
CREATED:20251023T134033Z
LAST-MODIFIED:20251023T134033Z
UID:10009737-1774051200-1774137599@www.floridalegion.org
SUMMARY:Southwestern Area: Children & Youth Picnic
DESCRIPTION:
URL:https://www.floridalegion.org/event/southwestern-area-children-youth-picnic-2/
LOCATION:Post 103 D.N. McQueen\, 2101 Taylor Rd\, Punta Gorda\, FL\, 33950-6254\, USA
CATEGORIES:District Events,Program Events
END:VEVENT
END:VCALENDAR