BEGIN:VCALENDAR
VERSION:2.0
PRODID:-//Florida American Legion - ECPv6.15.20//NONSGML v1.0//EN
CALSCALE:GREGORIAN
METHOD:PUBLISH
X-WR-CALNAME:Florida American Legion
X-ORIGINAL-URL:https://www.floridalegion.org
X-WR-CALDESC:Events for Florida American Legion
REFRESH-INTERVAL;VALUE=DURATION:PT1H
X-Robots-Tag:noindex
X-PUBLISHED-TTL:PT1H
BEGIN:VTIMEZONE
TZID:America/New_York
BEGIN:DAYLIGHT
TZOFFSETFROM:-0500
TZOFFSETTO:-0400
TZNAME:EDT
DTSTART:20250309T070000
END:DAYLIGHT
BEGIN:STANDARD
TZOFFSETFROM:-0400
TZOFFSETTO:-0500
TZNAME:EST
DTSTART:20251102T060000
END:STANDARD
BEGIN:DAYLIGHT
TZOFFSETFROM:-0500
TZOFFSETTO:-0400
TZNAME:EDT
DTSTART:20260308T070000
END:DAYLIGHT
BEGIN:STANDARD
TZOFFSETFROM:-0400
TZOFFSETTO:-0500
TZNAME:EST
DTSTART:20261101T060000
END:STANDARD
BEGIN:DAYLIGHT
TZOFFSETFROM:-0500
TZOFFSETTO:-0400
TZNAME:EDT
DTSTART:20270314T070000
END:DAYLIGHT
BEGIN:STANDARD
TZOFFSETFROM:-0400
TZOFFSETTO:-0500
TZNAME:EST
DTSTART:20271107T060000
END:STANDARD
END:VTIMEZONE
BEGIN:VEVENT
DTSTART;VALUE=DATE:20260309
DTEND;VALUE=DATE:20260310
DTSTAMP:20260420T011638
CREATED:20250711T135047Z
LAST-MODIFIED:20250711T135047Z
UID:10009328-1773014400-1773100799@www.floridalegion.org
SUMMARY:Boys State District Orientation Dates Due
DESCRIPTION:
URL:https://www.floridalegion.org/event/boys-state-district-orientation-dates-due/
LOCATION:FL
CATEGORIES:Program Events
END:VEVENT
BEGIN:VEVENT
DTSTART;TZID=America/New_York:20260310T180000
DTEND;TZID=America/New_York:20260310T220000
DTSTAMP:20260420T011638
CREATED:20240212T141637Z
LAST-MODIFIED:20240528T201306Z
UID:10006616-1773165600-1773180000@www.floridalegion.org
SUMMARY:Chapter 117: ALR Riders Corn Hole Tournament
DESCRIPTION:Every Tuesday\, Chapter 117 holds a Corn Hole Tournament. $5 Registration starts at 6:00pm and starts at 6:30pm. Come on out! We have a great time.
URL:https://www.floridalegion.org/event/chapter-117-alr-riders-corn-hole-tournament/2026-03-10/
LOCATION:189 Veterans DrSE\, 189 Veterans Dr SE\, Palm Bay\, 32909\, United States
CATEGORIES:Legion Riders,Program Events
END:VEVENT
BEGIN:VEVENT
DTSTART;TZID=America/New_York:20260311T190000
DTEND;TZID=America/New_York:20260311T200000
DTSTAMP:20260420T011638
CREATED:20240122T135337Z
LAST-MODIFIED:20240122T135337Z
UID:10006397-1773255600-1773259200@www.floridalegion.org
SUMMARY:ALR: Chapter 10 Meeting
DESCRIPTION:American Legion Riders Monthly meeting\, Chapter 10\, Kissimmee
URL:https://www.floridalegion.org/event/alr-chapter-10-meeting-2/2026-03-11/
LOCATION:American Legion Post 10\, 205 Lakeview Dr\, Kissimmee\, FL\, 34741\, United States
CATEGORIES:Legion Riders,Program Events
END:VEVENT
BEGIN:VEVENT
DTSTART;VALUE=DATE:20260313
DTEND;VALUE=DATE:20260314
DTSTAMP:20260420T011638
CREATED:20250711T135721Z
LAST-MODIFIED:20250711T135812Z
UID:10009342-1773360000-1773446399@www.floridalegion.org
SUMMARY:Oratorical Department Walk Thru
DESCRIPTION:
URL:https://www.floridalegion.org/event/oratorical-department-walk-thru/
LOCATION:The American Legion\, Department of Florida\, 1912 A Lee Rd\, Orlando\, Florida\, 32810\, United States
CATEGORIES:Commanders,Program Events
END:VEVENT
BEGIN:VEVENT
DTSTART;VALUE=DATE:20260314
DTEND;VALUE=DATE:20260315
DTSTAMP:20260420T011638
CREATED:20250711T135757Z
LAST-MODIFIED:20250711T135757Z
UID:10009343-1773446400-1773532799@www.floridalegion.org
SUMMARY:Department Oratorical Competition
DESCRIPTION:
URL:https://www.floridalegion.org/event/department-oratorical-competition/
LOCATION:The American Legion\, Department of Florida\, 1912 A Lee Rd\, Orlando\, Florida\, 32810\, United States
CATEGORIES:Commanders,Department Events,Program Events
END:VEVENT
BEGIN:VEVENT
DTSTART;TZID=America/New_York:20260314T170000
DTEND;TZID=America/New_York:20260314T190000
DTSTAMP:20260420T011638
CREATED:20230612T194230Z
LAST-MODIFIED:20230612T194230Z
UID:10005430-1773507600-1773514800@www.floridalegion.org
SUMMARY:Chapter 10: ALR Riders Dinner
DESCRIPTION:Monthly Riders Dinner Night..
URL:https://www.floridalegion.org/event/chapter-10-alr-riders-dinner/2026-03-14/
LOCATION:American Legion Post 10\, 205 Lakeview Dr\, Kissimmee\, FL\, 34741\, United States
CATEGORIES:Legion Riders,Program Events
END:VEVENT
BEGIN:VEVENT
DTSTART;VALUE=DATE:20260315
DTEND;VALUE=DATE:20260316
DTSTAMP:20260420T011638
CREATED:20240703T142303Z
LAST-MODIFIED:20240703T142303Z
UID:10008152-1773532800-1773619199@www.floridalegion.org
SUMMARY:American Legion Birthday (1919)
DESCRIPTION:
URL:https://www.floridalegion.org/event/american-legion-birthday-1919/2026-03-15/
LOCATION:FL
CATEGORIES:Commanders,Department Events,District Events,National Events,Other Events,Post Events,Program Events
END:VEVENT
END:VCALENDAR