BEGIN:VCALENDAR
VERSION:2.0
PRODID:-//Florida American Legion - ECPv6.15.20//NONSGML v1.0//EN
CALSCALE:GREGORIAN
METHOD:PUBLISH
X-WR-CALNAME:Florida American Legion
X-ORIGINAL-URL:https://www.floridalegion.org
X-WR-CALDESC:Events for Florida American Legion
REFRESH-INTERVAL;VALUE=DURATION:PT1H
X-Robots-Tag:noindex
X-PUBLISHED-TTL:PT1H
BEGIN:VTIMEZONE
TZID:America/New_York
BEGIN:DAYLIGHT
TZOFFSETFROM:-0500
TZOFFSETTO:-0400
TZNAME:EDT
DTSTART:20240310T070000
END:DAYLIGHT
BEGIN:STANDARD
TZOFFSETFROM:-0400
TZOFFSETTO:-0500
TZNAME:EST
DTSTART:20241103T060000
END:STANDARD
BEGIN:DAYLIGHT
TZOFFSETFROM:-0500
TZOFFSETTO:-0400
TZNAME:EDT
DTSTART:20250309T070000
END:DAYLIGHT
BEGIN:STANDARD
TZOFFSETFROM:-0400
TZOFFSETTO:-0500
TZNAME:EST
DTSTART:20251102T060000
END:STANDARD
BEGIN:DAYLIGHT
TZOFFSETFROM:-0500
TZOFFSETTO:-0400
TZNAME:EDT
DTSTART:20260308T070000
END:DAYLIGHT
BEGIN:STANDARD
TZOFFSETFROM:-0400
TZOFFSETTO:-0500
TZNAME:EST
DTSTART:20261101T060000
END:STANDARD
END:VTIMEZONE
BEGIN:VEVENT
DTSTART;TZID=America/New_York:20251118T180000
DTEND;TZID=America/New_York:20251118T220000
DTSTAMP:20260422T102540
CREATED:20240212T141637Z
LAST-MODIFIED:20240528T201306Z
UID:10006600-1763488800-1763503200@www.floridalegion.org
SUMMARY:Chapter 117: ALR Riders Corn Hole Tournament
DESCRIPTION:Every Tuesday\, Chapter 117 holds a Corn Hole Tournament. $5 Registration starts at 6:00pm and starts at 6:30pm. Come on out! We have a great time.
URL:https://www.floridalegion.org/event/chapter-117-alr-riders-corn-hole-tournament/2025-11-18/
LOCATION:189 Veterans DrSE\, 189 Veterans Dr SE\, Palm Bay\, 32909\, United States
CATEGORIES:Legion Riders,Program Events
END:VEVENT
BEGIN:VEVENT
DTSTART;VALUE=DATE:20251121
DTEND;VALUE=DATE:20251124
DTSTAMP:20260422T102540
CREATED:20200604T170433Z
LAST-MODIFIED:20200604T170530Z
UID:10003014-1763683200-1763942399@www.floridalegion.org
SUMMARY:Department Fall Conference
DESCRIPTION:Additional Details >>
URL:https://www.floridalegion.org/event/department-fall-conference-8/
LOCATION:Caribe Royale Orlando\, 8101 World Center Drive\, Orlando\, FL\, 32821\, United States
CATEGORIES:All Categories,Commanders,Department Events,Other Events,Program Events,Special Olympics
END:VEVENT
END:VCALENDAR