BEGIN:VCALENDAR
VERSION:2.0
PRODID:-//Florida American Legion - ECPv6.15.20//NONSGML v1.0//EN
CALSCALE:GREGORIAN
METHOD:PUBLISH
X-WR-CALNAME:Florida American Legion
X-ORIGINAL-URL:https://www.floridalegion.org
X-WR-CALDESC:Events for Florida American Legion
REFRESH-INTERVAL;VALUE=DURATION:PT1H
X-Robots-Tag:noindex
X-PUBLISHED-TTL:PT1H
BEGIN:VTIMEZONE
TZID:America/New_York
BEGIN:DAYLIGHT
TZOFFSETFROM:-0500
TZOFFSETTO:-0400
TZNAME:EDT
DTSTART:20240310T070000
END:DAYLIGHT
BEGIN:STANDARD
TZOFFSETFROM:-0400
TZOFFSETTO:-0500
TZNAME:EST
DTSTART:20241103T060000
END:STANDARD
BEGIN:DAYLIGHT
TZOFFSETFROM:-0500
TZOFFSETTO:-0400
TZNAME:EDT
DTSTART:20250309T070000
END:DAYLIGHT
BEGIN:STANDARD
TZOFFSETFROM:-0400
TZOFFSETTO:-0500
TZNAME:EST
DTSTART:20251102T060000
END:STANDARD
BEGIN:DAYLIGHT
TZOFFSETFROM:-0500
TZOFFSETTO:-0400
TZNAME:EDT
DTSTART:20260308T070000
END:DAYLIGHT
BEGIN:STANDARD
TZOFFSETFROM:-0400
TZOFFSETTO:-0500
TZNAME:EST
DTSTART:20261101T060000
END:STANDARD
END:VTIMEZONE
BEGIN:VEVENT
DTSTART;VALUE=DATE:20251001
DTEND;VALUE=DATE:20251101
DTSTAMP:20260420T155157
CREATED:20250703T174825Z
LAST-MODIFIED:20250703T174825Z
UID:10009224-1759276800-1761955199@www.floridalegion.org
SUMMARY:ALR Merry-Go-Round
DESCRIPTION:
URL:https://www.floridalegion.org/event/alr-merry-go-round/
LOCATION:FL
CATEGORIES:Legion Riders,Program Events
END:VEVENT
BEGIN:VEVENT
DTSTART;TZID=America/New_York:20251028T180000
DTEND;TZID=America/New_York:20251028T220000
DTSTAMP:20260420T155157
CREATED:20240212T141637Z
LAST-MODIFIED:20240528T201306Z
UID:10006597-1761674400-1761688800@www.floridalegion.org
SUMMARY:Chapter 117: ALR Riders Corn Hole Tournament
DESCRIPTION:Every Tuesday\, Chapter 117 holds a Corn Hole Tournament. $5 Registration starts at 6:00pm and starts at 6:30pm. Come on out! We have a great time.
URL:https://www.floridalegion.org/event/chapter-117-alr-riders-corn-hole-tournament/2025-10-28/
LOCATION:189 Veterans DrSE\, 189 Veterans Dr SE\, Palm Bay\, 32909\, United States
CATEGORIES:Legion Riders,Program Events
END:VEVENT
BEGIN:VEVENT
DTSTART;TZID=America/New_York:20251101T090000
DTEND;TZID=America/New_York:20251101T130000
DTSTAMP:20260420T155157
CREATED:20250807T133444Z
LAST-MODIFIED:20250807T133444Z
UID:10009563-1761987600-1762002000@www.floridalegion.org
SUMMARY:Benefits and Be the One Training
DESCRIPTION:Larry Roberts will take us through the benefits process and the necessary paperwork and how to help other Veterans and their families.  After a recess\, Larry will teach Be the One and how to recognize signs of suicidal tendencies.  This training is open to the whole Legion Family and we encourage the bartenders of the Posts to attend as well.
URL:https://www.floridalegion.org/event/benefits-and-be-the-one-training/
LOCATION:American Legion Post 90\, 1401 SE 47th St\, Cape Coral\, 33904\, United States
CATEGORIES:District Events,Post Events,Program Events
ATTACH;FMTTYPE=image/jpeg:https://www.floridalegion.org/wp-content/uploads/2025/08/Benefits-and-Be-the-One-Training.jpg
END:VEVENT
BEGIN:VEVENT
DTSTART;TZID=America/New_York:20251101T090000
DTEND;TZID=America/New_York:20251101T130000
DTSTAMP:20260420T155157
CREATED:20251031T164528Z
LAST-MODIFIED:20251031T164528Z
UID:10009747-1761987600-1762002000@www.floridalegion.org
SUMMARY:Post 90: Benefits and Be the One Training
DESCRIPTION:Learn all about the benefits for you and your family and why there is a need to help Vets.  Learn the protocols you follow when a Veteran visits your Post seeking assistance.  Learn all about Project VetRelief and how you can Be the One.  This training is open to all Legion Family members!  https://zoom.us/meeting/register/Y9ICL2AJQiqiegA0vn03DQ to register in advance.
URL:https://www.floridalegion.org/event/post-90-benefits-and-be-the-one-training/
LOCATION:American Legion Post 90\, 1401 SE 47th St\, Cape Coral\, 33904\, United States
CATEGORIES:District Events,Post Events,Program Events
ATTACH;FMTTYPE=image/jpeg:https://www.floridalegion.org/wp-content/uploads/2025/10/Benefits-and-Be-the-One-2.jpg
END:VEVENT
END:VCALENDAR