BEGIN:VCALENDAR
VERSION:2.0
PRODID:-//Florida American Legion - ECPv6.15.20//NONSGML v1.0//EN
CALSCALE:GREGORIAN
METHOD:PUBLISH
X-ORIGINAL-URL:https://www.floridalegion.org
X-WR-CALDESC:Events for Florida American Legion
REFRESH-INTERVAL;VALUE=DURATION:PT1H
X-Robots-Tag:noindex
X-PUBLISHED-TTL:PT1H
BEGIN:VTIMEZONE
TZID:America/New_York
BEGIN:DAYLIGHT
TZOFFSETFROM:-0500
TZOFFSETTO:-0400
TZNAME:EDT
DTSTART:20250309T070000
END:DAYLIGHT
BEGIN:STANDARD
TZOFFSETFROM:-0400
TZOFFSETTO:-0500
TZNAME:EST
DTSTART:20251102T060000
END:STANDARD
BEGIN:DAYLIGHT
TZOFFSETFROM:-0500
TZOFFSETTO:-0400
TZNAME:EDT
DTSTART:20260308T070000
END:DAYLIGHT
BEGIN:STANDARD
TZOFFSETFROM:-0400
TZOFFSETTO:-0500
TZNAME:EST
DTSTART:20261101T060000
END:STANDARD
BEGIN:DAYLIGHT
TZOFFSETFROM:-0500
TZOFFSETTO:-0400
TZNAME:EDT
DTSTART:20270314T070000
END:DAYLIGHT
BEGIN:STANDARD
TZOFFSETFROM:-0400
TZOFFSETTO:-0500
TZNAME:EST
DTSTART:20271107T060000
END:STANDARD
END:VTIMEZONE
BEGIN:VEVENT
DTSTART;VALUE=DATE:20260203
DTEND;VALUE=DATE:20260204
DTSTAMP:20260420T050507
CREATED:20250711T133428Z
LAST-MODIFIED:20250711T133428Z
UID:10009297-1770076800-1770163199@www.floridalegion.org
SUMMARY:Four Chaplains Day
DESCRIPTION:
URL:https://www.floridalegion.org/event/four-chaplains-day-3/
LOCATION:FL
CATEGORIES:Other Events,Program Events
END:VEVENT
BEGIN:VEVENT
DTSTART;TZID=America/New_York:20260203T113000
DTEND;TZID=America/New_York:20260203T120000
DTSTAMP:20260420T050507
CREATED:20260130T162415Z
LAST-MODIFIED:20260130T191934Z
UID:10009813-1770118200-1770120000@www.floridalegion.org
SUMMARY:Post 8: "The Four Chaplains Day" Remembrance.
DESCRIPTION:Post 8 in Winter Haven will be holding a “The Four Chaplains Day” remembrance on February 3rd 2026 beginning at 11:30 am. Post 8 has the privilege of having 5 Chaplains in our posts “Family” with the Post Chaplain\, Auxiliary Chaplain\, SAL Chaplain\, Legion Riders Chaplain and Honor Guard Chaplain. \nFor this remembrance program all five of Post 8’s Chaplains will be in attendance with the Post Chaplain having the honor of hosting  the event while the remaining four Chaplains will be representing and introducing the “Four Chaplains” from that horrific day in our country’s history. \nAll are welcome to attend and share in learning what men are capable of when\, in time of crisis\, their faith is all they are left with.
URL:https://www.floridalegion.org/event/post-8-the-four-chaplains-day-remembrance/
LOCATION:Frierson-Nichols American Legion Post 8\, 300 AVE M NW\, Winter Haven\, 33881\, United States
CATEGORIES:All Categories,Post Events,Program Events
ATTACH;FMTTYPE=image/jpeg:https://www.floridalegion.org/wp-content/uploads/2026/01/Flyer-for-posting-2.jpg
ORGANIZER;CN="Chaplain Richard Brown":MAILTO:Post8cares@gmail.com
END:VEVENT
BEGIN:VEVENT
DTSTART;TZID=America/New_York:20260203T180000
DTEND;TZID=America/New_York:20260203T220000
DTSTAMP:20260420T050507
CREATED:20240212T141637Z
LAST-MODIFIED:20240528T201306Z
UID:10006611-1770141600-1770156000@www.floridalegion.org
SUMMARY:Chapter 117: ALR Riders Corn Hole Tournament
DESCRIPTION:Every Tuesday\, Chapter 117 holds a Corn Hole Tournament. $5 Registration starts at 6:00pm and starts at 6:30pm. Come on out! We have a great time.
URL:https://www.floridalegion.org/event/chapter-117-alr-riders-corn-hole-tournament/2026-02-03/
LOCATION:189 Veterans DrSE\, 189 Veterans Dr SE\, Palm Bay\, 32909\, United States
CATEGORIES:Legion Riders,Program Events
END:VEVENT
END:VCALENDAR