BEGIN:VCALENDAR
VERSION:2.0
PRODID:-//Florida American Legion - ECPv6.15.20//NONSGML v1.0//EN
CALSCALE:GREGORIAN
METHOD:PUBLISH
X-ORIGINAL-URL:https://www.floridalegion.org
X-WR-CALDESC:Events for Florida American Legion
REFRESH-INTERVAL;VALUE=DURATION:PT1H
X-Robots-Tag:noindex
X-PUBLISHED-TTL:PT1H
BEGIN:VTIMEZONE
TZID:America/New_York
BEGIN:DAYLIGHT
TZOFFSETFROM:-0500
TZOFFSETTO:-0400
TZNAME:EDT
DTSTART:20250309T070000
END:DAYLIGHT
BEGIN:STANDARD
TZOFFSETFROM:-0400
TZOFFSETTO:-0500
TZNAME:EST
DTSTART:20251102T060000
END:STANDARD
BEGIN:DAYLIGHT
TZOFFSETFROM:-0500
TZOFFSETTO:-0400
TZNAME:EDT
DTSTART:20260308T070000
END:DAYLIGHT
BEGIN:STANDARD
TZOFFSETFROM:-0400
TZOFFSETTO:-0500
TZNAME:EST
DTSTART:20261101T060000
END:STANDARD
BEGIN:DAYLIGHT
TZOFFSETFROM:-0500
TZOFFSETTO:-0400
TZNAME:EDT
DTSTART:20270314T070000
END:DAYLIGHT
BEGIN:STANDARD
TZOFFSETFROM:-0400
TZOFFSETTO:-0500
TZNAME:EST
DTSTART:20271107T060000
END:STANDARD
END:VTIMEZONE
BEGIN:VEVENT
DTSTART;VALUE=DATE:20260107
DTEND;VALUE=DATE:20260108
DTSTAMP:20260420T012052
CREATED:20250711T132419Z
LAST-MODIFIED:20250711T132419Z
UID:10009278-1767744000-1767830399@www.floridalegion.org
SUMMARY:Boys State Online Delegate/Alternate Registration Opens
DESCRIPTION:
URL:https://www.floridalegion.org/event/boys-state-online-delegate-alternate-registration-opens/
LOCATION:FL
CATEGORIES:Department Events,Program Events
END:VEVENT
BEGIN:VEVENT
DTSTART;TZID=America/New_York:20260107T183000
DTEND;TZID=America/New_York:20260107T193000
DTSTAMP:20260420T012052
CREATED:20240212T141857Z
LAST-MODIFIED:20251208T164901Z
UID:10006464-1767810600-1767814200@www.floridalegion.org
SUMMARY:Chapter 136: ALR Monthly Meeting
DESCRIPTION:Join us for our monthly meeting the 1st Wednesday  each month
URL:https://www.floridalegion.org/event/alr-chapter-136-st-james-city-monthly-meeting/2026-01-07/
LOCATION:Post 136 Pine Island Inc\, 4106 Stringfellow Rd\, St James City\, FL\, 33956\, USA
CATEGORIES:Legion Riders,Program Events
ORGANIZER;CN="ALR136":MAILTO:chuck.warren@dignitymemorial.com
END:VEVENT
END:VCALENDAR