BEGIN:VCALENDAR
VERSION:2.0
PRODID:-//Florida American Legion - ECPv6.15.20//NONSGML v1.0//EN
CALSCALE:GREGORIAN
METHOD:PUBLISH
X-WR-CALNAME:Florida American Legion
X-ORIGINAL-URL:https://www.floridalegion.org
X-WR-CALDESC:Events for Florida American Legion
REFRESH-INTERVAL;VALUE=DURATION:PT1H
X-Robots-Tag:noindex
X-PUBLISHED-TTL:PT1H
BEGIN:VTIMEZONE
TZID:America/New_York
BEGIN:DAYLIGHT
TZOFFSETFROM:-0500
TZOFFSETTO:-0400
TZNAME:EDT
DTSTART:20260308T070000
END:DAYLIGHT
BEGIN:STANDARD
TZOFFSETFROM:-0400
TZOFFSETTO:-0500
TZNAME:EST
DTSTART:20261101T060000
END:STANDARD
BEGIN:DAYLIGHT
TZOFFSETFROM:-0500
TZOFFSETTO:-0400
TZNAME:EDT
DTSTART:20270314T070000
END:DAYLIGHT
BEGIN:STANDARD
TZOFFSETFROM:-0400
TZOFFSETTO:-0500
TZNAME:EST
DTSTART:20271107T060000
END:STANDARD
BEGIN:DAYLIGHT
TZOFFSETFROM:-0500
TZOFFSETTO:-0400
TZNAME:EDT
DTSTART:20280312T070000
END:DAYLIGHT
BEGIN:STANDARD
TZOFFSETFROM:-0400
TZOFFSETTO:-0500
TZNAME:EST
DTSTART:20281105T060000
END:STANDARD
END:VTIMEZONE
BEGIN:VEVENT
DTSTART;TZID=America/New_York:20270125T173000
DTEND;TZID=America/New_York:20270125T190000
DTSTAMP:20260421T102724
CREATED:20240308T134054Z
LAST-MODIFIED:20240528T201036Z
UID:10006942-1800898200-1800903600@www.floridalegion.org
SUMMARY:Chapter 316: ALR Burgers and Bingo
DESCRIPTION:Serving burger\, dogs etc. during Monday night Bingo
URL:https://www.floridalegion.org/event/chapter-316-alr-burgers-and-bingo/2027-01-25/
LOCATION:ALR 316\, 1127 Atlantic Blvd.\, Atlantic Beach\, 32233\, United States
CATEGORIES:Post Events
ORGANIZER;CN="Denise Strickland":MAILTO:dndfishing@aol.com
END:VEVENT
BEGIN:VEVENT
DTSTART;TZID=America/New_York:20270129T090000
DTEND;TZID=America/New_York:20270130T160000
DTSTAMP:20260421T102724
CREATED:20260327T181830Z
LAST-MODIFIED:20260327T181830Z
UID:10010159-1801213200-1801324800@www.floridalegion.org
SUMMARY:12th Annual Veterans Expo
DESCRIPTION:The event will be held at Highlands Post 69\, 1301 W. Bell St.\, Avon Park\, on January 29–30\, 2027\, from 9:00 a.m. to 4:00 p.m. both days. On Friday\, January 29\, the assembly for the escort of the Vietnam and GWOT Walls will begin at 9:00 a.m. On Saturday\, January 30\, the ceremony will begin at 10:00 a.m.\, followed immediately by the presentation of Quilts of Valor.
URL:https://www.floridalegion.org/event/12th-annual-veterans-expo/
LOCATION:Post 69 Highlands\, 1301 W Bell St\, Avon Park\, FL\, 33825-3419\, USA
CATEGORIES:Post Events
END:VEVENT
BEGIN:VEVENT
DTSTART;TZID=America/New_York:20270129T170000
DTEND;TZID=America/New_York:20270129T200000
DTSTAMP:20260421T102724
CREATED:20230911T153910Z
LAST-MODIFIED:20231002T134313Z
UID:10005755-1801242000-1801252800@www.floridalegion.org
SUMMARY:Post 316: Steak & Salmon Dinner
DESCRIPTION:American Legion Post 316 Steak & Salmon every Friday night \nDownload Flyer
URL:https://www.floridalegion.org/event/post-316-steak-salmon-dinner/2027-01-29/
LOCATION:American Legion Post 316\, 1127 Atlantic Blvd\, Atlantic Beach\, 32233\, United States
CATEGORIES:Post Events
END:VEVENT
END:VCALENDAR