BEGIN:VCALENDAR
VERSION:2.0
PRODID:-//Florida American Legion - ECPv6.15.20//NONSGML v1.0//EN
CALSCALE:GREGORIAN
METHOD:PUBLISH
X-WR-CALNAME:Florida American Legion
X-ORIGINAL-URL:https://www.floridalegion.org
X-WR-CALDESC:Events for Florida American Legion
REFRESH-INTERVAL;VALUE=DURATION:PT1H
X-Robots-Tag:noindex
X-PUBLISHED-TTL:PT1H
BEGIN:VTIMEZONE
TZID:America/New_York
BEGIN:DAYLIGHT
TZOFFSETFROM:-0500
TZOFFSETTO:-0400
TZNAME:EDT
DTSTART:20230312T070000
END:DAYLIGHT
BEGIN:STANDARD
TZOFFSETFROM:-0400
TZOFFSETTO:-0500
TZNAME:EST
DTSTART:20231105T060000
END:STANDARD
BEGIN:DAYLIGHT
TZOFFSETFROM:-0500
TZOFFSETTO:-0400
TZNAME:EDT
DTSTART:20240310T070000
END:DAYLIGHT
BEGIN:STANDARD
TZOFFSETFROM:-0400
TZOFFSETTO:-0500
TZNAME:EST
DTSTART:20241103T060000
END:STANDARD
BEGIN:DAYLIGHT
TZOFFSETFROM:-0500
TZOFFSETTO:-0400
TZNAME:EDT
DTSTART:20250309T070000
END:DAYLIGHT
BEGIN:STANDARD
TZOFFSETFROM:-0400
TZOFFSETTO:-0500
TZNAME:EST
DTSTART:20251102T060000
END:STANDARD
END:VTIMEZONE
BEGIN:VEVENT
DTSTART;VALUE=DATE:20240501
DTEND;VALUE=DATE:20240601
DTSTAMP:20260421T151245
CREATED:20230524T134218Z
LAST-MODIFIED:20230804T122955Z
UID:10005337-1714521600-1717199999@www.floridalegion.org
SUMMARY:Month of the Military Caregiver
DESCRIPTION:
URL:https://www.floridalegion.org/event/month-of-the-military-caregiver/
CATEGORIES:National Events,Other Events
END:VEVENT
BEGIN:VEVENT
DTSTART;VALUE=DATE:20240501
DTEND;VALUE=DATE:20240601
DTSTAMP:20260421T151245
CREATED:20230524T134236Z
LAST-MODIFIED:20230804T122957Z
UID:10005338-1714521600-1717199999@www.floridalegion.org
SUMMARY:Military Appreciation Month
DESCRIPTION:
URL:https://www.floridalegion.org/event/military-appreciation-month-2/
CATEGORIES:National Events,Other Events
END:VEVENT
BEGIN:VEVENT
DTSTART;VALUE=DATE:20240520
DTEND;VALUE=DATE:20240521
DTSTAMP:20260421T151245
CREATED:20230524T135229Z
LAST-MODIFIED:20230804T123108Z
UID:10005359-1716163200-1716249599@www.floridalegion.org
SUMMARY:Emancipation Day (FL)
DESCRIPTION:
URL:https://www.floridalegion.org/event/emancipation-day-fl/
CATEGORIES:Other Events
END:VEVENT
BEGIN:VEVENT
DTSTART;VALUE=DATE:20240522
DTEND;VALUE=DATE:20240523
DTSTAMP:20260421T151245
CREATED:20230524T135243Z
LAST-MODIFIED:20230804T123113Z
UID:10005360-1716336000-1716422399@www.floridalegion.org
SUMMARY:Maritime Day
DESCRIPTION:
URL:https://www.floridalegion.org/event/maritime-day/
CATEGORIES:Other Events
END:VEVENT
BEGIN:VEVENT
DTSTART;VALUE=DATE:20240524
DTEND;VALUE=DATE:20240525
DTSTAMP:20260421T151245
CREATED:20230524T135303Z
LAST-MODIFIED:20230804T123117Z
UID:10005361-1716508800-1716595199@www.floridalegion.org
SUMMARY:Poppy Day
DESCRIPTION:
URL:https://www.floridalegion.org/event/poppy-day-2/
CATEGORIES:Auxiliary Events,Other Events,Program Events
END:VEVENT
BEGIN:VEVENT
DTSTART;VALUE=DATE:20240525
DTEND;VALUE=DATE:20240526
DTSTAMP:20260421T151245
CREATED:20230524T135319Z
LAST-MODIFIED:20230804T123119Z
UID:10005362-1716595200-1716681599@www.floridalegion.org
SUMMARY:Missing Children's Day
DESCRIPTION:
URL:https://www.floridalegion.org/event/missing-childrens-day/
CATEGORIES:Other Events
END:VEVENT
BEGIN:VEVENT
DTSTART;TZID=America/New_York:20240525T083000
DTEND;TZID=America/New_York:20240525T120000
DTSTAMP:20260421T151245
CREATED:20231009T174449Z
LAST-MODIFIED:20231009T174449Z
UID:10006108-1716625800-1716638400@www.floridalegion.org
SUMMARY:District 5: DCC
DESCRIPTION:Registration: 8:30 am\nStart: 9:30 am
URL:https://www.floridalegion.org/event/district-5-dcc-3/
LOCATION:Post 137 Lake Shore\, 5443 San Juan Ave\, Jacksonville\, FL\, 32210-3143\, USA
CATEGORIES:Department Events,Other Events
END:VEVENT
END:VCALENDAR