BEGIN:VCALENDAR
VERSION:2.0
PRODID:-//Florida American Legion - ECPv6.15.20//NONSGML v1.0//EN
CALSCALE:GREGORIAN
METHOD:PUBLISH
X-ORIGINAL-URL:https://www.floridalegion.org
X-WR-CALDESC:Events for Florida American Legion
REFRESH-INTERVAL;VALUE=DURATION:PT1H
X-Robots-Tag:noindex
X-PUBLISHED-TTL:PT1H
BEGIN:VTIMEZONE
TZID:America/New_York
BEGIN:DAYLIGHT
TZOFFSETFROM:-0500
TZOFFSETTO:-0400
TZNAME:EDT
DTSTART:20250309T070000
END:DAYLIGHT
BEGIN:STANDARD
TZOFFSETFROM:-0400
TZOFFSETTO:-0500
TZNAME:EST
DTSTART:20251102T060000
END:STANDARD
BEGIN:DAYLIGHT
TZOFFSETFROM:-0500
TZOFFSETTO:-0400
TZNAME:EDT
DTSTART:20260308T070000
END:DAYLIGHT
BEGIN:STANDARD
TZOFFSETFROM:-0400
TZOFFSETTO:-0500
TZNAME:EST
DTSTART:20261101T060000
END:STANDARD
BEGIN:DAYLIGHT
TZOFFSETFROM:-0500
TZOFFSETTO:-0400
TZNAME:EDT
DTSTART:20270314T070000
END:DAYLIGHT
BEGIN:STANDARD
TZOFFSETFROM:-0400
TZOFFSETTO:-0500
TZNAME:EST
DTSTART:20271107T060000
END:STANDARD
END:VTIMEZONE
BEGIN:VTIMEZONE
TZID:America/Chicago
BEGIN:DAYLIGHT
TZOFFSETFROM:-0600
TZOFFSETTO:-0500
TZNAME:CDT
DTSTART:20250309T080000
END:DAYLIGHT
BEGIN:STANDARD
TZOFFSETFROM:-0500
TZOFFSETTO:-0600
TZNAME:CST
DTSTART:20251102T070000
END:STANDARD
BEGIN:DAYLIGHT
TZOFFSETFROM:-0600
TZOFFSETTO:-0500
TZNAME:CDT
DTSTART:20260308T080000
END:DAYLIGHT
BEGIN:STANDARD
TZOFFSETFROM:-0500
TZOFFSETTO:-0600
TZNAME:CST
DTSTART:20261101T070000
END:STANDARD
BEGIN:DAYLIGHT
TZOFFSETFROM:-0600
TZOFFSETTO:-0500
TZNAME:CDT
DTSTART:20270314T080000
END:DAYLIGHT
BEGIN:STANDARD
TZOFFSETFROM:-0500
TZOFFSETTO:-0600
TZNAME:CST
DTSTART:20271107T070000
END:STANDARD
END:VTIMEZONE
BEGIN:VEVENT
DTSTART;VALUE=DATE:20260321
DTEND;VALUE=DATE:20260322
DTSTAMP:20260424T130956
CREATED:20250711T135918Z
LAST-MODIFIED:20250711T135918Z
UID:10009346-1774051200-1774137599@www.floridalegion.org
SUMMARY:Rosie the Riveter Day
DESCRIPTION:
URL:https://www.floridalegion.org/event/rosie-the-riveter-day-2/
CATEGORIES:Other Events
END:VEVENT
BEGIN:VEVENT
DTSTART;VALUE=DATE:20260325
DTEND;VALUE=DATE:20260326
DTSTAMP:20260424T130956
CREATED:20250711T135348Z
LAST-MODIFIED:20250711T135348Z
UID:10009335-1774396800-1774483199@www.floridalegion.org
SUMMARY:Medal of Honor Day
DESCRIPTION:
URL:https://www.floridalegion.org/event/medal-of-honor-day-3/
CATEGORIES:Other Events
END:VEVENT
BEGIN:VEVENT
DTSTART;VALUE=DATE:20260327
DTEND;VALUE=DATE:20260328
DTSTAMP:20260424T130956
CREATED:20250703T172329Z
LAST-MODIFIED:20250703T172329Z
UID:10008952-1774569600-1774655999@www.floridalegion.org
SUMMARY:R.E.D. Friday
DESCRIPTION:Don’t forget to wear RED (Remember Everyone Deployed)
URL:https://www.floridalegion.org/event/r-e-d-friday/2026-03-27/
CATEGORIES:Other Events
END:VEVENT
BEGIN:VEVENT
DTSTART;VALUE=DATE:20260329
DTEND;VALUE=DATE:20260330
DTSTAMP:20260424T130956
CREATED:20250711T135423Z
LAST-MODIFIED:20250711T135423Z
UID:10009336-1774742400-1774828799@www.floridalegion.org
SUMMARY:National Vietnam War Veterans Day
DESCRIPTION:
URL:https://www.floridalegion.org/event/national-vietnam-war-veterans-day/
CATEGORIES:Other Events
END:VEVENT
BEGIN:VEVENT
DTSTART;VALUE=DATE:20260401
DTEND;VALUE=DATE:20260402
DTSTAMP:20260424T130956
CREATED:20250711T140057Z
LAST-MODIFIED:20250711T140057Z
UID:10009349-1775001600-1775087999@www.floridalegion.org
SUMMARY:April Fool's Day
DESCRIPTION:
URL:https://www.floridalegion.org/event/april-fools-day/
CATEGORIES:Other Events
END:VEVENT
BEGIN:VEVENT
DTSTART;VALUE=DATE:20260401
DTEND;VALUE=DATE:20260410
DTSTAMP:20260424T130956
CREATED:20250711T140235Z
LAST-MODIFIED:20250711T140235Z
UID:10009353-1775001600-1775779199@www.floridalegion.org
SUMMARY:Passover
DESCRIPTION:
URL:https://www.floridalegion.org/event/passover/
CATEGORIES:Other Events
END:VEVENT
BEGIN:VEVENT
DTSTART;VALUE=DATE:20260401
DTEND;VALUE=DATE:20260501
DTSTAMP:20260424T130956
CREATED:20250711T141004Z
LAST-MODIFIED:20250711T141004Z
UID:10009366-1775001600-1777593599@www.floridalegion.org
SUMMARY:Month of the Military Child
DESCRIPTION:
URL:https://www.floridalegion.org/event/month-of-the-military-child-3/
CATEGORIES:Other Events
END:VEVENT
BEGIN:VEVENT
DTSTART;VALUE=DATE:20260401
DTEND;VALUE=DATE:20260501
DTSTAMP:20260424T130956
CREATED:20250711T141019Z
LAST-MODIFIED:20250711T141019Z
UID:10009367-1775001600-1777593599@www.floridalegion.org
SUMMARY:Military Saves Month
DESCRIPTION:
URL:https://www.floridalegion.org/event/military-saves-month-2/
CATEGORIES:Other Events
END:VEVENT
BEGIN:VEVENT
DTSTART;VALUE=DATE:20260401
DTEND;VALUE=DATE:20260501
DTSTAMP:20260424T130956
CREATED:20250711T141042Z
LAST-MODIFIED:20250711T141042Z
UID:10009368-1775001600-1777593599@www.floridalegion.org
SUMMARY:Children & Youth Month
DESCRIPTION:
URL:https://www.floridalegion.org/event/children-youth-month-3/
CATEGORIES:Other Events,Program Events
END:VEVENT
BEGIN:VEVENT
DTSTART;VALUE=DATE:20260403
DTEND;VALUE=DATE:20260404
DTSTAMP:20260424T130956
CREATED:20250703T172329Z
LAST-MODIFIED:20250703T172329Z
UID:10008953-1775174400-1775260799@www.floridalegion.org
SUMMARY:R.E.D. Friday
DESCRIPTION:Don’t forget to wear RED (Remember Everyone Deployed)
URL:https://www.floridalegion.org/event/r-e-d-friday/2026-04-03/
CATEGORIES:Other Events
END:VEVENT
BEGIN:VEVENT
DTSTART;VALUE=DATE:20260403
DTEND;VALUE=DATE:20260404
DTSTAMP:20260424T130956
CREATED:20250711T141223Z
LAST-MODIFIED:20250711T141223Z
UID:10009371-1775174400-1775260799@www.floridalegion.org
SUMMARY:Good Friday
DESCRIPTION:
URL:https://www.floridalegion.org/event/good-friday-3/
CATEGORIES:Other Events
END:VEVENT
BEGIN:VEVENT
DTSTART;VALUE=DATE:20260403
DTEND;VALUE=DATE:20260404
DTSTAMP:20260424T130956
CREATED:20250711T141245Z
LAST-MODIFIED:20250711T141245Z
UID:10009372-1775174400-1775260799@www.floridalegion.org
SUMMARY:Department Headquarters Closed
DESCRIPTION:
URL:https://www.floridalegion.org/event/department-headquarters-closed-4/
CATEGORIES:Department Events,Other Events
END:VEVENT
BEGIN:VEVENT
DTSTART;VALUE=DATE:20260405
DTEND;VALUE=DATE:20260406
DTSTAMP:20260424T130956
CREATED:20250711T140330Z
LAST-MODIFIED:20250711T140330Z
UID:10009354-1775347200-1775433599@www.floridalegion.org
SUMMARY:Gold Star Spouses Day
DESCRIPTION:
URL:https://www.floridalegion.org/event/gold-star-spouses-day-2/
CATEGORIES:Other Events
END:VEVENT
BEGIN:VEVENT
DTSTART;VALUE=DATE:20260405
DTEND;VALUE=DATE:20260406
DTSTAMP:20260424T130956
CREATED:20250711T140350Z
LAST-MODIFIED:20250711T140350Z
UID:10009355-1775347200-1775433599@www.floridalegion.org
SUMMARY:Easter
DESCRIPTION:
URL:https://www.floridalegion.org/event/easter-3/
CATEGORIES:Other Events
END:VEVENT
BEGIN:VEVENT
DTSTART;VALUE=DATE:20260406
DTEND;VALUE=DATE:20260407
DTSTAMP:20260424T130956
CREATED:20250711T140506Z
LAST-MODIFIED:20250711T140506Z
UID:10009356-1775433600-1775519999@www.floridalegion.org
SUMMARY:US Entry into WWI (1917)
DESCRIPTION:
URL:https://www.floridalegion.org/event/us-entry-into-wwi-1917-2/
CATEGORIES:Other Events
END:VEVENT
BEGIN:VEVENT
DTSTART;VALUE=DATE:20260409
DTEND;VALUE=DATE:20260410
DTSTAMP:20260424T130956
CREATED:20250711T141338Z
LAST-MODIFIED:20250711T141338Z
UID:10009374-1775692800-1775779199@www.floridalegion.org
SUMMARY:National Former POW Recognition Day
DESCRIPTION:
URL:https://www.floridalegion.org/event/national-former-pow-recognition-day/
CATEGORIES:Other Events
END:VEVENT
BEGIN:VEVENT
DTSTART;VALUE=DATE:20260410
DTEND;VALUE=DATE:20260411
DTSTAMP:20260424T130956
CREATED:20250703T172329Z
LAST-MODIFIED:20250703T172329Z
UID:10008954-1775779200-1775865599@www.floridalegion.org
SUMMARY:R.E.D. Friday
DESCRIPTION:Don’t forget to wear RED (Remember Everyone Deployed)
URL:https://www.floridalegion.org/event/r-e-d-friday/2026-04-10/
CATEGORIES:Other Events
END:VEVENT
BEGIN:VEVENT
DTSTART;VALUE=DATE:20260410
DTEND;VALUE=DATE:20260411
DTSTAMP:20260424T130956
CREATED:20250711T141423Z
LAST-MODIFIED:20250711T141423Z
UID:10009376-1775779200-1775865599@www.floridalegion.org
SUMMARY:Purple Up! For Military Kids Day
DESCRIPTION:
URL:https://www.floridalegion.org/event/purple-up-for-military-kids-day-2/
CATEGORIES:Other Events,Program Events
END:VEVENT
BEGIN:VEVENT
DTSTART;VALUE=DATE:20260413
DTEND;VALUE=DATE:20260414
DTSTAMP:20260424T130956
CREATED:20250711T140605Z
LAST-MODIFIED:20250711T140605Z
UID:10009358-1776038400-1776124799@www.floridalegion.org
SUMMARY:Thomas Jefferson's Birthday (1743)
DESCRIPTION:
URL:https://www.floridalegion.org/event/thomas-jeffersons-birthday-1743/
CATEGORIES:Other Events
END:VEVENT
BEGIN:VEVENT
DTSTART;VALUE=DATE:20260414
DTEND;VALUE=DATE:20260415
DTSTAMP:20260424T130956
CREATED:20250711T140636Z
LAST-MODIFIED:20250711T140636Z
UID:10009359-1776124800-1776211199@www.floridalegion.org
SUMMARY:Air Force Reserve Birthday (1948)
DESCRIPTION:
URL:https://www.floridalegion.org/event/air-force-reserve-birthday-1948/
CATEGORIES:Other Events
END:VEVENT
BEGIN:VEVENT
DTSTART;VALUE=DATE:20260415
DTEND;VALUE=DATE:20260416
DTSTAMP:20260424T130956
CREATED:20250711T140651Z
LAST-MODIFIED:20250711T140651Z
UID:10009360-1776211200-1776297599@www.floridalegion.org
SUMMARY:Tax Day
DESCRIPTION:
URL:https://www.floridalegion.org/event/tax-day-3/
CATEGORIES:Other Events
END:VEVENT
BEGIN:VEVENT
DTSTART;VALUE=DATE:20260415
DTEND;VALUE=DATE:20260416
DTSTAMP:20260424T130956
CREATED:20250711T140730Z
LAST-MODIFIED:20250711T140730Z
UID:10009361-1776211200-1776297599@www.floridalegion.org
SUMMARY:Law & Order End of the Year Award Applications Due
DESCRIPTION:
URL:https://www.floridalegion.org/event/law-order-end-of-the-year-award-applications-due/
CATEGORIES:Other Events
END:VEVENT
BEGIN:VEVENT
DTSTART;VALUE=DATE:20260417
DTEND;VALUE=DATE:20260418
DTSTAMP:20260424T130956
CREATED:20250703T172329Z
LAST-MODIFIED:20250703T172329Z
UID:10008955-1776384000-1776470399@www.floridalegion.org
SUMMARY:R.E.D. Friday
DESCRIPTION:Don’t forget to wear RED (Remember Everyone Deployed)
URL:https://www.floridalegion.org/event/r-e-d-friday/2026-04-17/
CATEGORIES:Other Events
END:VEVENT
BEGIN:VEVENT
DTSTART;VALUE=DATE:20260419
DTEND;VALUE=DATE:20260420
DTSTAMP:20260424T130956
CREATED:20250711T140758Z
LAST-MODIFIED:20250711T140758Z
UID:10009362-1776556800-1776643199@www.floridalegion.org
SUMMARY:ALR Unity Ride Meet & Greet
DESCRIPTION:
URL:https://www.floridalegion.org/event/alr-unity-ride-meet-greet/
CATEGORIES:Commanders,Legion Riders,Other Events,Program Events
END:VEVENT
BEGIN:VEVENT
DTSTART;VALUE=DATE:20260422
DTEND;VALUE=DATE:20260423
DTSTAMP:20260424T130956
CREATED:20250711T140914Z
LAST-MODIFIED:20250711T140914Z
UID:10009364-1776816000-1776902399@www.floridalegion.org
SUMMARY:Administrative Professionals Day
DESCRIPTION:
URL:https://www.floridalegion.org/event/administrative-professionals-day-3/
CATEGORIES:Other Events
END:VEVENT
BEGIN:VEVENT
DTSTART;VALUE=DATE:20260422
DTEND;VALUE=DATE:20260423
DTSTAMP:20260424T130956
CREATED:20250711T140933Z
LAST-MODIFIED:20250711T140933Z
UID:10009365-1776816000-1776902399@www.floridalegion.org
SUMMARY:Earth Day
DESCRIPTION:
URL:https://www.floridalegion.org/event/earth-day-3/
CATEGORIES:Other Events
END:VEVENT
BEGIN:VEVENT
DTSTART;VALUE=DATE:20260423
DTEND;VALUE=DATE:20260424
DTSTAMP:20260424T130956
CREATED:20250711T141521Z
LAST-MODIFIED:20250711T141521Z
UID:10009378-1776902400-1776988799@www.floridalegion.org
SUMMARY:Army Reserve Birthday (1908)
DESCRIPTION:
URL:https://www.floridalegion.org/event/army-reserve-birthday-1908/
CATEGORIES:Other Events
END:VEVENT
BEGIN:VEVENT
DTSTART;VALUE=DATE:20260424
DTEND;VALUE=DATE:20260425
DTSTAMP:20260424T130956
CREATED:20250703T172329Z
LAST-MODIFIED:20250703T172329Z
UID:10008956-1776988800-1777075199@www.floridalegion.org
SUMMARY:R.E.D. Friday
DESCRIPTION:Don’t forget to wear RED (Remember Everyone Deployed)
URL:https://www.floridalegion.org/event/r-e-d-friday/2026-04-24/
CATEGORIES:Other Events
END:VEVENT
BEGIN:VEVENT
DTSTART;VALUE=DATE:20260425
DTEND;VALUE=DATE:20260426
DTSTAMP:20260424T130956
CREATED:20250711T141545Z
LAST-MODIFIED:20250711T141545Z
UID:10009379-1777075200-1777161599@www.floridalegion.org
SUMMARY:Arbor Day
DESCRIPTION:
URL:https://www.floridalegion.org/event/arbor-day-3/
CATEGORIES:Other Events
END:VEVENT
BEGIN:VEVENT
DTSTART;TZID=America/Chicago:20260425T090000
DTEND;TZID=America/Chicago:20260426T160000
DTSTAMP:20260424T130956
CREATED:20260424T135436Z
LAST-MODIFIED:20260424T135436Z
UID:10010196-1777107600-1777219200@www.floridalegion.org
SUMMARY:Post 78: Young Patriots Weekend
DESCRIPTION:https://facebook.com/events/s/young-patriots-weekend-america/1363092215651276/ \n\n  \nYoung Patriots Weekend | American Legion Post 78 \n🇺🇸 Young Patriots Weekend – Building the Next Generation 🇺🇸 \nJoin us for a powerful two-day community event focused on leadership\, service\, and hands-on learning. \n📅 Saturday\, April 25 (9AM–3PM) \n🔹 Stop the Bleed Training\n🔹 JROTC Leadership & Drill\n🔹 Historical Weapons\n🔹 Civic Responsibility\n🔹 Flag Etiquette\n🔹 “Minefield” Mission Challenge\n🔹 OneBlood Blood Drive\n🔹 Veteran & Family Resources \n📅 Sunday\, April 26 (1PM–4PM)\n🔹 Four Chaplains Ceremony\n🔹 Flag Retirement Ceremony \n💥 Featuring community partners including emergency services\, JROTC units\, Scouts\, and more. \nThis event is designed to prepare\, educate\, and inspire the next generation\, while connecting veterans\, families\, and the local community. \n📍 6025 Spikes Way\, Milton\, FL\n📞 850-426-6972\n📧 amleg6025@gmail.com \n👉 Open to families\, youth\, and community members\n👉 Come out. Get involved. Be part of something meaningful.
URL:https://www.floridalegion.org/event/post-78-young-patriots-weekend/
LOCATION:Post 78 Norman A Garrett\, 6025 Spikes Way\, Milton\, FL\, 32583-2887\, USA
CATEGORIES:Auxiliary Events,District Events,Legion Riders,Other Events,Post Events,Program Events,SAL Events
ATTACH;FMTTYPE=image/jpeg:https://www.floridalegion.org/wp-content/uploads/2026/04/Young-patriots2-Mission-Challenge.jpg
ORGANIZER;CN="Will Pohlman":MAILTO:william.d.pohlman@outlook.com
END:VEVENT
END:VCALENDAR