BEGIN:VCALENDAR
VERSION:2.0
PRODID:-//Florida American Legion - ECPv6.15.20//NONSGML v1.0//EN
CALSCALE:GREGORIAN
METHOD:PUBLISH
X-WR-CALNAME:Florida American Legion
X-ORIGINAL-URL:https://www.floridalegion.org
X-WR-CALDESC:Events for Florida American Legion
REFRESH-INTERVAL;VALUE=DURATION:PT1H
X-Robots-Tag:noindex
X-PUBLISHED-TTL:PT1H
BEGIN:VTIMEZONE
TZID:America/New_York
BEGIN:DAYLIGHT
TZOFFSETFROM:-0500
TZOFFSETTO:-0400
TZNAME:EDT
DTSTART:20240310T070000
END:DAYLIGHT
BEGIN:STANDARD
TZOFFSETFROM:-0400
TZOFFSETTO:-0500
TZNAME:EST
DTSTART:20241103T060000
END:STANDARD
BEGIN:DAYLIGHT
TZOFFSETFROM:-0500
TZOFFSETTO:-0400
TZNAME:EDT
DTSTART:20250309T070000
END:DAYLIGHT
BEGIN:STANDARD
TZOFFSETFROM:-0400
TZOFFSETTO:-0500
TZNAME:EST
DTSTART:20251102T060000
END:STANDARD
BEGIN:DAYLIGHT
TZOFFSETFROM:-0500
TZOFFSETTO:-0400
TZNAME:EDT
DTSTART:20260308T070000
END:DAYLIGHT
BEGIN:STANDARD
TZOFFSETFROM:-0400
TZOFFSETTO:-0500
TZNAME:EST
DTSTART:20261101T060000
END:STANDARD
END:VTIMEZONE
BEGIN:VEVENT
DTSTART;TZID=America/New_York:20250603T080000
DTEND;TZID=America/New_York:20250603T170000
DTSTAMP:20260422T024758
CREATED:20240703T150606Z
LAST-MODIFIED:20240703T150606Z
UID:10008238-1748937600-1748970000@www.floridalegion.org
SUMMARY:Jefferson Davis's Birthday
DESCRIPTION:
URL:https://www.floridalegion.org/event/jefferson-daviss-birthday-2/
CATEGORIES:Other Events
END:VEVENT
BEGIN:VEVENT
DTSTART;VALUE=DATE:20250606
DTEND;VALUE=DATE:20250607
DTSTAMP:20260422T024758
CREATED:20240703T150623Z
LAST-MODIFIED:20240703T150623Z
UID:10008239-1749168000-1749254399@www.floridalegion.org
SUMMARY:D-Day (1944)
DESCRIPTION:
URL:https://www.floridalegion.org/event/d-day-1944-2/
CATEGORIES:Other Events
END:VEVENT
BEGIN:VEVENT
DTSTART;VALUE=DATE:20250612
DTEND;VALUE=DATE:20250613
DTSTAMP:20260422T024758
CREATED:20240703T150643Z
LAST-MODIFIED:20240703T150643Z
UID:10008240-1749686400-1749772799@www.floridalegion.org
SUMMARY:Women Veterans Day
DESCRIPTION:
URL:https://www.floridalegion.org/event/women-veterans-day/
CATEGORIES:Other Events,Program Events
END:VEVENT
BEGIN:VEVENT
DTSTART;VALUE=DATE:20250614
DTEND;VALUE=DATE:20250615
DTSTAMP:20260422T024758
CREATED:20240703T151028Z
LAST-MODIFIED:20240703T151036Z
UID:10008245-1749859200-1749945599@www.floridalegion.org
SUMMARY:US Army Birthday (1775)
DESCRIPTION:
URL:https://www.floridalegion.org/event/us-army-birthday-1775/
CATEGORIES:Other Events
END:VEVENT
BEGIN:VEVENT
DTSTART;VALUE=DATE:20250614
DTEND;VALUE=DATE:20250615
DTSTAMP:20260422T024758
CREATED:20240703T151053Z
LAST-MODIFIED:20240703T151053Z
UID:10008246-1749859200-1749945599@www.floridalegion.org
SUMMARY:Flag Day
DESCRIPTION:
URL:https://www.floridalegion.org/event/flag-day/
CATEGORIES:Other Events
END:VEVENT
BEGIN:VEVENT
DTSTART;VALUE=DATE:20250615
DTEND;VALUE=DATE:20250616
DTSTAMP:20260422T024758
CREATED:20240703T151113Z
LAST-MODIFIED:20240703T151113Z
UID:10008247-1749945600-1750031999@www.floridalegion.org
SUMMARY:Father's Day
DESCRIPTION:
URL:https://www.floridalegion.org/event/fathers-day/
CATEGORIES:Other Events
END:VEVENT
BEGIN:VEVENT
DTSTART;VALUE=DATE:20250619
DTEND;VALUE=DATE:20250620
DTSTAMP:20260422T024758
CREATED:20240703T151254Z
LAST-MODIFIED:20240703T151254Z
UID:10008250-1750291200-1750377599@www.floridalegion.org
SUMMARY:Juneteenth
DESCRIPTION:
URL:https://www.floridalegion.org/event/juneteenth-2/
CATEGORIES:Other Events
END:VEVENT
BEGIN:VEVENT
DTSTART;VALUE=DATE:20250619
DTEND;VALUE=DATE:20250620
DTSTAMP:20260422T024758
CREATED:20240703T151318Z
LAST-MODIFIED:20240703T151318Z
UID:10008251-1750291200-1750377599@www.floridalegion.org
SUMMARY:Department Headquarters Closed
DESCRIPTION:
URL:https://www.floridalegion.org/event/department-headquarters-closed-30/
CATEGORIES:Department Events,Other Events
END:VEVENT
BEGIN:VEVENT
DTSTART;VALUE=DATE:20250620
DTEND;VALUE=DATE:20250621
DTSTAMP:20260422T024758
CREATED:20240703T151335Z
LAST-MODIFIED:20240703T151335Z
UID:10008252-1750377600-1750463999@www.floridalegion.org
SUMMARY:First Day of Summer
DESCRIPTION:
URL:https://www.floridalegion.org/event/first-day-of-summer/
CATEGORIES:Other Events
END:VEVENT
BEGIN:VEVENT
DTSTART;VALUE=DATE:20250620
DTEND;VALUE=DATE:20250621
DTSTAMP:20260422T024758
CREATED:20240703T151355Z
LAST-MODIFIED:20240703T151355Z
UID:10008253-1750377600-1750463999@www.floridalegion.org
SUMMARY:American Eagle Day
DESCRIPTION:
URL:https://www.floridalegion.org/event/american-eagle-day/
CATEGORIES:Other Events
END:VEVENT
BEGIN:VEVENT
DTSTART;VALUE=DATE:20250623
DTEND;VALUE=DATE:20250624
DTSTAMP:20260422T024758
CREATED:20240703T151424Z
LAST-MODIFIED:20240703T151424Z
UID:10008254-1750636800-1750723199@www.floridalegion.org
SUMMARY:US Coast Guard Auxiliary Birthday (1939)
DESCRIPTION:
URL:https://www.floridalegion.org/event/us-coast-guard-auxiliary-birthday-1939/
CATEGORIES:Other Events
END:VEVENT
BEGIN:VEVENT
DTSTART;VALUE=DATE:20250625
DTEND;VALUE=DATE:20250626
DTSTAMP:20260422T024758
CREATED:20240703T151445Z
LAST-MODIFIED:20240703T151445Z
UID:10008255-1750809600-1750895999@www.floridalegion.org
SUMMARY:Start of Korean War (1950)
DESCRIPTION:
URL:https://www.floridalegion.org/event/start-of-korean-war-1950/
CATEGORIES:Other Events
END:VEVENT
BEGIN:VEVENT
DTSTART;VALUE=DATE:20250627
DTEND;VALUE=DATE:20250628
DTSTAMP:20260422T024758
CREATED:20240703T151527Z
LAST-MODIFIED:20240703T151527Z
UID:10008256-1750982400-1751068799@www.floridalegion.org
SUMMARY:PTSD Awareness Day
DESCRIPTION:
URL:https://www.floridalegion.org/event/ptsd-awareness-day-2/
CATEGORIES:Other Events
END:VEVENT
END:VCALENDAR