BEGIN:VCALENDAR
VERSION:2.0
PRODID:-//Florida American Legion - ECPv6.15.20//NONSGML v1.0//EN
CALSCALE:GREGORIAN
METHOD:PUBLISH
X-WR-CALNAME:Florida American Legion
X-ORIGINAL-URL:https://www.floridalegion.org
X-WR-CALDESC:Events for Florida American Legion
REFRESH-INTERVAL;VALUE=DURATION:PT1H
X-Robots-Tag:noindex
X-PUBLISHED-TTL:PT1H
BEGIN:VTIMEZONE
TZID:America/New_York
BEGIN:DAYLIGHT
TZOFFSETFROM:-0500
TZOFFSETTO:-0400
TZNAME:EDT
DTSTART:20230312T070000
END:DAYLIGHT
BEGIN:STANDARD
TZOFFSETFROM:-0400
TZOFFSETTO:-0500
TZNAME:EST
DTSTART:20231105T060000
END:STANDARD
BEGIN:DAYLIGHT
TZOFFSETFROM:-0500
TZOFFSETTO:-0400
TZNAME:EDT
DTSTART:20240310T070000
END:DAYLIGHT
BEGIN:STANDARD
TZOFFSETFROM:-0400
TZOFFSETTO:-0500
TZNAME:EST
DTSTART:20241103T060000
END:STANDARD
BEGIN:DAYLIGHT
TZOFFSETFROM:-0500
TZOFFSETTO:-0400
TZNAME:EDT
DTSTART:20250309T070000
END:DAYLIGHT
BEGIN:STANDARD
TZOFFSETFROM:-0400
TZOFFSETTO:-0500
TZNAME:EST
DTSTART:20251102T060000
END:STANDARD
END:VTIMEZONE
BEGIN:VEVENT
DTSTART;VALUE=DATE:20240601
DTEND;VALUE=DATE:20240602
DTSTAMP:20260421T081941
CREATED:20230524T135757Z
LAST-MODIFIED:20230524T135757Z
UID:10005372-1717200000-1717286399@www.floridalegion.org
SUMMARY:Certification of Officers Due
DESCRIPTION:
URL:https://www.floridalegion.org/event/certification-of-officers-due/
CATEGORIES:Department Events,District Events,Other Events,Post Events,Program Events
END:VEVENT
BEGIN:VEVENT
DTSTART;VALUE=DATE:20240601
DTEND;VALUE=DATE:20240701
DTSTAMP:20260421T081941
CREATED:20230524T135627Z
LAST-MODIFIED:20230804T124038Z
UID:10005368-1717200000-1719791999@www.floridalegion.org
SUMMARY:PTSD Awareness Month
DESCRIPTION:
URL:https://www.floridalegion.org/event/ptsd-awareness-month/
CATEGORIES:Other Events
END:VEVENT
BEGIN:VEVENT
DTSTART;VALUE=DATE:20240603
DTEND;VALUE=DATE:20240604
DTSTAMP:20260421T081941
CREATED:20230524T135853Z
LAST-MODIFIED:20230804T124041Z
UID:10005374-1717372800-1717459199@www.floridalegion.org
SUMMARY:Jefferson Davis's Birthday
DESCRIPTION:
URL:https://www.floridalegion.org/event/jefferson-daviss-birthday/
CATEGORIES:Other Events
END:VEVENT
BEGIN:VEVENT
DTSTART;VALUE=DATE:20240606
DTEND;VALUE=DATE:20240607
DTSTAMP:20260421T081941
CREATED:20230524T135938Z
LAST-MODIFIED:20230804T124044Z
UID:10005376-1717632000-1717718399@www.floridalegion.org
SUMMARY:D-Day (1944)
DESCRIPTION:
URL:https://www.floridalegion.org/event/d-day-1944/
CATEGORIES:Other Events
END:VEVENT
BEGIN:VEVENT
DTSTART;VALUE=DATE:20240609
DTEND;VALUE=DATE:20240616
DTSTAMP:20260421T081941
CREATED:20230524T140002Z
LAST-MODIFIED:20230804T124051Z
UID:10005377-1717891200-1718495999@www.floridalegion.org
SUMMARY:Flag Week
DESCRIPTION:
URL:https://www.floridalegion.org/event/flag-week/
CATEGORIES:Other Events
END:VEVENT
BEGIN:VEVENT
DTSTART;VALUE=DATE:20240612
DTEND;VALUE=DATE:20240613
DTSTAMP:20260421T081941
CREATED:20230524T140020Z
LAST-MODIFIED:20230804T124049Z
UID:10005378-1718150400-1718236799@www.floridalegion.org
SUMMARY:Women Veterans Day
DESCRIPTION:
URL:https://www.floridalegion.org/event/women-veterans-day-3/
CATEGORIES:Other Events
END:VEVENT
BEGIN:VEVENT
DTSTART;VALUE=DATE:20240613
DTEND;VALUE=DATE:20240617
DTSTAMP:20260421T081941
CREATED:20200604T165451Z
LAST-MODIFIED:20200604T165452Z
UID:10003008-1718236800-1718582399@www.floridalegion.org
SUMMARY:Department Convention
DESCRIPTION:Additional Details >>
URL:https://www.floridalegion.org/event/department-convention-7/
LOCATION:Hilton Orlando Lake Buena Vista\, 1751 Hotel Plaza Blvd\, Lake Buena Vista \, FL\, 32830\, United States
CATEGORIES:All Categories,Commanders,Department Events,District Events,Legion Riders,Other Events,Program Events,Special Olympics
END:VEVENT
BEGIN:VEVENT
DTSTART;VALUE=DATE:20240616
DTEND;VALUE=DATE:20240617
DTSTAMP:20260421T081941
CREATED:20230524T140247Z
LAST-MODIFIED:20230804T123153Z
UID:10005381-1718496000-1718582399@www.floridalegion.org
SUMMARY:Father's Day
DESCRIPTION:
URL:https://www.floridalegion.org/event/fathers-day-2/
CATEGORIES:Other Events
END:VEVENT
BEGIN:VEVENT
DTSTART;TZID=America/New_York:20240616T140000
DTEND;TZID=America/New_York:20240616T180000
DTSTAMP:20260421T081941
CREATED:20230728T165852Z
LAST-MODIFIED:20230728T165852Z
UID:10005552-1718546400-1718560800@www.floridalegion.org
SUMMARY:Post 108: 4th Annual Flag Retirement & Patriotic Family Fun Day
DESCRIPTION:Post 108’s 4th Annual Flag Retirement & Patriotic Family Fun Day @ 1400\n@ Harvester Community Church\, 2432 Collier Parkway\, Land O’ Lakes 34639\nCome enjoy Food & Games\, and give the respect to our Nation’s Flag
URL:https://www.floridalegion.org/event/post-108-4th-annual-flag-retirement-patriotic-family-fun-day/
LOCATION:Harvester Community Church Land O’ Lakes\, FL\, United States
CATEGORIES:District Events,Other Events,Post Events
END:VEVENT
BEGIN:VEVENT
DTSTART;VALUE=DATE:20240619
DTEND;VALUE=DATE:20240620
DTSTAMP:20260421T081941
CREATED:20230524T140353Z
LAST-MODIFIED:20230804T123155Z
UID:10005383-1718755200-1718841599@www.floridalegion.org
SUMMARY:Juneteenth
DESCRIPTION:
URL:https://www.floridalegion.org/event/juneteenth/
CATEGORIES:Other Events
END:VEVENT
BEGIN:VEVENT
DTSTART;VALUE=DATE:20240620
DTEND;VALUE=DATE:20240621
DTSTAMP:20260421T081941
CREATED:20230524T140414Z
LAST-MODIFIED:20230804T123157Z
UID:10005384-1718841600-1718927999@www.floridalegion.org
SUMMARY:American Eagle Day
DESCRIPTION:
URL:https://www.floridalegion.org/event/american-eagle-day-2/
CATEGORIES:Other Events
END:VEVENT
BEGIN:VEVENT
DTSTART;VALUE=DATE:20240620
DTEND;VALUE=DATE:20240621
DTSTAMP:20260421T081941
CREATED:20230524T140439Z
LAST-MODIFIED:20230804T123200Z
UID:10005385-1718841600-1718927999@www.floridalegion.org
SUMMARY:First Day of Summer
DESCRIPTION:
URL:https://www.floridalegion.org/event/first-day-of-summer-2/
CATEGORIES:Other Events
END:VEVENT
BEGIN:VEVENT
DTSTART;VALUE=DATE:20240623
DTEND;VALUE=DATE:20240624
DTSTAMP:20260421T081941
CREATED:20230524T140529Z
LAST-MODIFIED:20230804T123203Z
UID:10005387-1719100800-1719187199@www.floridalegion.org
SUMMARY:U.S. Coast Guard Auxiliary Birthday
DESCRIPTION:
URL:https://www.floridalegion.org/event/u-s-coast-guard-auxiliary-birthday/
CATEGORIES:Other Events
END:VEVENT
BEGIN:VEVENT
DTSTART;VALUE=DATE:20240625
DTEND;VALUE=DATE:20240626
DTSTAMP:20260421T081941
CREATED:20230524T140552Z
LAST-MODIFIED:20230804T123205Z
UID:10005388-1719273600-1719359999@www.floridalegion.org
SUMMARY:Start of the Korean War (1950)
DESCRIPTION:
URL:https://www.floridalegion.org/event/start-of-the-korean-war-1950/
CATEGORIES:Other Events
END:VEVENT
BEGIN:VEVENT
DTSTART;VALUE=DATE:20240627
DTEND;VALUE=DATE:20240628
DTSTAMP:20260421T081941
CREATED:20230524T140616Z
LAST-MODIFIED:20230804T123207Z
UID:10005389-1719446400-1719532799@www.floridalegion.org
SUMMARY:PTSD Awareness Day
DESCRIPTION:
URL:https://www.floridalegion.org/event/ptsd-awareness-day/
CATEGORIES:Other Events,Program Events
END:VEVENT
END:VCALENDAR