BEGIN:VCALENDAR
VERSION:2.0
PRODID:-//Florida American Legion - ECPv6.15.20//NONSGML v1.0//EN
CALSCALE:GREGORIAN
METHOD:PUBLISH
X-WR-CALNAME:Florida American Legion
X-ORIGINAL-URL:https://www.floridalegion.org
X-WR-CALDESC:Events for Florida American Legion
REFRESH-INTERVAL;VALUE=DURATION:PT1H
X-Robots-Tag:noindex
X-PUBLISHED-TTL:PT1H
BEGIN:VTIMEZONE
TZID:America/New_York
BEGIN:DAYLIGHT
TZOFFSETFROM:-0500
TZOFFSETTO:-0400
TZNAME:EDT
DTSTART:20250309T070000
END:DAYLIGHT
BEGIN:STANDARD
TZOFFSETFROM:-0400
TZOFFSETTO:-0500
TZNAME:EST
DTSTART:20251102T060000
END:STANDARD
BEGIN:DAYLIGHT
TZOFFSETFROM:-0500
TZOFFSETTO:-0400
TZNAME:EDT
DTSTART:20260308T070000
END:DAYLIGHT
BEGIN:STANDARD
TZOFFSETFROM:-0400
TZOFFSETTO:-0500
TZNAME:EST
DTSTART:20261101T060000
END:STANDARD
BEGIN:DAYLIGHT
TZOFFSETFROM:-0500
TZOFFSETTO:-0400
TZNAME:EDT
DTSTART:20270314T070000
END:DAYLIGHT
BEGIN:STANDARD
TZOFFSETFROM:-0400
TZOFFSETTO:-0500
TZNAME:EST
DTSTART:20271107T060000
END:STANDARD
END:VTIMEZONE
BEGIN:VTIMEZONE
TZID:America/Chicago
BEGIN:DAYLIGHT
TZOFFSETFROM:-0600
TZOFFSETTO:-0500
TZNAME:CDT
DTSTART:20250309T080000
END:DAYLIGHT
BEGIN:STANDARD
TZOFFSETFROM:-0500
TZOFFSETTO:-0600
TZNAME:CST
DTSTART:20251102T070000
END:STANDARD
BEGIN:DAYLIGHT
TZOFFSETFROM:-0600
TZOFFSETTO:-0500
TZNAME:CDT
DTSTART:20260308T080000
END:DAYLIGHT
BEGIN:STANDARD
TZOFFSETFROM:-0500
TZOFFSETTO:-0600
TZNAME:CST
DTSTART:20261101T070000
END:STANDARD
BEGIN:DAYLIGHT
TZOFFSETFROM:-0600
TZOFFSETTO:-0500
TZNAME:CDT
DTSTART:20270314T080000
END:DAYLIGHT
BEGIN:STANDARD
TZOFFSETFROM:-0500
TZOFFSETTO:-0600
TZNAME:CST
DTSTART:20271107T070000
END:STANDARD
END:VTIMEZONE
BEGIN:VEVENT
DTSTART;VALUE=DATE:20260401
DTEND;VALUE=DATE:20260501
DTSTAMP:20260425T205825
CREATED:20250711T141141Z
LAST-MODIFIED:20250711T141141Z
UID:10009369-1775001600-1777593599@www.floridalegion.org
SUMMARY:ALR Round Robin
DESCRIPTION:
URL:https://www.floridalegion.org/event/alr-round-robin-2/
LOCATION:FL
CATEGORIES:Legion Riders,Program Events
END:VEVENT
BEGIN:VEVENT
DTSTART;VALUE=DATE:20260420
DTEND;VALUE=DATE:20260425
DTSTAMP:20260425T205825
CREATED:20250711T140833Z
LAST-MODIFIED:20250711T140833Z
UID:10009363-1776643200-1777075199@www.floridalegion.org
SUMMARY:ALR Unity Ride
DESCRIPTION:
URL:https://www.floridalegion.org/event/alr-unity-ride/
LOCATION:FL
CATEGORIES:Commanders,Legion Riders,Program Events
END:VEVENT
BEGIN:VEVENT
DTSTART;TZID=America/New_York:20260421T170000
DTEND;TZID=America/New_York:20260421T190000
DTSTAMP:20260425T205825
CREATED:20240510T190532Z
LAST-MODIFIED:20240528T201210Z
UID:10007696-1776790800-1776798000@www.floridalegion.org
SUMMARY:ALR: Chapter 10 Taco Tuesday
DESCRIPTION:Taco Tuesday\, every Tuesday sponsored by Chapter 10 Kissimmee.
URL:https://www.floridalegion.org/event/chapter-10-taco-tuesday/2026-04-21/
LOCATION:American Legion Post 10\, 205 Lakeview Dr\, Kissimmee\, FL\, 34741\, United States
CATEGORIES:All Categories,Legion Riders
END:VEVENT
BEGIN:VEVENT
DTSTART;TZID=America/New_York:20260421T180000
DTEND;TZID=America/New_York:20260421T220000
DTSTAMP:20260425T205825
CREATED:20240212T141637Z
LAST-MODIFIED:20240528T201306Z
UID:10006622-1776794400-1776808800@www.floridalegion.org
SUMMARY:Chapter 117: ALR Riders Corn Hole Tournament
DESCRIPTION:Every Tuesday\, Chapter 117 holds a Corn Hole Tournament. $5 Registration starts at 6:00pm and starts at 6:30pm. Come on out! We have a great time.
URL:https://www.floridalegion.org/event/chapter-117-alr-riders-corn-hole-tournament/2026-04-21/
LOCATION:189 Veterans DrSE\, 189 Veterans Dr SE\, Palm Bay\, 32909\, United States
CATEGORIES:Legion Riders,Program Events
END:VEVENT
BEGIN:VEVENT
DTSTART;VALUE=DATE:20260425
DTEND;VALUE=DATE:20260426
DTSTAMP:20260425T205825
CREATED:20251023T134556Z
LAST-MODIFIED:20251023T134556Z
UID:10009741-1777075200-1777161599@www.floridalegion.org
SUMMARY:ALR State Rally
DESCRIPTION:
URL:https://www.floridalegion.org/event/alr-state-rally-3/
LOCATION:FL
CATEGORIES:Commanders,Legion Riders,Program Events
END:VEVENT
BEGIN:VEVENT
DTSTART;TZID=America/Chicago:20260425T090000
DTEND;TZID=America/Chicago:20260426T160000
DTSTAMP:20260425T205825
CREATED:20260424T135436Z
LAST-MODIFIED:20260424T135436Z
UID:10010196-1777107600-1777219200@www.floridalegion.org
SUMMARY:Post 78: Young Patriots Weekend
DESCRIPTION:https://facebook.com/events/s/young-patriots-weekend-america/1363092215651276/ \n\n  \nYoung Patriots Weekend | American Legion Post 78 \n🇺🇸 Young Patriots Weekend – Building the Next Generation 🇺🇸 \nJoin us for a powerful two-day community event focused on leadership\, service\, and hands-on learning. \n📅 Saturday\, April 25 (9AM–3PM) \n🔹 Stop the Bleed Training\n🔹 JROTC Leadership & Drill\n🔹 Historical Weapons\n🔹 Civic Responsibility\n🔹 Flag Etiquette\n🔹 “Minefield” Mission Challenge\n🔹 OneBlood Blood Drive\n🔹 Veteran & Family Resources \n📅 Sunday\, April 26 (1PM–4PM)\n🔹 Four Chaplains Ceremony\n🔹 Flag Retirement Ceremony \n💥 Featuring community partners including emergency services\, JROTC units\, Scouts\, and more. \nThis event is designed to prepare\, educate\, and inspire the next generation\, while connecting veterans\, families\, and the local community. \n📍 6025 Spikes Way\, Milton\, FL\n📞 850-426-6972\n📧 amleg6025@gmail.com \n👉 Open to families\, youth\, and community members\n👉 Come out. Get involved. Be part of something meaningful.
URL:https://www.floridalegion.org/event/post-78-young-patriots-weekend/
LOCATION:Post 78 Norman A Garrett\, 6025 Spikes Way\, Milton\, FL\, 32583-2887\, USA
CATEGORIES:Auxiliary Events,District Events,Legion Riders,Other Events,Post Events,Program Events,SAL Events
ATTACH;FMTTYPE=image/jpeg:https://www.floridalegion.org/wp-content/uploads/2026/04/Young-patriots2-Mission-Challenge.jpg
ORGANIZER;CN="Will Pohlman":MAILTO:william.d.pohlman@outlook.com
END:VEVENT
BEGIN:VEVENT
DTSTART;TZID=America/New_York:20260425T170000
DTEND;TZID=America/New_York:20260425T190000
DTSTAMP:20260425T205825
CREATED:20230327T120424Z
LAST-MODIFIED:20230327T120424Z
UID:10008723-1777136400-1777143600@www.floridalegion.org
SUMMARY:Post 148: ALR Monthly Dinner
DESCRIPTION:Every month a member cooks something great!!!
URL:https://www.floridalegion.org/event/post-148-alr-monthly-dinner-2/2026-04-25/
LOCATION:Post 148\, 6740 Us Hwy 301 S\, Riverview\, Florida\, 33568\, United States
CATEGORIES:Legion Riders,Program Events
ORGANIZER;CN="ALR Post 148":MAILTO:director.post148@gmail.com
END:VEVENT
BEGIN:VEVENT
DTSTART;TZID=America/New_York:20260425T190000
DTEND;TZID=America/New_York:20260425T210000
DTSTAMP:20260425T205825
CREATED:20250128T172949Z
LAST-MODIFIED:20250128T172949Z
UID:10008539-1777143600-1777150800@www.floridalegion.org
SUMMARY:ALR: Chapter 10 Bike Night
DESCRIPTION:Download Flyer
URL:https://www.floridalegion.org/event/alr-chapter-10-bike-night/2026-04-25/
LOCATION:Captain and Tequilla Dockside\, 69 Lakeview Dr\, Kissimmee\, 34741\, United States
CATEGORIES:Legion Riders,Program Events
ATTACH;FMTTYPE=image/jpeg:https://www.floridalegion.org/wp-content/uploads/2025/01/Bike-Night-Flyer-2025-scaled.jpg
END:VEVENT
END:VCALENDAR