BEGIN:VCALENDAR
VERSION:2.0
PRODID:-//Florida American Legion - ECPv6.15.20//NONSGML v1.0//EN
CALSCALE:GREGORIAN
METHOD:PUBLISH
X-WR-CALNAME:Florida American Legion
X-ORIGINAL-URL:https://www.floridalegion.org
X-WR-CALDESC:Events for Florida American Legion
REFRESH-INTERVAL;VALUE=DURATION:PT1H
X-Robots-Tag:noindex
X-PUBLISHED-TTL:PT1H
BEGIN:VTIMEZONE
TZID:America/New_York
BEGIN:DAYLIGHT
TZOFFSETFROM:-0500
TZOFFSETTO:-0400
TZNAME:EDT
DTSTART:20270314T070000
END:DAYLIGHT
BEGIN:STANDARD
TZOFFSETFROM:-0400
TZOFFSETTO:-0500
TZNAME:EST
DTSTART:20271107T060000
END:STANDARD
BEGIN:DAYLIGHT
TZOFFSETFROM:-0500
TZOFFSETTO:-0400
TZNAME:EDT
DTSTART:20280312T070000
END:DAYLIGHT
BEGIN:STANDARD
TZOFFSETFROM:-0400
TZOFFSETTO:-0500
TZNAME:EST
DTSTART:20281105T060000
END:STANDARD
BEGIN:DAYLIGHT
TZOFFSETFROM:-0500
TZOFFSETTO:-0400
TZNAME:EDT
DTSTART:20290311T070000
END:DAYLIGHT
BEGIN:STANDARD
TZOFFSETFROM:-0400
TZOFFSETTO:-0500
TZNAME:EST
DTSTART:20291104T060000
END:STANDARD
END:VTIMEZONE
BEGIN:VEVENT
DTSTART;TZID=America/New_York:20280129T170000
DTEND;TZID=America/New_York:20280129T190000
DTSTAMP:20260421T152920
CREATED:20230327T120424Z
LAST-MODIFIED:20230327T120424Z
UID:10008744-1832778000-1832785200@www.floridalegion.org
SUMMARY:Post 148: ALR Monthly Dinner
DESCRIPTION:Every month a member cooks something great!!!
URL:https://www.floridalegion.org/event/post-148-alr-monthly-dinner-2/2028-01-29/
LOCATION:Post 148\, 6740 Us Hwy 301 S\, Riverview\, Florida\, 33568\, United States
CATEGORIES:Legion Riders,Program Events
ORGANIZER;CN="ALR Post 148":MAILTO:director.post148@gmail.com
END:VEVENT
BEGIN:VEVENT
DTSTART;TZID=America/New_York:20280201T170000
DTEND;TZID=America/New_York:20280201T190000
DTSTAMP:20260421T152920
CREATED:20240510T190532Z
LAST-MODIFIED:20240528T201210Z
UID:10007789-1833037200-1833044400@www.floridalegion.org
SUMMARY:ALR: Chapter 10 Taco Tuesday
DESCRIPTION:Taco Tuesday\, every Tuesday sponsored by Chapter 10 Kissimmee.
URL:https://www.floridalegion.org/event/chapter-10-taco-tuesday/2028-02-01/
LOCATION:American Legion Post 10\, 205 Lakeview Dr\, Kissimmee\, FL\, 34741\, United States
CATEGORIES:All Categories,Legion Riders
END:VEVENT
BEGIN:VEVENT
DTSTART;TZID=America/New_York:20280201T180000
DTEND;TZID=America/New_York:20280201T220000
DTSTAMP:20260421T152920
CREATED:20240212T141637Z
LAST-MODIFIED:20240528T201306Z
UID:10006715-1833040800-1833055200@www.floridalegion.org
SUMMARY:Chapter 117: ALR Riders Corn Hole Tournament
DESCRIPTION:Every Tuesday\, Chapter 117 holds a Corn Hole Tournament. $5 Registration starts at 6:00pm and starts at 6:30pm. Come on out! We have a great time.
URL:https://www.floridalegion.org/event/chapter-117-alr-riders-corn-hole-tournament/2028-02-01/
LOCATION:189 Veterans DrSE\, 189 Veterans Dr SE\, Palm Bay\, 32909\, United States
CATEGORIES:Legion Riders,Program Events
END:VEVENT
BEGIN:VEVENT
DTSTART;TZID=America/New_York:20280202T183000
DTEND;TZID=America/New_York:20280202T193000
DTSTAMP:20260421T152920
CREATED:20240212T141857Z
LAST-MODIFIED:20251208T164901Z
UID:10006489-1833129000-1833132600@www.floridalegion.org
SUMMARY:Chapter 136: ALR Monthly Meeting
DESCRIPTION:Join us for our monthly meeting the 1st Wednesday  each month
URL:https://www.floridalegion.org/event/alr-chapter-136-st-james-city-monthly-meeting/2028-02-02/
LOCATION:Post 136 Pine Island Inc\, 4106 Stringfellow Rd\, St James City\, FL\, 33956\, USA
CATEGORIES:Legion Riders,Program Events
ORGANIZER;CN="ALR136":MAILTO:chuck.warren@dignitymemorial.com
END:VEVENT
BEGIN:VEVENT
DTSTART;TZID=America/New_York:20280205T090000
DTEND;TZID=America/New_York:20280205T100000
DTSTAMP:20260421T152920
CREATED:20230911T154007Z
LAST-MODIFIED:20250711T170540Z
UID:10005898-1833354000-1833357600@www.floridalegion.org
SUMMARY:Chapter 316: ALR Monthly Meeting
DESCRIPTION:eBoard meets at 8:30 am
URL:https://www.floridalegion.org/event/chapter-316-alr-monthly-meeting/2028-02-05/
LOCATION:American Legion Post 316\, 1127 Atlantic Blvd\, Atlantic Beach\, 32233\, United States
CATEGORIES:Legion Riders
ORGANIZER;CN="Denise Strickland":MAILTO:dndfishing@aol.com
END:VEVENT
BEGIN:VEVENT
DTSTART;TZID=America/New_York:20280208T170000
DTEND;TZID=America/New_York:20280208T190000
DTSTAMP:20260421T152920
CREATED:20240510T190532Z
LAST-MODIFIED:20240528T201210Z
UID:10007790-1833642000-1833649200@www.floridalegion.org
SUMMARY:ALR: Chapter 10 Taco Tuesday
DESCRIPTION:Taco Tuesday\, every Tuesday sponsored by Chapter 10 Kissimmee.
URL:https://www.floridalegion.org/event/chapter-10-taco-tuesday/2028-02-08/
LOCATION:American Legion Post 10\, 205 Lakeview Dr\, Kissimmee\, FL\, 34741\, United States
CATEGORIES:All Categories,Legion Riders
END:VEVENT
BEGIN:VEVENT
DTSTART;TZID=America/New_York:20280208T180000
DTEND;TZID=America/New_York:20280208T220000
DTSTAMP:20260421T152920
CREATED:20240212T141637Z
LAST-MODIFIED:20240528T201306Z
UID:10006716-1833645600-1833660000@www.floridalegion.org
SUMMARY:Chapter 117: ALR Riders Corn Hole Tournament
DESCRIPTION:Every Tuesday\, Chapter 117 holds a Corn Hole Tournament. $5 Registration starts at 6:00pm and starts at 6:30pm. Come on out! We have a great time.
URL:https://www.floridalegion.org/event/chapter-117-alr-riders-corn-hole-tournament/2028-02-08/
LOCATION:189 Veterans DrSE\, 189 Veterans Dr SE\, Palm Bay\, 32909\, United States
CATEGORIES:Legion Riders,Program Events
END:VEVENT
BEGIN:VEVENT
DTSTART;TZID=America/New_York:20280209T190000
DTEND;TZID=America/New_York:20280209T200000
DTSTAMP:20260421T152920
CREATED:20240122T135337Z
LAST-MODIFIED:20240122T135337Z
UID:10006420-1833735600-1833739200@www.floridalegion.org
SUMMARY:ALR: Chapter 10 Meeting
DESCRIPTION:American Legion Riders Monthly meeting\, Chapter 10\, Kissimmee
URL:https://www.floridalegion.org/event/alr-chapter-10-meeting-2/2028-02-09/
LOCATION:American Legion Post 10\, 205 Lakeview Dr\, Kissimmee\, FL\, 34741\, United States
CATEGORIES:Legion Riders,Program Events
END:VEVENT
BEGIN:VEVENT
DTSTART;TZID=America/New_York:20280212T170000
DTEND;TZID=America/New_York:20280212T190000
DTSTAMP:20260421T152920
CREATED:20230612T194230Z
LAST-MODIFIED:20230612T194230Z
UID:10005453-1833987600-1833994800@www.floridalegion.org
SUMMARY:Chapter 10: ALR Riders Dinner
DESCRIPTION:Monthly Riders Dinner Night..
URL:https://www.floridalegion.org/event/chapter-10-alr-riders-dinner/2028-02-12/
LOCATION:American Legion Post 10\, 205 Lakeview Dr\, Kissimmee\, FL\, 34741\, United States
CATEGORIES:Legion Riders,Program Events
END:VEVENT
BEGIN:VEVENT
DTSTART;TZID=America/New_York:20280213T130000
DTEND;TZID=America/New_York:20280213T140000
DTSTAMP:20260421T152920
CREATED:20240712T152500Z
LAST-MODIFIED:20240712T152500Z
UID:10008381-1834059600-1834063200@www.floridalegion.org
SUMMARY:Chapter 8: ALR Meeting
DESCRIPTION:Monthly meeting to discuss new business\, old business\, and good of the Riders.
URL:https://www.floridalegion.org/event/chapter-8-alr-meeting-2/2028-02-13/
LOCATION:Winter Haven American Legion Post 8\, 300 Avenue M NW\, Winter Haven\, FL\, 33881\, United States
CATEGORIES:Legion Riders,Post Events,Program Events
ORGANIZER;CN="ALR Chapter 8":MAILTO:hglenn1973@yahoo.com
END:VEVENT
BEGIN:VEVENT
DTSTART;TZID=America/New_York:20280215T170000
DTEND;TZID=America/New_York:20280215T190000
DTSTAMP:20260421T152920
CREATED:20240510T190532Z
LAST-MODIFIED:20240528T201210Z
UID:10007791-1834246800-1834254000@www.floridalegion.org
SUMMARY:ALR: Chapter 10 Taco Tuesday
DESCRIPTION:Taco Tuesday\, every Tuesday sponsored by Chapter 10 Kissimmee.
URL:https://www.floridalegion.org/event/chapter-10-taco-tuesday/2028-02-15/
LOCATION:American Legion Post 10\, 205 Lakeview Dr\, Kissimmee\, FL\, 34741\, United States
CATEGORIES:All Categories,Legion Riders
END:VEVENT
BEGIN:VEVENT
DTSTART;TZID=America/New_York:20280215T180000
DTEND;TZID=America/New_York:20280215T220000
DTSTAMP:20260421T152920
CREATED:20240212T141637Z
LAST-MODIFIED:20240528T201306Z
UID:10006717-1834250400-1834264800@www.floridalegion.org
SUMMARY:Chapter 117: ALR Riders Corn Hole Tournament
DESCRIPTION:Every Tuesday\, Chapter 117 holds a Corn Hole Tournament. $5 Registration starts at 6:00pm and starts at 6:30pm. Come on out! We have a great time.
URL:https://www.floridalegion.org/event/chapter-117-alr-riders-corn-hole-tournament/2028-02-15/
LOCATION:189 Veterans DrSE\, 189 Veterans Dr SE\, Palm Bay\, 32909\, United States
CATEGORIES:Legion Riders,Program Events
END:VEVENT
BEGIN:VEVENT
DTSTART;TZID=America/New_York:20280218T170000
DTEND;TZID=America/New_York:20280218T183000
DTSTAMP:20260421T152920
CREATED:20230213T165041Z
LAST-MODIFIED:20230213T165041Z
UID:10008668-1834506000-1834511400@www.floridalegion.org
SUMMARY:Chapter 8: ALR Dinner Night
DESCRIPTION:Monthly ALR dinner night at Winter Haven Post 8
URL:https://www.floridalegion.org/event/chapter-8-alr-dinner-night/2028-02-18/
LOCATION:Winter Haven American Legion Post 8\, 300 Avenue M NW\, Winter Haven\, FL\, 33881\, United States
CATEGORIES:Legion Riders
ORGANIZER;CN="ALR Chapter 8":MAILTO:hglenn1973@yahoo.com
END:VEVENT
BEGIN:VEVENT
DTSTART;TZID=America/New_York:20280219T170000
DTEND;TZID=America/New_York:20280219T190000
DTSTAMP:20260421T152920
CREATED:20240710T124628Z
LAST-MODIFIED:20240710T124628Z
UID:10008318-1834592400-1834599600@www.floridalegion.org
SUMMARY:ALR: Chapter 54 Steak Night
DESCRIPTION:Come out to beautiful Amelia Island for a Steak dinner! \nYou get a 12 oz. Ribeye\, baked potato\, Corn on the Cob\, salad and roll all for the amazing price of $18.00 or 2/$35.00. We cook the steaks to order so you will not be disappointed.\n\nSAVE YOUR STEAKS: prepay with Venmo or PayPal and you can “Save Your Steaks.” Simply scan the QR code or input the screen name.\nVenmo: @Roninna-JakwayPayPal: @RoninnaEmail: tangentnina@gmail.com\nPut steak dinner in the notes when you make your payment and your steak(s) will be set aside for you.
URL:https://www.floridalegion.org/event/alr-chapter-54-steak-night/2028-02-19/
LOCATION:American Legion Post 54\, 626 S. 3rd Street\, fernandina beach\, fl\, 32034\, United States
CATEGORIES:Legion Riders,Post Events
ATTACH;FMTTYPE=image/png:https://www.floridalegion.org/wp-content/uploads/2024/07/Steak.png
ORGANIZER;CN="A.L.R. Post 54":MAILTO:alpost54FirstVice@gmail.com
END:VEVENT
BEGIN:VEVENT
DTSTART;TZID=America/New_York:20280222T170000
DTEND;TZID=America/New_York:20280222T190000
DTSTAMP:20260421T152920
CREATED:20240510T190532Z
LAST-MODIFIED:20240528T201210Z
UID:10007792-1834851600-1834858800@www.floridalegion.org
SUMMARY:ALR: Chapter 10 Taco Tuesday
DESCRIPTION:Taco Tuesday\, every Tuesday sponsored by Chapter 10 Kissimmee.
URL:https://www.floridalegion.org/event/chapter-10-taco-tuesday/2028-02-22/
LOCATION:American Legion Post 10\, 205 Lakeview Dr\, Kissimmee\, FL\, 34741\, United States
CATEGORIES:All Categories,Legion Riders
END:VEVENT
BEGIN:VEVENT
DTSTART;TZID=America/New_York:20280222T180000
DTEND;TZID=America/New_York:20280222T220000
DTSTAMP:20260421T152920
CREATED:20240212T141637Z
LAST-MODIFIED:20240528T201306Z
UID:10006718-1834855200-1834869600@www.floridalegion.org
SUMMARY:Chapter 117: ALR Riders Corn Hole Tournament
DESCRIPTION:Every Tuesday\, Chapter 117 holds a Corn Hole Tournament. $5 Registration starts at 6:00pm and starts at 6:30pm. Come on out! We have a great time.
URL:https://www.floridalegion.org/event/chapter-117-alr-riders-corn-hole-tournament/2028-02-22/
LOCATION:189 Veterans DrSE\, 189 Veterans Dr SE\, Palm Bay\, 32909\, United States
CATEGORIES:Legion Riders,Program Events
END:VEVENT
BEGIN:VEVENT
DTSTART;TZID=America/New_York:20280226T170000
DTEND;TZID=America/New_York:20280226T190000
DTSTAMP:20260421T152920
CREATED:20230327T120424Z
LAST-MODIFIED:20230327T120424Z
UID:10008745-1835197200-1835204400@www.floridalegion.org
SUMMARY:Post 148: ALR Monthly Dinner
DESCRIPTION:Every month a member cooks something great!!!
URL:https://www.floridalegion.org/event/post-148-alr-monthly-dinner-2/2028-02-26/
LOCATION:Post 148\, 6740 Us Hwy 301 S\, Riverview\, Florida\, 33568\, United States
CATEGORIES:Legion Riders,Program Events
ORGANIZER;CN="ALR Post 148":MAILTO:director.post148@gmail.com
END:VEVENT
BEGIN:VEVENT
DTSTART;TZID=America/New_York:20280229T170000
DTEND;TZID=America/New_York:20280229T190000
DTSTAMP:20260421T152920
CREATED:20240510T190532Z
LAST-MODIFIED:20240528T201210Z
UID:10007793-1835456400-1835463600@www.floridalegion.org
SUMMARY:ALR: Chapter 10 Taco Tuesday
DESCRIPTION:Taco Tuesday\, every Tuesday sponsored by Chapter 10 Kissimmee.
URL:https://www.floridalegion.org/event/chapter-10-taco-tuesday/2028-02-29/
LOCATION:American Legion Post 10\, 205 Lakeview Dr\, Kissimmee\, FL\, 34741\, United States
CATEGORIES:All Categories,Legion Riders
END:VEVENT
BEGIN:VEVENT
DTSTART;TZID=America/New_York:20280229T180000
DTEND;TZID=America/New_York:20280229T220000
DTSTAMP:20260421T152920
CREATED:20240212T141637Z
LAST-MODIFIED:20240528T201306Z
UID:10006719-1835460000-1835474400@www.floridalegion.org
SUMMARY:Chapter 117: ALR Riders Corn Hole Tournament
DESCRIPTION:Every Tuesday\, Chapter 117 holds a Corn Hole Tournament. $5 Registration starts at 6:00pm and starts at 6:30pm. Come on out! We have a great time.
URL:https://www.floridalegion.org/event/chapter-117-alr-riders-corn-hole-tournament/2028-02-29/
LOCATION:189 Veterans DrSE\, 189 Veterans Dr SE\, Palm Bay\, 32909\, United States
CATEGORIES:Legion Riders,Program Events
END:VEVENT
BEGIN:VEVENT
DTSTART;TZID=America/New_York:20280301T183000
DTEND;TZID=America/New_York:20280301T193000
DTSTAMP:20260421T152920
CREATED:20240212T141857Z
LAST-MODIFIED:20251208T164901Z
UID:10006490-1835548200-1835551800@www.floridalegion.org
SUMMARY:Chapter 136: ALR Monthly Meeting
DESCRIPTION:Join us for our monthly meeting the 1st Wednesday  each month
URL:https://www.floridalegion.org/event/alr-chapter-136-st-james-city-monthly-meeting/2028-03-01/
LOCATION:Post 136 Pine Island Inc\, 4106 Stringfellow Rd\, St James City\, FL\, 33956\, USA
CATEGORIES:Legion Riders,Program Events
ORGANIZER;CN="ALR136":MAILTO:chuck.warren@dignitymemorial.com
END:VEVENT
BEGIN:VEVENT
DTSTART;TZID=America/New_York:20280304T090000
DTEND;TZID=America/New_York:20280304T100000
DTSTAMP:20260421T152920
CREATED:20230911T154007Z
LAST-MODIFIED:20250711T170540Z
UID:10005899-1835773200-1835776800@www.floridalegion.org
SUMMARY:Chapter 316: ALR Monthly Meeting
DESCRIPTION:eBoard meets at 8:30 am
URL:https://www.floridalegion.org/event/chapter-316-alr-monthly-meeting/2028-03-04/
LOCATION:American Legion Post 316\, 1127 Atlantic Blvd\, Atlantic Beach\, 32233\, United States
CATEGORIES:Legion Riders
ORGANIZER;CN="Denise Strickland":MAILTO:dndfishing@aol.com
END:VEVENT
BEGIN:VEVENT
DTSTART;TZID=America/New_York:20280307T170000
DTEND;TZID=America/New_York:20280307T190000
DTSTAMP:20260421T152920
CREATED:20240510T190532Z
LAST-MODIFIED:20240528T201210Z
UID:10007794-1836061200-1836068400@www.floridalegion.org
SUMMARY:ALR: Chapter 10 Taco Tuesday
DESCRIPTION:Taco Tuesday\, every Tuesday sponsored by Chapter 10 Kissimmee.
URL:https://www.floridalegion.org/event/chapter-10-taco-tuesday/2028-03-07/
LOCATION:American Legion Post 10\, 205 Lakeview Dr\, Kissimmee\, FL\, 34741\, United States
CATEGORIES:All Categories,Legion Riders
END:VEVENT
BEGIN:VEVENT
DTSTART;TZID=America/New_York:20280307T180000
DTEND;TZID=America/New_York:20280307T220000
DTSTAMP:20260421T152920
CREATED:20240212T141637Z
LAST-MODIFIED:20240528T201306Z
UID:10006720-1836064800-1836079200@www.floridalegion.org
SUMMARY:Chapter 117: ALR Riders Corn Hole Tournament
DESCRIPTION:Every Tuesday\, Chapter 117 holds a Corn Hole Tournament. $5 Registration starts at 6:00pm and starts at 6:30pm. Come on out! We have a great time.
URL:https://www.floridalegion.org/event/chapter-117-alr-riders-corn-hole-tournament/2028-03-07/
LOCATION:189 Veterans DrSE\, 189 Veterans Dr SE\, Palm Bay\, 32909\, United States
CATEGORIES:Legion Riders,Program Events
END:VEVENT
BEGIN:VEVENT
DTSTART;TZID=America/New_York:20280308T190000
DTEND;TZID=America/New_York:20280308T200000
DTSTAMP:20260421T152920
CREATED:20240122T135337Z
LAST-MODIFIED:20240122T135337Z
UID:10006421-1836154800-1836158400@www.floridalegion.org
SUMMARY:ALR: Chapter 10 Meeting
DESCRIPTION:American Legion Riders Monthly meeting\, Chapter 10\, Kissimmee
URL:https://www.floridalegion.org/event/alr-chapter-10-meeting-2/2028-03-08/
LOCATION:American Legion Post 10\, 205 Lakeview Dr\, Kissimmee\, FL\, 34741\, United States
CATEGORIES:Legion Riders,Program Events
END:VEVENT
BEGIN:VEVENT
DTSTART;TZID=America/New_York:20280311T170000
DTEND;TZID=America/New_York:20280311T190000
DTSTAMP:20260421T152920
CREATED:20230612T194230Z
LAST-MODIFIED:20230612T194230Z
UID:10005454-1836406800-1836414000@www.floridalegion.org
SUMMARY:Chapter 10: ALR Riders Dinner
DESCRIPTION:Monthly Riders Dinner Night..
URL:https://www.floridalegion.org/event/chapter-10-alr-riders-dinner/2028-03-11/
LOCATION:American Legion Post 10\, 205 Lakeview Dr\, Kissimmee\, FL\, 34741\, United States
CATEGORIES:Legion Riders,Program Events
END:VEVENT
BEGIN:VEVENT
DTSTART;TZID=America/New_York:20280312T130000
DTEND;TZID=America/New_York:20280312T140000
DTSTAMP:20260421T152920
CREATED:20240712T152500Z
LAST-MODIFIED:20240712T152500Z
UID:10008382-1836478800-1836482400@www.floridalegion.org
SUMMARY:Chapter 8: ALR Meeting
DESCRIPTION:Monthly meeting to discuss new business\, old business\, and good of the Riders.
URL:https://www.floridalegion.org/event/chapter-8-alr-meeting-2/2028-03-12/
LOCATION:Winter Haven American Legion Post 8\, 300 Avenue M NW\, Winter Haven\, FL\, 33881\, United States
CATEGORIES:Legion Riders,Post Events,Program Events
ORGANIZER;CN="ALR Chapter 8":MAILTO:hglenn1973@yahoo.com
END:VEVENT
BEGIN:VEVENT
DTSTART;TZID=America/New_York:20280314T170000
DTEND;TZID=America/New_York:20280314T190000
DTSTAMP:20260421T152920
CREATED:20240510T190532Z
LAST-MODIFIED:20240528T201210Z
UID:10007795-1836666000-1836673200@www.floridalegion.org
SUMMARY:ALR: Chapter 10 Taco Tuesday
DESCRIPTION:Taco Tuesday\, every Tuesday sponsored by Chapter 10 Kissimmee.
URL:https://www.floridalegion.org/event/chapter-10-taco-tuesday/2028-03-14/
LOCATION:American Legion Post 10\, 205 Lakeview Dr\, Kissimmee\, FL\, 34741\, United States
CATEGORIES:All Categories,Legion Riders
END:VEVENT
BEGIN:VEVENT
DTSTART;TZID=America/New_York:20280314T180000
DTEND;TZID=America/New_York:20280314T220000
DTSTAMP:20260421T152920
CREATED:20240212T141637Z
LAST-MODIFIED:20240528T201306Z
UID:10006721-1836669600-1836684000@www.floridalegion.org
SUMMARY:Chapter 117: ALR Riders Corn Hole Tournament
DESCRIPTION:Every Tuesday\, Chapter 117 holds a Corn Hole Tournament. $5 Registration starts at 6:00pm and starts at 6:30pm. Come on out! We have a great time.
URL:https://www.floridalegion.org/event/chapter-117-alr-riders-corn-hole-tournament/2028-03-14/
LOCATION:189 Veterans DrSE\, 189 Veterans Dr SE\, Palm Bay\, 32909\, United States
CATEGORIES:Legion Riders,Program Events
END:VEVENT
BEGIN:VEVENT
DTSTART;TZID=America/New_York:20280317T170000
DTEND;TZID=America/New_York:20280317T183000
DTSTAMP:20260421T152920
CREATED:20230213T165041Z
LAST-MODIFIED:20230213T165041Z
UID:10008669-1836925200-1836930600@www.floridalegion.org
SUMMARY:Chapter 8: ALR Dinner Night
DESCRIPTION:Monthly ALR dinner night at Winter Haven Post 8
URL:https://www.floridalegion.org/event/chapter-8-alr-dinner-night/2028-03-17/
LOCATION:Winter Haven American Legion Post 8\, 300 Avenue M NW\, Winter Haven\, FL\, 33881\, United States
CATEGORIES:Legion Riders
ORGANIZER;CN="ALR Chapter 8":MAILTO:hglenn1973@yahoo.com
END:VEVENT
BEGIN:VEVENT
DTSTART;TZID=America/New_York:20280318T170000
DTEND;TZID=America/New_York:20280318T190000
DTSTAMP:20260421T152920
CREATED:20240710T124628Z
LAST-MODIFIED:20240710T124628Z
UID:10008319-1837011600-1837018800@www.floridalegion.org
SUMMARY:ALR: Chapter 54 Steak Night
DESCRIPTION:Come out to beautiful Amelia Island for a Steak dinner! \nYou get a 12 oz. Ribeye\, baked potato\, Corn on the Cob\, salad and roll all for the amazing price of $18.00 or 2/$35.00. We cook the steaks to order so you will not be disappointed.\n\nSAVE YOUR STEAKS: prepay with Venmo or PayPal and you can “Save Your Steaks.” Simply scan the QR code or input the screen name.\nVenmo: @Roninna-JakwayPayPal: @RoninnaEmail: tangentnina@gmail.com\nPut steak dinner in the notes when you make your payment and your steak(s) will be set aside for you.
URL:https://www.floridalegion.org/event/alr-chapter-54-steak-night/2028-03-18/
LOCATION:American Legion Post 54\, 626 S. 3rd Street\, fernandina beach\, fl\, 32034\, United States
CATEGORIES:Legion Riders,Post Events
ATTACH;FMTTYPE=image/png:https://www.floridalegion.org/wp-content/uploads/2024/07/Steak.png
ORGANIZER;CN="A.L.R. Post 54":MAILTO:alpost54FirstVice@gmail.com
END:VEVENT
END:VCALENDAR