BEGIN:VCALENDAR
VERSION:2.0
PRODID:-//Florida American Legion - ECPv6.15.20//NONSGML v1.0//EN
CALSCALE:GREGORIAN
METHOD:PUBLISH
X-ORIGINAL-URL:https://www.floridalegion.org
X-WR-CALDESC:Events for Florida American Legion
REFRESH-INTERVAL;VALUE=DURATION:PT1H
X-Robots-Tag:noindex
X-PUBLISHED-TTL:PT1H
BEGIN:VTIMEZONE
TZID:America/New_York
BEGIN:DAYLIGHT
TZOFFSETFROM:-0500
TZOFFSETTO:-0400
TZNAME:EDT
DTSTART:20270314T070000
END:DAYLIGHT
BEGIN:STANDARD
TZOFFSETFROM:-0400
TZOFFSETTO:-0500
TZNAME:EST
DTSTART:20271107T060000
END:STANDARD
BEGIN:DAYLIGHT
TZOFFSETFROM:-0500
TZOFFSETTO:-0400
TZNAME:EDT
DTSTART:20280312T070000
END:DAYLIGHT
BEGIN:STANDARD
TZOFFSETFROM:-0400
TZOFFSETTO:-0500
TZNAME:EST
DTSTART:20281105T060000
END:STANDARD
BEGIN:DAYLIGHT
TZOFFSETFROM:-0500
TZOFFSETTO:-0400
TZNAME:EDT
DTSTART:20290311T070000
END:DAYLIGHT
BEGIN:STANDARD
TZOFFSETFROM:-0400
TZOFFSETTO:-0500
TZNAME:EST
DTSTART:20291104T060000
END:STANDARD
END:VTIMEZONE
BEGIN:VEVENT
DTSTART;TZID=America/New_York:20281010T170000
DTEND;TZID=America/New_York:20281010T190000
DTSTAMP:20260425T121304
CREATED:20240510T190532Z
LAST-MODIFIED:20240528T201210Z
UID:10007825-1854810000-1854817200@www.floridalegion.org
SUMMARY:ALR: Chapter 10 Taco Tuesday
DESCRIPTION:Taco Tuesday\, every Tuesday sponsored by Chapter 10 Kissimmee.
URL:https://www.floridalegion.org/event/chapter-10-taco-tuesday/2028-10-10/
LOCATION:American Legion Post 10\, 205 Lakeview Dr\, Kissimmee\, FL\, 34741\, United States
CATEGORIES:All Categories,Legion Riders
END:VEVENT
BEGIN:VEVENT
DTSTART;TZID=America/New_York:20281010T180000
DTEND;TZID=America/New_York:20281010T220000
DTSTAMP:20260425T121304
CREATED:20240212T141637Z
LAST-MODIFIED:20240528T201306Z
UID:10006751-1854813600-1854828000@www.floridalegion.org
SUMMARY:Chapter 117: ALR Riders Corn Hole Tournament
DESCRIPTION:Every Tuesday\, Chapter 117 holds a Corn Hole Tournament. $5 Registration starts at 6:00pm and starts at 6:30pm. Come on out! We have a great time.
URL:https://www.floridalegion.org/event/chapter-117-alr-riders-corn-hole-tournament/2028-10-10/
LOCATION:189 Veterans DrSE\, 189 Veterans Dr SE\, Palm Bay\, 32909\, United States
CATEGORIES:Legion Riders,Program Events
END:VEVENT
BEGIN:VEVENT
DTSTART;TZID=America/New_York:20281011T190000
DTEND;TZID=America/New_York:20281011T200000
DTSTAMP:20260425T121304
CREATED:20240122T135337Z
LAST-MODIFIED:20240122T135337Z
UID:10006428-1854903600-1854907200@www.floridalegion.org
SUMMARY:ALR: Chapter 10 Meeting
DESCRIPTION:American Legion Riders Monthly meeting\, Chapter 10\, Kissimmee
URL:https://www.floridalegion.org/event/alr-chapter-10-meeting-2/2028-10-11/
LOCATION:American Legion Post 10\, 205 Lakeview Dr\, Kissimmee\, FL\, 34741\, United States
CATEGORIES:Legion Riders,Program Events
END:VEVENT
BEGIN:VEVENT
DTSTART;TZID=America/New_York:20281014T170000
DTEND;TZID=America/New_York:20281014T190000
DTSTAMP:20260425T121304
CREATED:20230612T194230Z
LAST-MODIFIED:20230612T194230Z
UID:10008779-1855155600-1855162800@www.floridalegion.org
SUMMARY:Chapter 10: ALR Riders Dinner
DESCRIPTION:Monthly Riders Dinner Night..
URL:https://www.floridalegion.org/event/chapter-10-alr-riders-dinner/2028-10-14/
LOCATION:American Legion Post 10\, 205 Lakeview Dr\, Kissimmee\, FL\, 34741\, United States
CATEGORIES:Legion Riders,Program Events
END:VEVENT
BEGIN:VEVENT
DTSTART;TZID=America/New_York:20281017T170000
DTEND;TZID=America/New_York:20281017T190000
DTSTAMP:20260425T121304
CREATED:20240510T190532Z
LAST-MODIFIED:20240528T201210Z
UID:10007826-1855414800-1855422000@www.floridalegion.org
SUMMARY:ALR: Chapter 10 Taco Tuesday
DESCRIPTION:Taco Tuesday\, every Tuesday sponsored by Chapter 10 Kissimmee.
URL:https://www.floridalegion.org/event/chapter-10-taco-tuesday/2028-10-17/
LOCATION:American Legion Post 10\, 205 Lakeview Dr\, Kissimmee\, FL\, 34741\, United States
CATEGORIES:All Categories,Legion Riders
END:VEVENT
BEGIN:VEVENT
DTSTART;TZID=America/New_York:20281017T180000
DTEND;TZID=America/New_York:20281017T220000
DTSTAMP:20260425T121304
CREATED:20240212T141637Z
LAST-MODIFIED:20240528T201306Z
UID:10006752-1855418400-1855432800@www.floridalegion.org
SUMMARY:Chapter 117: ALR Riders Corn Hole Tournament
DESCRIPTION:Every Tuesday\, Chapter 117 holds a Corn Hole Tournament. $5 Registration starts at 6:00pm and starts at 6:30pm. Come on out! We have a great time.
URL:https://www.floridalegion.org/event/chapter-117-alr-riders-corn-hole-tournament/2028-10-17/
LOCATION:189 Veterans DrSE\, 189 Veterans Dr SE\, Palm Bay\, 32909\, United States
CATEGORIES:Legion Riders,Program Events
END:VEVENT
BEGIN:VEVENT
DTSTART;TZID=America/New_York:20281020T170000
DTEND;TZID=America/New_York:20281020T183000
DTSTAMP:20260425T121304
CREATED:20230213T165041Z
LAST-MODIFIED:20230213T165041Z
UID:10008676-1855674000-1855679400@www.floridalegion.org
SUMMARY:Chapter 8: ALR Dinner Night
DESCRIPTION:Monthly ALR dinner night at Winter Haven Post 8
URL:https://www.floridalegion.org/event/chapter-8-alr-dinner-night/2028-10-20/
LOCATION:Winter Haven American Legion Post 8\, 300 Avenue M NW\, Winter Haven\, FL\, 33881\, United States
CATEGORIES:Legion Riders
ORGANIZER;CN="ALR Chapter 8":MAILTO:hglenn1973@yahoo.com
END:VEVENT
BEGIN:VEVENT
DTSTART;TZID=America/New_York:20281021T170000
DTEND;TZID=America/New_York:20281021T190000
DTSTAMP:20260425T121304
CREATED:20240710T124628Z
LAST-MODIFIED:20240710T124628Z
UID:10008326-1855760400-1855767600@www.floridalegion.org
SUMMARY:ALR: Chapter 54 Steak Night
DESCRIPTION:Come out to beautiful Amelia Island for a Steak dinner! \nYou get a 12 oz. Ribeye\, baked potato\, Corn on the Cob\, salad and roll all for the amazing price of $18.00 or 2/$35.00. We cook the steaks to order so you will not be disappointed.\n\nSAVE YOUR STEAKS: prepay with Venmo or PayPal and you can “Save Your Steaks.” Simply scan the QR code or input the screen name.\nVenmo: @Roninna-JakwayPayPal: @RoninnaEmail: tangentnina@gmail.com\nPut steak dinner in the notes when you make your payment and your steak(s) will be set aside for you.
URL:https://www.floridalegion.org/event/alr-chapter-54-steak-night/2028-10-21/
LOCATION:American Legion Post 54\, 626 S. 3rd Street\, fernandina beach\, fl\, 32034\, United States
CATEGORIES:Legion Riders,Post Events
ATTACH;FMTTYPE=image/png:https://www.floridalegion.org/wp-content/uploads/2024/07/Steak.png
ORGANIZER;CN="A.L.R. Post 54":MAILTO:alpost54FirstVice@gmail.com
END:VEVENT
BEGIN:VEVENT
DTSTART;TZID=America/New_York:20281024T170000
DTEND;TZID=America/New_York:20281024T190000
DTSTAMP:20260425T121304
CREATED:20240510T190532Z
LAST-MODIFIED:20240528T201210Z
UID:10007827-1856019600-1856026800@www.floridalegion.org
SUMMARY:ALR: Chapter 10 Taco Tuesday
DESCRIPTION:Taco Tuesday\, every Tuesday sponsored by Chapter 10 Kissimmee.
URL:https://www.floridalegion.org/event/chapter-10-taco-tuesday/2028-10-24/
LOCATION:American Legion Post 10\, 205 Lakeview Dr\, Kissimmee\, FL\, 34741\, United States
CATEGORIES:All Categories,Legion Riders
END:VEVENT
BEGIN:VEVENT
DTSTART;TZID=America/New_York:20281024T180000
DTEND;TZID=America/New_York:20281024T220000
DTSTAMP:20260425T121304
CREATED:20240212T141637Z
LAST-MODIFIED:20240528T201306Z
UID:10006753-1856023200-1856037600@www.floridalegion.org
SUMMARY:Chapter 117: ALR Riders Corn Hole Tournament
DESCRIPTION:Every Tuesday\, Chapter 117 holds a Corn Hole Tournament. $5 Registration starts at 6:00pm and starts at 6:30pm. Come on out! We have a great time.
URL:https://www.floridalegion.org/event/chapter-117-alr-riders-corn-hole-tournament/2028-10-24/
LOCATION:189 Veterans DrSE\, 189 Veterans Dr SE\, Palm Bay\, 32909\, United States
CATEGORIES:Legion Riders,Program Events
END:VEVENT
BEGIN:VEVENT
DTSTART;TZID=America/New_York:20281028T170000
DTEND;TZID=America/New_York:20281028T190000
DTSTAMP:20260425T121304
CREATED:20230327T120424Z
LAST-MODIFIED:20230327T120424Z
UID:10008753-1856365200-1856372400@www.floridalegion.org
SUMMARY:Post 148: ALR Monthly Dinner
DESCRIPTION:Every month a member cooks something great!!!
URL:https://www.floridalegion.org/event/post-148-alr-monthly-dinner-2/2028-10-28/
LOCATION:Post 148\, 6740 Us Hwy 301 S\, Riverview\, Florida\, 33568\, United States
CATEGORIES:Legion Riders,Program Events
ORGANIZER;CN="ALR Post 148":MAILTO:director.post148@gmail.com
END:VEVENT
BEGIN:VEVENT
DTSTART;TZID=America/New_York:20281031T170000
DTEND;TZID=America/New_York:20281031T190000
DTSTAMP:20260425T121304
CREATED:20240510T190532Z
LAST-MODIFIED:20240528T201210Z
UID:10007828-1856624400-1856631600@www.floridalegion.org
SUMMARY:ALR: Chapter 10 Taco Tuesday
DESCRIPTION:Taco Tuesday\, every Tuesday sponsored by Chapter 10 Kissimmee.
URL:https://www.floridalegion.org/event/chapter-10-taco-tuesday/2028-10-31/
LOCATION:American Legion Post 10\, 205 Lakeview Dr\, Kissimmee\, FL\, 34741\, United States
CATEGORIES:All Categories,Legion Riders
END:VEVENT
BEGIN:VEVENT
DTSTART;TZID=America/New_York:20281031T180000
DTEND;TZID=America/New_York:20281031T220000
DTSTAMP:20260425T121304
CREATED:20240212T141637Z
LAST-MODIFIED:20240528T201306Z
UID:10006754-1856628000-1856642400@www.floridalegion.org
SUMMARY:Chapter 117: ALR Riders Corn Hole Tournament
DESCRIPTION:Every Tuesday\, Chapter 117 holds a Corn Hole Tournament. $5 Registration starts at 6:00pm and starts at 6:30pm. Come on out! We have a great time.
URL:https://www.floridalegion.org/event/chapter-117-alr-riders-corn-hole-tournament/2028-10-31/
LOCATION:189 Veterans DrSE\, 189 Veterans Dr SE\, Palm Bay\, 32909\, United States
CATEGORIES:Legion Riders,Program Events
END:VEVENT
BEGIN:VEVENT
DTSTART;TZID=America/New_York:20281101T183000
DTEND;TZID=America/New_York:20281101T193000
DTSTAMP:20260425T121304
CREATED:20240212T141857Z
LAST-MODIFIED:20251208T164901Z
UID:10006498-1856716200-1856719800@www.floridalegion.org
SUMMARY:Chapter 136: ALR Monthly Meeting
DESCRIPTION:Join us for our monthly meeting the 1st Wednesday  each month
URL:https://www.floridalegion.org/event/alr-chapter-136-st-james-city-monthly-meeting/2028-11-01/
LOCATION:Post 136 Pine Island Inc\, 4106 Stringfellow Rd\, St James City\, FL\, 33956\, USA
CATEGORIES:Legion Riders,Program Events
ORGANIZER;CN="ALR136":MAILTO:chuck.warren@dignitymemorial.com
END:VEVENT
BEGIN:VEVENT
DTSTART;TZID=America/New_York:20281104T090000
DTEND;TZID=America/New_York:20281104T100000
DTSTAMP:20260425T121304
CREATED:20230911T154007Z
LAST-MODIFIED:20250711T170540Z
UID:10009443-1856941200-1856944800@www.floridalegion.org
SUMMARY:Chapter 316: ALR Monthly Meeting
DESCRIPTION:eBoard meets at 8:30 am
URL:https://www.floridalegion.org/event/chapter-316-alr-monthly-meeting/2028-11-04/
LOCATION:American Legion Post 316\, 1127 Atlantic Blvd\, Atlantic Beach\, 32233\, United States
CATEGORIES:Legion Riders
ORGANIZER;CN="Denise Strickland":MAILTO:dndfishing@aol.com
END:VEVENT
BEGIN:VEVENT
DTSTART;TZID=America/New_York:20281107T170000
DTEND;TZID=America/New_York:20281107T190000
DTSTAMP:20260425T121304
CREATED:20240510T190532Z
LAST-MODIFIED:20240528T201210Z
UID:10007829-1857229200-1857236400@www.floridalegion.org
SUMMARY:ALR: Chapter 10 Taco Tuesday
DESCRIPTION:Taco Tuesday\, every Tuesday sponsored by Chapter 10 Kissimmee.
URL:https://www.floridalegion.org/event/chapter-10-taco-tuesday/2028-11-07/
LOCATION:American Legion Post 10\, 205 Lakeview Dr\, Kissimmee\, FL\, 34741\, United States
CATEGORIES:All Categories,Legion Riders
END:VEVENT
BEGIN:VEVENT
DTSTART;TZID=America/New_York:20281107T180000
DTEND;TZID=America/New_York:20281107T220000
DTSTAMP:20260425T121304
CREATED:20240212T141637Z
LAST-MODIFIED:20240528T201306Z
UID:10006755-1857232800-1857247200@www.floridalegion.org
SUMMARY:Chapter 117: ALR Riders Corn Hole Tournament
DESCRIPTION:Every Tuesday\, Chapter 117 holds a Corn Hole Tournament. $5 Registration starts at 6:00pm and starts at 6:30pm. Come on out! We have a great time.
URL:https://www.floridalegion.org/event/chapter-117-alr-riders-corn-hole-tournament/2028-11-07/
LOCATION:189 Veterans DrSE\, 189 Veterans Dr SE\, Palm Bay\, 32909\, United States
CATEGORIES:Legion Riders,Program Events
END:VEVENT
BEGIN:VEVENT
DTSTART;TZID=America/New_York:20281108T190000
DTEND;TZID=America/New_York:20281108T200000
DTSTAMP:20260425T121304
CREATED:20240122T135337Z
LAST-MODIFIED:20240122T135337Z
UID:10006429-1857322800-1857326400@www.floridalegion.org
SUMMARY:ALR: Chapter 10 Meeting
DESCRIPTION:American Legion Riders Monthly meeting\, Chapter 10\, Kissimmee
URL:https://www.floridalegion.org/event/alr-chapter-10-meeting-2/2028-11-08/
LOCATION:American Legion Post 10\, 205 Lakeview Dr\, Kissimmee\, FL\, 34741\, United States
CATEGORIES:Legion Riders,Program Events
END:VEVENT
BEGIN:VEVENT
DTSTART;TZID=America/New_York:20281111T170000
DTEND;TZID=America/New_York:20281111T190000
DTSTAMP:20260425T121304
CREATED:20230612T194230Z
LAST-MODIFIED:20230612T194230Z
UID:10008780-1857574800-1857582000@www.floridalegion.org
SUMMARY:Chapter 10: ALR Riders Dinner
DESCRIPTION:Monthly Riders Dinner Night..
URL:https://www.floridalegion.org/event/chapter-10-alr-riders-dinner/2028-11-11/
LOCATION:American Legion Post 10\, 205 Lakeview Dr\, Kissimmee\, FL\, 34741\, United States
CATEGORIES:Legion Riders,Program Events
END:VEVENT
BEGIN:VEVENT
DTSTART;TZID=America/New_York:20281112T130000
DTEND;TZID=America/New_York:20281112T140000
DTSTAMP:20260425T121304
CREATED:20240712T152500Z
LAST-MODIFIED:20240712T152500Z
UID:10008390-1857646800-1857650400@www.floridalegion.org
SUMMARY:Chapter 8: ALR Meeting
DESCRIPTION:Monthly meeting to discuss new business\, old business\, and good of the Riders.
URL:https://www.floridalegion.org/event/chapter-8-alr-meeting-2/2028-11-12/
LOCATION:Winter Haven American Legion Post 8\, 300 Avenue M NW\, Winter Haven\, FL\, 33881\, United States
CATEGORIES:Legion Riders,Post Events,Program Events
ORGANIZER;CN="ALR Chapter 8":MAILTO:hglenn1973@yahoo.com
END:VEVENT
BEGIN:VEVENT
DTSTART;TZID=America/New_York:20281114T170000
DTEND;TZID=America/New_York:20281114T190000
DTSTAMP:20260425T121304
CREATED:20240510T190532Z
LAST-MODIFIED:20240528T201210Z
UID:10007830-1857834000-1857841200@www.floridalegion.org
SUMMARY:ALR: Chapter 10 Taco Tuesday
DESCRIPTION:Taco Tuesday\, every Tuesday sponsored by Chapter 10 Kissimmee.
URL:https://www.floridalegion.org/event/chapter-10-taco-tuesday/2028-11-14/
LOCATION:American Legion Post 10\, 205 Lakeview Dr\, Kissimmee\, FL\, 34741\, United States
CATEGORIES:All Categories,Legion Riders
END:VEVENT
BEGIN:VEVENT
DTSTART;TZID=America/New_York:20281114T180000
DTEND;TZID=America/New_York:20281114T220000
DTSTAMP:20260425T121304
CREATED:20240212T141637Z
LAST-MODIFIED:20240528T201306Z
UID:10006756-1857837600-1857852000@www.floridalegion.org
SUMMARY:Chapter 117: ALR Riders Corn Hole Tournament
DESCRIPTION:Every Tuesday\, Chapter 117 holds a Corn Hole Tournament. $5 Registration starts at 6:00pm and starts at 6:30pm. Come on out! We have a great time.
URL:https://www.floridalegion.org/event/chapter-117-alr-riders-corn-hole-tournament/2028-11-14/
LOCATION:189 Veterans DrSE\, 189 Veterans Dr SE\, Palm Bay\, 32909\, United States
CATEGORIES:Legion Riders,Program Events
END:VEVENT
BEGIN:VEVENT
DTSTART;TZID=America/New_York:20281117T170000
DTEND;TZID=America/New_York:20281117T183000
DTSTAMP:20260425T121304
CREATED:20230213T165041Z
LAST-MODIFIED:20230213T165041Z
UID:10008677-1858093200-1858098600@www.floridalegion.org
SUMMARY:Chapter 8: ALR Dinner Night
DESCRIPTION:Monthly ALR dinner night at Winter Haven Post 8
URL:https://www.floridalegion.org/event/chapter-8-alr-dinner-night/2028-11-17/
LOCATION:Winter Haven American Legion Post 8\, 300 Avenue M NW\, Winter Haven\, FL\, 33881\, United States
CATEGORIES:Legion Riders
ORGANIZER;CN="ALR Chapter 8":MAILTO:hglenn1973@yahoo.com
END:VEVENT
BEGIN:VEVENT
DTSTART;TZID=America/New_York:20281118T170000
DTEND;TZID=America/New_York:20281118T190000
DTSTAMP:20260425T121304
CREATED:20240710T124628Z
LAST-MODIFIED:20240710T124628Z
UID:10008327-1858179600-1858186800@www.floridalegion.org
SUMMARY:ALR: Chapter 54 Steak Night
DESCRIPTION:Come out to beautiful Amelia Island for a Steak dinner! \nYou get a 12 oz. Ribeye\, baked potato\, Corn on the Cob\, salad and roll all for the amazing price of $18.00 or 2/$35.00. We cook the steaks to order so you will not be disappointed.\n\nSAVE YOUR STEAKS: prepay with Venmo or PayPal and you can “Save Your Steaks.” Simply scan the QR code or input the screen name.\nVenmo: @Roninna-JakwayPayPal: @RoninnaEmail: tangentnina@gmail.com\nPut steak dinner in the notes when you make your payment and your steak(s) will be set aside for you.
URL:https://www.floridalegion.org/event/alr-chapter-54-steak-night/2028-11-18/
LOCATION:American Legion Post 54\, 626 S. 3rd Street\, fernandina beach\, fl\, 32034\, United States
CATEGORIES:Legion Riders,Post Events
ATTACH;FMTTYPE=image/png:https://www.floridalegion.org/wp-content/uploads/2024/07/Steak.png
ORGANIZER;CN="A.L.R. Post 54":MAILTO:alpost54FirstVice@gmail.com
END:VEVENT
BEGIN:VEVENT
DTSTART;TZID=America/New_York:20281121T170000
DTEND;TZID=America/New_York:20281121T190000
DTSTAMP:20260425T121304
CREATED:20240510T190532Z
LAST-MODIFIED:20240528T201210Z
UID:10007831-1858438800-1858446000@www.floridalegion.org
SUMMARY:ALR: Chapter 10 Taco Tuesday
DESCRIPTION:Taco Tuesday\, every Tuesday sponsored by Chapter 10 Kissimmee.
URL:https://www.floridalegion.org/event/chapter-10-taco-tuesday/2028-11-21/
LOCATION:American Legion Post 10\, 205 Lakeview Dr\, Kissimmee\, FL\, 34741\, United States
CATEGORIES:All Categories,Legion Riders
END:VEVENT
BEGIN:VEVENT
DTSTART;TZID=America/New_York:20281121T180000
DTEND;TZID=America/New_York:20281121T220000
DTSTAMP:20260425T121304
CREATED:20240212T141637Z
LAST-MODIFIED:20240528T201306Z
UID:10006757-1858442400-1858456800@www.floridalegion.org
SUMMARY:Chapter 117: ALR Riders Corn Hole Tournament
DESCRIPTION:Every Tuesday\, Chapter 117 holds a Corn Hole Tournament. $5 Registration starts at 6:00pm and starts at 6:30pm. Come on out! We have a great time.
URL:https://www.floridalegion.org/event/chapter-117-alr-riders-corn-hole-tournament/2028-11-21/
LOCATION:189 Veterans DrSE\, 189 Veterans Dr SE\, Palm Bay\, 32909\, United States
CATEGORIES:Legion Riders,Program Events
END:VEVENT
BEGIN:VEVENT
DTSTART;TZID=America/New_York:20281125T170000
DTEND;TZID=America/New_York:20281125T190000
DTSTAMP:20260425T121304
CREATED:20230327T120424Z
LAST-MODIFIED:20230327T120424Z
UID:10008754-1858784400-1858791600@www.floridalegion.org
SUMMARY:Post 148: ALR Monthly Dinner
DESCRIPTION:Every month a member cooks something great!!!
URL:https://www.floridalegion.org/event/post-148-alr-monthly-dinner-2/2028-11-25/
LOCATION:Post 148\, 6740 Us Hwy 301 S\, Riverview\, Florida\, 33568\, United States
CATEGORIES:Legion Riders,Program Events
ORGANIZER;CN="ALR Post 148":MAILTO:director.post148@gmail.com
END:VEVENT
BEGIN:VEVENT
DTSTART;TZID=America/New_York:20281128T170000
DTEND;TZID=America/New_York:20281128T190000
DTSTAMP:20260425T121304
CREATED:20240510T190532Z
LAST-MODIFIED:20240528T201210Z
UID:10007832-1859043600-1859050800@www.floridalegion.org
SUMMARY:ALR: Chapter 10 Taco Tuesday
DESCRIPTION:Taco Tuesday\, every Tuesday sponsored by Chapter 10 Kissimmee.
URL:https://www.floridalegion.org/event/chapter-10-taco-tuesday/2028-11-28/
LOCATION:American Legion Post 10\, 205 Lakeview Dr\, Kissimmee\, FL\, 34741\, United States
CATEGORIES:All Categories,Legion Riders
END:VEVENT
BEGIN:VEVENT
DTSTART;TZID=America/New_York:20281128T180000
DTEND;TZID=America/New_York:20281128T220000
DTSTAMP:20260425T121304
CREATED:20240212T141637Z
LAST-MODIFIED:20240528T201306Z
UID:10006758-1859047200-1859061600@www.floridalegion.org
SUMMARY:Chapter 117: ALR Riders Corn Hole Tournament
DESCRIPTION:Every Tuesday\, Chapter 117 holds a Corn Hole Tournament. $5 Registration starts at 6:00pm and starts at 6:30pm. Come on out! We have a great time.
URL:https://www.floridalegion.org/event/chapter-117-alr-riders-corn-hole-tournament/2028-11-28/
LOCATION:189 Veterans DrSE\, 189 Veterans Dr SE\, Palm Bay\, 32909\, United States
CATEGORIES:Legion Riders,Program Events
END:VEVENT
BEGIN:VEVENT
DTSTART;TZID=America/New_York:20281202T090000
DTEND;TZID=America/New_York:20281202T100000
DTSTAMP:20260425T121304
CREATED:20230911T154007Z
LAST-MODIFIED:20250711T170540Z
UID:10009444-1859360400-1859364000@www.floridalegion.org
SUMMARY:Chapter 316: ALR Monthly Meeting
DESCRIPTION:eBoard meets at 8:30 am
URL:https://www.floridalegion.org/event/chapter-316-alr-monthly-meeting/2028-12-02/
LOCATION:American Legion Post 316\, 1127 Atlantic Blvd\, Atlantic Beach\, 32233\, United States
CATEGORIES:Legion Riders
ORGANIZER;CN="Denise Strickland":MAILTO:dndfishing@aol.com
END:VEVENT
END:VCALENDAR