BEGIN:VCALENDAR
VERSION:2.0
PRODID:-//Florida American Legion - ECPv6.15.20//NONSGML v1.0//EN
CALSCALE:GREGORIAN
METHOD:PUBLISH
X-ORIGINAL-URL:https://www.floridalegion.org
X-WR-CALDESC:Events for Florida American Legion
REFRESH-INTERVAL;VALUE=DURATION:PT1H
X-Robots-Tag:noindex
X-PUBLISHED-TTL:PT1H
BEGIN:VTIMEZONE
TZID:America/New_York
BEGIN:DAYLIGHT
TZOFFSETFROM:-0500
TZOFFSETTO:-0400
TZNAME:EDT
DTSTART:20270314T070000
END:DAYLIGHT
BEGIN:STANDARD
TZOFFSETFROM:-0400
TZOFFSETTO:-0500
TZNAME:EST
DTSTART:20271107T060000
END:STANDARD
BEGIN:DAYLIGHT
TZOFFSETFROM:-0500
TZOFFSETTO:-0400
TZNAME:EDT
DTSTART:20280312T070000
END:DAYLIGHT
BEGIN:STANDARD
TZOFFSETFROM:-0400
TZOFFSETTO:-0500
TZNAME:EST
DTSTART:20281105T060000
END:STANDARD
BEGIN:DAYLIGHT
TZOFFSETFROM:-0500
TZOFFSETTO:-0400
TZNAME:EDT
DTSTART:20290311T070000
END:DAYLIGHT
BEGIN:STANDARD
TZOFFSETFROM:-0400
TZOFFSETTO:-0500
TZNAME:EST
DTSTART:20291104T060000
END:STANDARD
END:VTIMEZONE
BEGIN:VEVENT
DTSTART;TZID=America/New_York:20280905T170000
DTEND;TZID=America/New_York:20280905T190000
DTSTAMP:20260425T063438
CREATED:20240510T190532Z
LAST-MODIFIED:20240528T201210Z
UID:10007820-1851786000-1851793200@www.floridalegion.org
SUMMARY:ALR: Chapter 10 Taco Tuesday
DESCRIPTION:Taco Tuesday\, every Tuesday sponsored by Chapter 10 Kissimmee.
URL:https://www.floridalegion.org/event/chapter-10-taco-tuesday/2028-09-05/
LOCATION:American Legion Post 10\, 205 Lakeview Dr\, Kissimmee\, FL\, 34741\, United States
CATEGORIES:All Categories,Legion Riders
END:VEVENT
BEGIN:VEVENT
DTSTART;TZID=America/New_York:20280905T180000
DTEND;TZID=America/New_York:20280905T220000
DTSTAMP:20260425T063438
CREATED:20240212T141637Z
LAST-MODIFIED:20240528T201306Z
UID:10006746-1851789600-1851804000@www.floridalegion.org
SUMMARY:Chapter 117: ALR Riders Corn Hole Tournament
DESCRIPTION:Every Tuesday\, Chapter 117 holds a Corn Hole Tournament. $5 Registration starts at 6:00pm and starts at 6:30pm. Come on out! We have a great time.
URL:https://www.floridalegion.org/event/chapter-117-alr-riders-corn-hole-tournament/2028-09-05/
LOCATION:189 Veterans DrSE\, 189 Veterans Dr SE\, Palm Bay\, 32909\, United States
CATEGORIES:Legion Riders,Program Events
END:VEVENT
BEGIN:VEVENT
DTSTART;TZID=America/New_York:20280906T183000
DTEND;TZID=America/New_York:20280906T193000
DTSTAMP:20260425T063438
CREATED:20240212T141857Z
LAST-MODIFIED:20251208T164901Z
UID:10006496-1851877800-1851881400@www.floridalegion.org
SUMMARY:Chapter 136: ALR Monthly Meeting
DESCRIPTION:Join us for our monthly meeting the 1st Wednesday  each month
URL:https://www.floridalegion.org/event/alr-chapter-136-st-james-city-monthly-meeting/2028-09-06/
LOCATION:Post 136 Pine Island Inc\, 4106 Stringfellow Rd\, St James City\, FL\, 33956\, USA
CATEGORIES:Legion Riders,Program Events
ORGANIZER;CN="ALR136":MAILTO:chuck.warren@dignitymemorial.com
END:VEVENT
BEGIN:VEVENT
DTSTART;TZID=America/New_York:20280909T170000
DTEND;TZID=America/New_York:20280909T190000
DTSTAMP:20260425T063438
CREATED:20230612T194230Z
LAST-MODIFIED:20230612T194230Z
UID:10008778-1852131600-1852138800@www.floridalegion.org
SUMMARY:Chapter 10: ALR Riders Dinner
DESCRIPTION:Monthly Riders Dinner Night..
URL:https://www.floridalegion.org/event/chapter-10-alr-riders-dinner/2028-09-09/
LOCATION:American Legion Post 10\, 205 Lakeview Dr\, Kissimmee\, FL\, 34741\, United States
CATEGORIES:Legion Riders,Program Events
END:VEVENT
BEGIN:VEVENT
DTSTART;TZID=America/New_York:20280910T130000
DTEND;TZID=America/New_York:20280910T140000
DTSTAMP:20260425T063438
CREATED:20240712T152500Z
LAST-MODIFIED:20240712T152500Z
UID:10008388-1852203600-1852207200@www.floridalegion.org
SUMMARY:Chapter 8: ALR Meeting
DESCRIPTION:Monthly meeting to discuss new business\, old business\, and good of the Riders.
URL:https://www.floridalegion.org/event/chapter-8-alr-meeting-2/2028-09-10/
LOCATION:Winter Haven American Legion Post 8\, 300 Avenue M NW\, Winter Haven\, FL\, 33881\, United States
CATEGORIES:Legion Riders,Post Events,Program Events
ORGANIZER;CN="ALR Chapter 8":MAILTO:hglenn1973@yahoo.com
END:VEVENT
BEGIN:VEVENT
DTSTART;TZID=America/New_York:20280912T170000
DTEND;TZID=America/New_York:20280912T190000
DTSTAMP:20260425T063438
CREATED:20240510T190532Z
LAST-MODIFIED:20240528T201210Z
UID:10007821-1852390800-1852398000@www.floridalegion.org
SUMMARY:ALR: Chapter 10 Taco Tuesday
DESCRIPTION:Taco Tuesday\, every Tuesday sponsored by Chapter 10 Kissimmee.
URL:https://www.floridalegion.org/event/chapter-10-taco-tuesday/2028-09-12/
LOCATION:American Legion Post 10\, 205 Lakeview Dr\, Kissimmee\, FL\, 34741\, United States
CATEGORIES:All Categories,Legion Riders
END:VEVENT
BEGIN:VEVENT
DTSTART;TZID=America/New_York:20280912T180000
DTEND;TZID=America/New_York:20280912T220000
DTSTAMP:20260425T063438
CREATED:20240212T141637Z
LAST-MODIFIED:20240528T201306Z
UID:10006747-1852394400-1852408800@www.floridalegion.org
SUMMARY:Chapter 117: ALR Riders Corn Hole Tournament
DESCRIPTION:Every Tuesday\, Chapter 117 holds a Corn Hole Tournament. $5 Registration starts at 6:00pm and starts at 6:30pm. Come on out! We have a great time.
URL:https://www.floridalegion.org/event/chapter-117-alr-riders-corn-hole-tournament/2028-09-12/
LOCATION:189 Veterans DrSE\, 189 Veterans Dr SE\, Palm Bay\, 32909\, United States
CATEGORIES:Legion Riders,Program Events
END:VEVENT
BEGIN:VEVENT
DTSTART;TZID=America/New_York:20280913T190000
DTEND;TZID=America/New_York:20280913T200000
DTSTAMP:20260425T063438
CREATED:20240122T135337Z
LAST-MODIFIED:20240122T135337Z
UID:10006427-1852484400-1852488000@www.floridalegion.org
SUMMARY:ALR: Chapter 10 Meeting
DESCRIPTION:American Legion Riders Monthly meeting\, Chapter 10\, Kissimmee
URL:https://www.floridalegion.org/event/alr-chapter-10-meeting-2/2028-09-13/
LOCATION:American Legion Post 10\, 205 Lakeview Dr\, Kissimmee\, FL\, 34741\, United States
CATEGORIES:Legion Riders,Program Events
END:VEVENT
BEGIN:VEVENT
DTSTART;TZID=America/New_York:20280915T170000
DTEND;TZID=America/New_York:20280915T183000
DTSTAMP:20260425T063438
CREATED:20230213T165041Z
LAST-MODIFIED:20230213T165041Z
UID:10008675-1852650000-1852655400@www.floridalegion.org
SUMMARY:Chapter 8: ALR Dinner Night
DESCRIPTION:Monthly ALR dinner night at Winter Haven Post 8
URL:https://www.floridalegion.org/event/chapter-8-alr-dinner-night/2028-09-15/
LOCATION:Winter Haven American Legion Post 8\, 300 Avenue M NW\, Winter Haven\, FL\, 33881\, United States
CATEGORIES:Legion Riders
ORGANIZER;CN="ALR Chapter 8":MAILTO:hglenn1973@yahoo.com
END:VEVENT
BEGIN:VEVENT
DTSTART;TZID=America/New_York:20280916T170000
DTEND;TZID=America/New_York:20280916T190000
DTSTAMP:20260425T063438
CREATED:20240710T124628Z
LAST-MODIFIED:20240710T124628Z
UID:10008325-1852736400-1852743600@www.floridalegion.org
SUMMARY:ALR: Chapter 54 Steak Night
DESCRIPTION:Come out to beautiful Amelia Island for a Steak dinner! \nYou get a 12 oz. Ribeye\, baked potato\, Corn on the Cob\, salad and roll all for the amazing price of $18.00 or 2/$35.00. We cook the steaks to order so you will not be disappointed.\n\nSAVE YOUR STEAKS: prepay with Venmo or PayPal and you can “Save Your Steaks.” Simply scan the QR code or input the screen name.\nVenmo: @Roninna-JakwayPayPal: @RoninnaEmail: tangentnina@gmail.com\nPut steak dinner in the notes when you make your payment and your steak(s) will be set aside for you.
URL:https://www.floridalegion.org/event/alr-chapter-54-steak-night/2028-09-16/
LOCATION:American Legion Post 54\, 626 S. 3rd Street\, fernandina beach\, fl\, 32034\, United States
CATEGORIES:Legion Riders,Post Events
ATTACH;FMTTYPE=image/png:https://www.floridalegion.org/wp-content/uploads/2024/07/Steak.png
ORGANIZER;CN="A.L.R. Post 54":MAILTO:alpost54FirstVice@gmail.com
END:VEVENT
BEGIN:VEVENT
DTSTART;TZID=America/New_York:20280919T170000
DTEND;TZID=America/New_York:20280919T190000
DTSTAMP:20260425T063438
CREATED:20240510T190532Z
LAST-MODIFIED:20240528T201210Z
UID:10007822-1852995600-1853002800@www.floridalegion.org
SUMMARY:ALR: Chapter 10 Taco Tuesday
DESCRIPTION:Taco Tuesday\, every Tuesday sponsored by Chapter 10 Kissimmee.
URL:https://www.floridalegion.org/event/chapter-10-taco-tuesday/2028-09-19/
LOCATION:American Legion Post 10\, 205 Lakeview Dr\, Kissimmee\, FL\, 34741\, United States
CATEGORIES:All Categories,Legion Riders
END:VEVENT
BEGIN:VEVENT
DTSTART;TZID=America/New_York:20280919T180000
DTEND;TZID=America/New_York:20280919T220000
DTSTAMP:20260425T063438
CREATED:20240212T141637Z
LAST-MODIFIED:20240528T201306Z
UID:10006748-1852999200-1853013600@www.floridalegion.org
SUMMARY:Chapter 117: ALR Riders Corn Hole Tournament
DESCRIPTION:Every Tuesday\, Chapter 117 holds a Corn Hole Tournament. $5 Registration starts at 6:00pm and starts at 6:30pm. Come on out! We have a great time.
URL:https://www.floridalegion.org/event/chapter-117-alr-riders-corn-hole-tournament/2028-09-19/
LOCATION:189 Veterans DrSE\, 189 Veterans Dr SE\, Palm Bay\, 32909\, United States
CATEGORIES:Legion Riders,Program Events
END:VEVENT
BEGIN:VEVENT
DTSTART;TZID=America/New_York:20280926T170000
DTEND;TZID=America/New_York:20280926T190000
DTSTAMP:20260425T063438
CREATED:20240510T190532Z
LAST-MODIFIED:20240528T201210Z
UID:10007823-1853600400-1853607600@www.floridalegion.org
SUMMARY:ALR: Chapter 10 Taco Tuesday
DESCRIPTION:Taco Tuesday\, every Tuesday sponsored by Chapter 10 Kissimmee.
URL:https://www.floridalegion.org/event/chapter-10-taco-tuesday/2028-09-26/
LOCATION:American Legion Post 10\, 205 Lakeview Dr\, Kissimmee\, FL\, 34741\, United States
CATEGORIES:All Categories,Legion Riders
END:VEVENT
BEGIN:VEVENT
DTSTART;TZID=America/New_York:20280926T180000
DTEND;TZID=America/New_York:20280926T220000
DTSTAMP:20260425T063438
CREATED:20240212T141637Z
LAST-MODIFIED:20240528T201306Z
UID:10006749-1853604000-1853618400@www.floridalegion.org
SUMMARY:Chapter 117: ALR Riders Corn Hole Tournament
DESCRIPTION:Every Tuesday\, Chapter 117 holds a Corn Hole Tournament. $5 Registration starts at 6:00pm and starts at 6:30pm. Come on out! We have a great time.
URL:https://www.floridalegion.org/event/chapter-117-alr-riders-corn-hole-tournament/2028-09-26/
LOCATION:189 Veterans DrSE\, 189 Veterans Dr SE\, Palm Bay\, 32909\, United States
CATEGORIES:Legion Riders,Program Events
END:VEVENT
BEGIN:VEVENT
DTSTART;TZID=America/New_York:20280930T170000
DTEND;TZID=America/New_York:20280930T190000
DTSTAMP:20260425T063438
CREATED:20230327T120424Z
LAST-MODIFIED:20230327T120424Z
UID:10008752-1853946000-1853953200@www.floridalegion.org
SUMMARY:Post 148: ALR Monthly Dinner
DESCRIPTION:Every month a member cooks something great!!!
URL:https://www.floridalegion.org/event/post-148-alr-monthly-dinner-2/2028-09-30/
LOCATION:Post 148\, 6740 Us Hwy 301 S\, Riverview\, Florida\, 33568\, United States
CATEGORIES:Legion Riders,Program Events
ORGANIZER;CN="ALR Post 148":MAILTO:director.post148@gmail.com
END:VEVENT
BEGIN:VEVENT
DTSTART;TZID=America/New_York:20281003T170000
DTEND;TZID=America/New_York:20281003T190000
DTSTAMP:20260425T063438
CREATED:20240510T190532Z
LAST-MODIFIED:20240528T201210Z
UID:10007824-1854205200-1854212400@www.floridalegion.org
SUMMARY:ALR: Chapter 10 Taco Tuesday
DESCRIPTION:Taco Tuesday\, every Tuesday sponsored by Chapter 10 Kissimmee.
URL:https://www.floridalegion.org/event/chapter-10-taco-tuesday/2028-10-03/
LOCATION:American Legion Post 10\, 205 Lakeview Dr\, Kissimmee\, FL\, 34741\, United States
CATEGORIES:All Categories,Legion Riders
END:VEVENT
BEGIN:VEVENT
DTSTART;TZID=America/New_York:20281003T180000
DTEND;TZID=America/New_York:20281003T220000
DTSTAMP:20260425T063438
CREATED:20240212T141637Z
LAST-MODIFIED:20240528T201306Z
UID:10006750-1854208800-1854223200@www.floridalegion.org
SUMMARY:Chapter 117: ALR Riders Corn Hole Tournament
DESCRIPTION:Every Tuesday\, Chapter 117 holds a Corn Hole Tournament. $5 Registration starts at 6:00pm and starts at 6:30pm. Come on out! We have a great time.
URL:https://www.floridalegion.org/event/chapter-117-alr-riders-corn-hole-tournament/2028-10-03/
LOCATION:189 Veterans DrSE\, 189 Veterans Dr SE\, Palm Bay\, 32909\, United States
CATEGORIES:Legion Riders,Program Events
END:VEVENT
BEGIN:VEVENT
DTSTART;TZID=America/New_York:20281004T183000
DTEND;TZID=America/New_York:20281004T193000
DTSTAMP:20260425T063438
CREATED:20240212T141857Z
LAST-MODIFIED:20251208T164901Z
UID:10006497-1854297000-1854300600@www.floridalegion.org
SUMMARY:Chapter 136: ALR Monthly Meeting
DESCRIPTION:Join us for our monthly meeting the 1st Wednesday  each month
URL:https://www.floridalegion.org/event/alr-chapter-136-st-james-city-monthly-meeting/2028-10-04/
LOCATION:Post 136 Pine Island Inc\, 4106 Stringfellow Rd\, St James City\, FL\, 33956\, USA
CATEGORIES:Legion Riders,Program Events
ORGANIZER;CN="ALR136":MAILTO:chuck.warren@dignitymemorial.com
END:VEVENT
BEGIN:VEVENT
DTSTART;TZID=America/New_York:20281007T090000
DTEND;TZID=America/New_York:20281007T100000
DTSTAMP:20260425T063438
CREATED:20230911T154007Z
LAST-MODIFIED:20250711T170540Z
UID:10009442-1854522000-1854525600@www.floridalegion.org
SUMMARY:Chapter 316: ALR Monthly Meeting
DESCRIPTION:eBoard meets at 8:30 am
URL:https://www.floridalegion.org/event/chapter-316-alr-monthly-meeting/2028-10-07/
LOCATION:American Legion Post 316\, 1127 Atlantic Blvd\, Atlantic Beach\, 32233\, United States
CATEGORIES:Legion Riders
ORGANIZER;CN="Denise Strickland":MAILTO:dndfishing@aol.com
END:VEVENT
BEGIN:VEVENT
DTSTART;TZID=America/New_York:20281008T130000
DTEND;TZID=America/New_York:20281008T140000
DTSTAMP:20260425T063438
CREATED:20240712T152500Z
LAST-MODIFIED:20240712T152500Z
UID:10008389-1854622800-1854626400@www.floridalegion.org
SUMMARY:Chapter 8: ALR Meeting
DESCRIPTION:Monthly meeting to discuss new business\, old business\, and good of the Riders.
URL:https://www.floridalegion.org/event/chapter-8-alr-meeting-2/2028-10-08/
LOCATION:Winter Haven American Legion Post 8\, 300 Avenue M NW\, Winter Haven\, FL\, 33881\, United States
CATEGORIES:Legion Riders,Post Events,Program Events
ORGANIZER;CN="ALR Chapter 8":MAILTO:hglenn1973@yahoo.com
END:VEVENT
BEGIN:VEVENT
DTSTART;TZID=America/New_York:20281010T170000
DTEND;TZID=America/New_York:20281010T190000
DTSTAMP:20260425T063438
CREATED:20240510T190532Z
LAST-MODIFIED:20240528T201210Z
UID:10007825-1854810000-1854817200@www.floridalegion.org
SUMMARY:ALR: Chapter 10 Taco Tuesday
DESCRIPTION:Taco Tuesday\, every Tuesday sponsored by Chapter 10 Kissimmee.
URL:https://www.floridalegion.org/event/chapter-10-taco-tuesday/2028-10-10/
LOCATION:American Legion Post 10\, 205 Lakeview Dr\, Kissimmee\, FL\, 34741\, United States
CATEGORIES:All Categories,Legion Riders
END:VEVENT
BEGIN:VEVENT
DTSTART;TZID=America/New_York:20281010T180000
DTEND;TZID=America/New_York:20281010T220000
DTSTAMP:20260425T063438
CREATED:20240212T141637Z
LAST-MODIFIED:20240528T201306Z
UID:10006751-1854813600-1854828000@www.floridalegion.org
SUMMARY:Chapter 117: ALR Riders Corn Hole Tournament
DESCRIPTION:Every Tuesday\, Chapter 117 holds a Corn Hole Tournament. $5 Registration starts at 6:00pm and starts at 6:30pm. Come on out! We have a great time.
URL:https://www.floridalegion.org/event/chapter-117-alr-riders-corn-hole-tournament/2028-10-10/
LOCATION:189 Veterans DrSE\, 189 Veterans Dr SE\, Palm Bay\, 32909\, United States
CATEGORIES:Legion Riders,Program Events
END:VEVENT
BEGIN:VEVENT
DTSTART;TZID=America/New_York:20281011T190000
DTEND;TZID=America/New_York:20281011T200000
DTSTAMP:20260425T063438
CREATED:20240122T135337Z
LAST-MODIFIED:20240122T135337Z
UID:10006428-1854903600-1854907200@www.floridalegion.org
SUMMARY:ALR: Chapter 10 Meeting
DESCRIPTION:American Legion Riders Monthly meeting\, Chapter 10\, Kissimmee
URL:https://www.floridalegion.org/event/alr-chapter-10-meeting-2/2028-10-11/
LOCATION:American Legion Post 10\, 205 Lakeview Dr\, Kissimmee\, FL\, 34741\, United States
CATEGORIES:Legion Riders,Program Events
END:VEVENT
BEGIN:VEVENT
DTSTART;TZID=America/New_York:20281014T170000
DTEND;TZID=America/New_York:20281014T190000
DTSTAMP:20260425T063438
CREATED:20230612T194230Z
LAST-MODIFIED:20230612T194230Z
UID:10008779-1855155600-1855162800@www.floridalegion.org
SUMMARY:Chapter 10: ALR Riders Dinner
DESCRIPTION:Monthly Riders Dinner Night..
URL:https://www.floridalegion.org/event/chapter-10-alr-riders-dinner/2028-10-14/
LOCATION:American Legion Post 10\, 205 Lakeview Dr\, Kissimmee\, FL\, 34741\, United States
CATEGORIES:Legion Riders,Program Events
END:VEVENT
BEGIN:VEVENT
DTSTART;TZID=America/New_York:20281017T170000
DTEND;TZID=America/New_York:20281017T190000
DTSTAMP:20260425T063439
CREATED:20240510T190532Z
LAST-MODIFIED:20240528T201210Z
UID:10007826-1855414800-1855422000@www.floridalegion.org
SUMMARY:ALR: Chapter 10 Taco Tuesday
DESCRIPTION:Taco Tuesday\, every Tuesday sponsored by Chapter 10 Kissimmee.
URL:https://www.floridalegion.org/event/chapter-10-taco-tuesday/2028-10-17/
LOCATION:American Legion Post 10\, 205 Lakeview Dr\, Kissimmee\, FL\, 34741\, United States
CATEGORIES:All Categories,Legion Riders
END:VEVENT
BEGIN:VEVENT
DTSTART;TZID=America/New_York:20281017T180000
DTEND;TZID=America/New_York:20281017T220000
DTSTAMP:20260425T063439
CREATED:20240212T141637Z
LAST-MODIFIED:20240528T201306Z
UID:10006752-1855418400-1855432800@www.floridalegion.org
SUMMARY:Chapter 117: ALR Riders Corn Hole Tournament
DESCRIPTION:Every Tuesday\, Chapter 117 holds a Corn Hole Tournament. $5 Registration starts at 6:00pm and starts at 6:30pm. Come on out! We have a great time.
URL:https://www.floridalegion.org/event/chapter-117-alr-riders-corn-hole-tournament/2028-10-17/
LOCATION:189 Veterans DrSE\, 189 Veterans Dr SE\, Palm Bay\, 32909\, United States
CATEGORIES:Legion Riders,Program Events
END:VEVENT
BEGIN:VEVENT
DTSTART;TZID=America/New_York:20281020T170000
DTEND;TZID=America/New_York:20281020T183000
DTSTAMP:20260425T063439
CREATED:20230213T165041Z
LAST-MODIFIED:20230213T165041Z
UID:10008676-1855674000-1855679400@www.floridalegion.org
SUMMARY:Chapter 8: ALR Dinner Night
DESCRIPTION:Monthly ALR dinner night at Winter Haven Post 8
URL:https://www.floridalegion.org/event/chapter-8-alr-dinner-night/2028-10-20/
LOCATION:Winter Haven American Legion Post 8\, 300 Avenue M NW\, Winter Haven\, FL\, 33881\, United States
CATEGORIES:Legion Riders
ORGANIZER;CN="ALR Chapter 8":MAILTO:hglenn1973@yahoo.com
END:VEVENT
BEGIN:VEVENT
DTSTART;TZID=America/New_York:20281021T170000
DTEND;TZID=America/New_York:20281021T190000
DTSTAMP:20260425T063439
CREATED:20240710T124628Z
LAST-MODIFIED:20240710T124628Z
UID:10008326-1855760400-1855767600@www.floridalegion.org
SUMMARY:ALR: Chapter 54 Steak Night
DESCRIPTION:Come out to beautiful Amelia Island for a Steak dinner! \nYou get a 12 oz. Ribeye\, baked potato\, Corn on the Cob\, salad and roll all for the amazing price of $18.00 or 2/$35.00. We cook the steaks to order so you will not be disappointed.\n\nSAVE YOUR STEAKS: prepay with Venmo or PayPal and you can “Save Your Steaks.” Simply scan the QR code or input the screen name.\nVenmo: @Roninna-JakwayPayPal: @RoninnaEmail: tangentnina@gmail.com\nPut steak dinner in the notes when you make your payment and your steak(s) will be set aside for you.
URL:https://www.floridalegion.org/event/alr-chapter-54-steak-night/2028-10-21/
LOCATION:American Legion Post 54\, 626 S. 3rd Street\, fernandina beach\, fl\, 32034\, United States
CATEGORIES:Legion Riders,Post Events
ATTACH;FMTTYPE=image/png:https://www.floridalegion.org/wp-content/uploads/2024/07/Steak.png
ORGANIZER;CN="A.L.R. Post 54":MAILTO:alpost54FirstVice@gmail.com
END:VEVENT
BEGIN:VEVENT
DTSTART;TZID=America/New_York:20281024T170000
DTEND;TZID=America/New_York:20281024T190000
DTSTAMP:20260425T063439
CREATED:20240510T190532Z
LAST-MODIFIED:20240528T201210Z
UID:10007827-1856019600-1856026800@www.floridalegion.org
SUMMARY:ALR: Chapter 10 Taco Tuesday
DESCRIPTION:Taco Tuesday\, every Tuesday sponsored by Chapter 10 Kissimmee.
URL:https://www.floridalegion.org/event/chapter-10-taco-tuesday/2028-10-24/
LOCATION:American Legion Post 10\, 205 Lakeview Dr\, Kissimmee\, FL\, 34741\, United States
CATEGORIES:All Categories,Legion Riders
END:VEVENT
BEGIN:VEVENT
DTSTART;TZID=America/New_York:20281024T180000
DTEND;TZID=America/New_York:20281024T220000
DTSTAMP:20260425T063439
CREATED:20240212T141637Z
LAST-MODIFIED:20240528T201306Z
UID:10006753-1856023200-1856037600@www.floridalegion.org
SUMMARY:Chapter 117: ALR Riders Corn Hole Tournament
DESCRIPTION:Every Tuesday\, Chapter 117 holds a Corn Hole Tournament. $5 Registration starts at 6:00pm and starts at 6:30pm. Come on out! We have a great time.
URL:https://www.floridalegion.org/event/chapter-117-alr-riders-corn-hole-tournament/2028-10-24/
LOCATION:189 Veterans DrSE\, 189 Veterans Dr SE\, Palm Bay\, 32909\, United States
CATEGORIES:Legion Riders,Program Events
END:VEVENT
END:VCALENDAR