BEGIN:VCALENDAR
VERSION:2.0
PRODID:-//Florida American Legion - ECPv6.15.20//NONSGML v1.0//EN
CALSCALE:GREGORIAN
METHOD:PUBLISH
X-WR-CALNAME:Florida American Legion
X-ORIGINAL-URL:https://www.floridalegion.org
X-WR-CALDESC:Events for Florida American Legion
REFRESH-INTERVAL;VALUE=DURATION:PT1H
X-Robots-Tag:noindex
X-PUBLISHED-TTL:PT1H
BEGIN:VTIMEZONE
TZID:America/New_York
BEGIN:DAYLIGHT
TZOFFSETFROM:-0500
TZOFFSETTO:-0400
TZNAME:EDT
DTSTART:20240310T070000
END:DAYLIGHT
BEGIN:STANDARD
TZOFFSETFROM:-0400
TZOFFSETTO:-0500
TZNAME:EST
DTSTART:20241103T060000
END:STANDARD
BEGIN:DAYLIGHT
TZOFFSETFROM:-0500
TZOFFSETTO:-0400
TZNAME:EDT
DTSTART:20250309T070000
END:DAYLIGHT
BEGIN:STANDARD
TZOFFSETFROM:-0400
TZOFFSETTO:-0500
TZNAME:EST
DTSTART:20251102T060000
END:STANDARD
BEGIN:DAYLIGHT
TZOFFSETFROM:-0500
TZOFFSETTO:-0400
TZNAME:EDT
DTSTART:20260308T070000
END:DAYLIGHT
BEGIN:STANDARD
TZOFFSETFROM:-0400
TZOFFSETTO:-0500
TZNAME:EST
DTSTART:20261101T060000
END:STANDARD
END:VTIMEZONE
BEGIN:VEVENT
DTSTART;TZID=America/New_York:20250125T110000
DTEND;TZID=America/New_York:20250125T170000
DTSTAMP:20260421T063623
CREATED:20241121T142254Z
LAST-MODIFIED:20241121T142254Z
UID:10008484-1737802800-1737824400@www.floridalegion.org
SUMMARY:SW Area Riders Rally
DESCRIPTION:The American Legion Southwestern Area Riders are hosting a ‘SW Area Riders Rally’ with a Veterans Exposition and Children and Youth Fair to be hosted at American Legion Post 103 – 2101 Taylor Rd\, Punta Gorda\, FL 33950 on Saturday January 25th\, 2025 \nThis Rally is an event to bring together Riders and their families from our Southwestern Area\, consisting of Charlotte County and the surrounding nine counties\, for a one stop location for camaraderie\, family entertainment\, youth activities and more importantly Veterans and Family support services.
URL:https://www.floridalegion.org/event/sw-area-riders-rally/
LOCATION:Post 103 D.N. McQueen\, 2101 Taylor Rd\, Punta Gorda\, FL\, 33950-6254\, USA
CATEGORIES:District Events,Legion Riders,Program Events
ATTACH;FMTTYPE=image/jpeg:https://www.floridalegion.org/wp-content/uploads/2024/11/SW-Area-Rally-2_1732134658893.jpg
ORGANIZER;CN="Lamar (Joker) Camacho":MAILTO:yiqoquam@hotmail.com
END:VEVENT
BEGIN:VEVENT
DTSTART;TZID=America/New_York:20250125T170000
DTEND;TZID=America/New_York:20250125T190000
DTSTAMP:20260421T063623
CREATED:20230327T120424Z
LAST-MODIFIED:20230327T120424Z
UID:10005095-1737824400-1737831600@www.floridalegion.org
SUMMARY:Post 148: ALR Monthly Dinner
DESCRIPTION:Every month a member cooks something great!!!
URL:https://www.floridalegion.org/event/post-148-alr-monthly-dinner-2/2025-01-25/
LOCATION:Post 148\, 6740 Us Hwy 301 S\, Riverview\, Florida\, 33568\, United States
CATEGORIES:Legion Riders,Program Events
ORGANIZER;CN="ALR Post 148":MAILTO:director.post148@gmail.com
END:VEVENT
END:VCALENDAR