BEGIN:VCALENDAR
VERSION:2.0
PRODID:-//Florida American Legion - ECPv6.15.20//NONSGML v1.0//EN
CALSCALE:GREGORIAN
METHOD:PUBLISH
X-ORIGINAL-URL:https://www.floridalegion.org
X-WR-CALDESC:Events for Florida American Legion
REFRESH-INTERVAL;VALUE=DURATION:PT1H
X-Robots-Tag:noindex
X-PUBLISHED-TTL:PT1H
BEGIN:VTIMEZONE
TZID:America/New_York
BEGIN:DAYLIGHT
TZOFFSETFROM:-0500
TZOFFSETTO:-0400
TZNAME:EDT
DTSTART:20250309T070000
END:DAYLIGHT
BEGIN:STANDARD
TZOFFSETFROM:-0400
TZOFFSETTO:-0500
TZNAME:EST
DTSTART:20251102T060000
END:STANDARD
BEGIN:DAYLIGHT
TZOFFSETFROM:-0500
TZOFFSETTO:-0400
TZNAME:EDT
DTSTART:20260308T070000
END:DAYLIGHT
BEGIN:STANDARD
TZOFFSETFROM:-0400
TZOFFSETTO:-0500
TZNAME:EST
DTSTART:20261101T060000
END:STANDARD
BEGIN:DAYLIGHT
TZOFFSETFROM:-0500
TZOFFSETTO:-0400
TZNAME:EDT
DTSTART:20270314T070000
END:DAYLIGHT
BEGIN:STANDARD
TZOFFSETFROM:-0400
TZOFFSETTO:-0500
TZNAME:EST
DTSTART:20271107T060000
END:STANDARD
END:VTIMEZONE
BEGIN:VEVENT
DTSTART;VALUE=DATE:20260307
DTEND;VALUE=DATE:20260308
DTSTAMP:20260419T102724
CREATED:20250728T153123Z
LAST-MODIFIED:20250908T132910Z
UID:10009534-1772841600-1772927999@www.floridalegion.org
SUMMARY:Central Area Ball
DESCRIPTION:
URL:https://www.floridalegion.org/event/central-area-ball/
LOCATION:Post 155 Blanton-Thompson\, 6585 W Gulf To Lake Hwy\, Crystal River\, FL\, 34429-7624\, USA
CATEGORIES:Commanders,District Events
END:VEVENT
BEGIN:VEVENT
DTSTART;TZID=America/New_York:20260307T100000
DTEND;TZID=America/New_York:20260307T123000
DTSTAMP:20260419T102724
CREATED:20250728T153417Z
LAST-MODIFIED:20250728T153417Z
UID:10009538-1772877600-1772886600@www.floridalegion.org
SUMMARY:District 6: Meeting
DESCRIPTION:
URL:https://www.floridalegion.org/event/district-6-meeting-6/
LOCATION:Post 347 Veterans Memorial\, 699 W Lady Lake Blvd\, Lady Lake\, FL\, 32159-4207\, USA
CATEGORIES:District Events
END:VEVENT
BEGIN:VEVENT
DTSTART;TZID=America/New_York:20260307T120000
DTEND;TZID=America/New_York:20260307T130000
DTSTAMP:20260419T102724
CREATED:20250728T153200Z
LAST-MODIFIED:20250728T153200Z
UID:10009535-1772884800-1772888400@www.floridalegion.org
SUMMARY:District 9: Picnic
DESCRIPTION:
URL:https://www.floridalegion.org/event/district-9-picnic/
LOCATION:Post 180 Broward Memorial\, 1280 SW 44th Ter\, Fort Lauderdale\, FL\, 33317-5729\, USA
CATEGORIES:District Events,Program Events
END:VEVENT
BEGIN:VEVENT
DTSTART;TZID=America/New_York:20260307T120000
DTEND;TZID=America/New_York:20260307T140000
DTSTAMP:20260419T102724
CREATED:20250728T153346Z
LAST-MODIFIED:20250728T153346Z
UID:10009537-1772884800-1772892000@www.floridalegion.org
SUMMARY:District 8: Meeting
DESCRIPTION:
URL:https://www.floridalegion.org/event/district-8-meeting-8/
LOCATION:Post 159 No-Vel\, 1770 E Venice Ave\, Venice\, FL\, 34292-3190\, USA
CATEGORIES:District Events
END:VEVENT
BEGIN:VEVENT
DTSTART;TZID=America/New_York:20260308T120000
DTEND;TZID=America/New_York:20260308T160000
DTSTAMP:20260419T102724
CREATED:20260106T152625Z
LAST-MODIFIED:20260106T152625Z
UID:10009794-1772971200-1772985600@www.floridalegion.org
SUMMARY:District 13: BBQ Rib Throwdown
DESCRIPTION:Do you make the best ribs?  Here’s a chance for you to win prizes\, and more importantly\, bragging rights!  1st\, 2nd and 3rd place prizes plus the People’s Choice award!  Sign up by calling Laurene Allen-Flower at 845-238-4723.  You must provide your own grill/smoker/tent.  If electric is needed\, you must have a generator.
URL:https://www.floridalegion.org/event/district-13-bbq-rib-throwdown/
LOCATION:American Legion Post 192\, 3130 Martin Luther King Blvd.\, Fort Myers\, United States
CATEGORIES:District Events,Post Events
ATTACH;FMTTYPE=image/jpeg:https://www.floridalegion.org/wp-content/uploads/2026/01/Rib-Throwdown.jpg
ORGANIZER;CN="District 13 Commander":MAILTO:laursandstrom@yahoo.com
END:VEVENT
BEGIN:VEVENT
DTSTART;TZID=America/New_York:20260308T140000
DTEND;TZID=America/New_York:20260308T150000
DTSTAMP:20260419T102724
CREATED:20250728T153319Z
LAST-MODIFIED:20250728T153319Z
UID:10009536-1772978400-1772982000@www.floridalegion.org
SUMMARY:District 5: Meeting
DESCRIPTION:
URL:https://www.floridalegion.org/event/district-5-meeting-15/
LOCATION:Post 401 Captain Cuyler Walter Hilliard\, 37405 Henry Smith Rd\, Hilliard\, FL\, 32046-8427\, USA
CATEGORIES:District Events
END:VEVENT
END:VCALENDAR