BEGIN:VCALENDAR
VERSION:2.0
PRODID:-//Florida American Legion - ECPv6.15.20//NONSGML v1.0//EN
CALSCALE:GREGORIAN
METHOD:PUBLISH
X-ORIGINAL-URL:https://www.floridalegion.org
X-WR-CALDESC:Events for Florida American Legion
REFRESH-INTERVAL;VALUE=DURATION:PT1H
X-Robots-Tag:noindex
X-PUBLISHED-TTL:PT1H
BEGIN:VTIMEZONE
TZID:America/New_York
BEGIN:DAYLIGHT
TZOFFSETFROM:-0500
TZOFFSETTO:-0400
TZNAME:EDT
DTSTART:20240310T070000
END:DAYLIGHT
BEGIN:STANDARD
TZOFFSETFROM:-0400
TZOFFSETTO:-0500
TZNAME:EST
DTSTART:20241103T060000
END:STANDARD
BEGIN:DAYLIGHT
TZOFFSETFROM:-0500
TZOFFSETTO:-0400
TZNAME:EDT
DTSTART:20250309T070000
END:DAYLIGHT
BEGIN:STANDARD
TZOFFSETFROM:-0400
TZOFFSETTO:-0500
TZNAME:EST
DTSTART:20251102T060000
END:STANDARD
BEGIN:DAYLIGHT
TZOFFSETFROM:-0500
TZOFFSETTO:-0400
TZNAME:EDT
DTSTART:20260308T070000
END:DAYLIGHT
BEGIN:STANDARD
TZOFFSETFROM:-0400
TZOFFSETTO:-0500
TZNAME:EST
DTSTART:20261101T060000
END:STANDARD
BEGIN:DAYLIGHT
TZOFFSETFROM:-0500
TZOFFSETTO:-0400
TZNAME:EDT
DTSTART:20270314T070000
END:DAYLIGHT
BEGIN:STANDARD
TZOFFSETFROM:-0400
TZOFFSETTO:-0500
TZNAME:EST
DTSTART:20271107T060000
END:STANDARD
END:VTIMEZONE
BEGIN:VEVENT
DTSTART;VALUE=DATE:20251101
DTEND;VALUE=DATE:20260301
DTSTAMP:20260419T102239
CREATED:20250716T162147Z
LAST-MODIFIED:20250716T162147Z
UID:10009467-1761955200-1772323199@www.floridalegion.org
SUMMARY:District 13: ALR Winter Passport Tour
DESCRIPTION:This 4-month tour takes you on a journey through SWFL to some wonderful restaurants\, great American Legions\, VFW’s\, and Moose Lodges.  Try to complete the book for a chance to win $500\, $250 or $100.  First one to finish wins $100.  Prizes will be given out at the Passport Party on 3/22.
URL:https://www.floridalegion.org/event/district-13-alr-winter-passport-tour/
LOCATION:SW Florida\, United States
CATEGORIES:District Events,Legion Riders
ATTACH;FMTTYPE=image/png:https://www.floridalegion.org/wp-content/uploads/2025/07/Winter-Tour-Stop-Flyer.png
ORGANIZER;CN="ALR District 13":MAILTO:laursandstrom@yahoo.com
END:VEVENT
BEGIN:VEVENT
DTSTART;VALUE=DATE:20260107
DTEND;VALUE=DATE:20260112
DTSTAMP:20260419T102239
CREATED:20250728T144819Z
LAST-MODIFIED:20250728T144819Z
UID:10009517-1767744000-1768175999@www.floridalegion.org
SUMMARY:District 8: Commander's Tour
DESCRIPTION:
URL:https://www.floridalegion.org/event/district-8-commanders-tour/
CATEGORIES:Commanders,District Events
END:VEVENT
BEGIN:VEVENT
DTSTART;TZID=America/New_York:20260110T130000
DTEND;TZID=America/New_York:20260110T170000
DTSTAMP:20260419T102239
CREATED:20251023T133058Z
LAST-MODIFIED:20251023T133058Z
UID:10009731-1768050000-1768064400@www.floridalegion.org
SUMMARY:District 14: Training
DESCRIPTION:
URL:https://www.floridalegion.org/event/district-14-training/
LOCATION:Post 154 Marathon Memorial\, 4115 Overseas Hwy\, Marathon\, FL\, 33050-2326\, USA
CATEGORIES:District Events
END:VEVENT
BEGIN:VEVENT
DTSTART;TZID=America/New_York:20260111T140000
DTEND;TZID=America/New_York:20260111T153000
DTSTAMP:20260419T102239
CREATED:20250728T144931Z
LAST-MODIFIED:20250728T144931Z
UID:10009518-1768140000-1768145400@www.floridalegion.org
SUMMARY:District 5: Meeting
DESCRIPTION:
URL:https://www.floridalegion.org/event/district-5-meeting-13/
LOCATION:Post 194 Alton Green Memorial\, 1029 Pearl St\, Saint Augustine\, FL\, 32084-9548\, USA
CATEGORIES:District Events
END:VEVENT
BEGIN:VEVENT
DTSTART;TZID=America/New_York:20260124T130000
DTEND;TZID=America/New_York:20260124T170000
DTSTAMP:20260419T102239
CREATED:20251023T133225Z
LAST-MODIFIED:20251023T133225Z
UID:10009732-1769259600-1769274000@www.floridalegion.org
SUMMARY:District 9: Training
DESCRIPTION:
URL:https://www.floridalegion.org/event/district-9-training/
LOCATION:Post 304 Marshall La Bree\, 41 NE 1st Ct\, Dania Beach\, FL\, 33004-2814\, USA
CATEGORIES:District Events
END:VEVENT
BEGIN:VEVENT
DTSTART;TZID=America/New_York:20260131T180000
DTEND;TZID=America/New_York:20260131T210000
DTSTAMP:20260419T102239
CREATED:20251201T193118Z
LAST-MODIFIED:20251201T193528Z
UID:10009758-1769882400-1769893200@www.floridalegion.org
SUMMARY:Southern Area Ball
DESCRIPTION:Download Flyer\nDownload Ad Form
URL:https://www.floridalegion.org/event/southern-area-ball-2/
LOCATION:Post 321 Cooper City Memorial\, 9081 SW 51st St\, Cooper City\, FL\, 33328-4201\, USA
CATEGORIES:District Events,Post Events
ATTACH;FMTTYPE=image/jpeg:https://www.floridalegion.org/wp-content/uploads/2025/12/Southern-Area-Ball-2026.jpg
END:VEVENT
END:VCALENDAR