BEGIN:VCALENDAR
VERSION:2.0
PRODID:-//Florida American Legion - ECPv6.15.20//NONSGML v1.0//EN
CALSCALE:GREGORIAN
METHOD:PUBLISH
X-ORIGINAL-URL:https://www.floridalegion.org
X-WR-CALDESC:Events for Florida American Legion
REFRESH-INTERVAL;VALUE=DURATION:PT1H
X-Robots-Tag:noindex
X-PUBLISHED-TTL:PT1H
BEGIN:VTIMEZONE
TZID:America/New_York
BEGIN:DAYLIGHT
TZOFFSETFROM:-0500
TZOFFSETTO:-0400
TZNAME:EDT
DTSTART:20260308T070000
END:DAYLIGHT
BEGIN:STANDARD
TZOFFSETFROM:-0400
TZOFFSETTO:-0500
TZNAME:EST
DTSTART:20261101T060000
END:STANDARD
BEGIN:DAYLIGHT
TZOFFSETFROM:-0500
TZOFFSETTO:-0400
TZNAME:EDT
DTSTART:20270314T070000
END:DAYLIGHT
BEGIN:STANDARD
TZOFFSETFROM:-0400
TZOFFSETTO:-0500
TZNAME:EST
DTSTART:20271107T060000
END:STANDARD
BEGIN:DAYLIGHT
TZOFFSETFROM:-0500
TZOFFSETTO:-0400
TZNAME:EDT
DTSTART:20280312T070000
END:DAYLIGHT
BEGIN:STANDARD
TZOFFSETFROM:-0400
TZOFFSETTO:-0500
TZNAME:EST
DTSTART:20281105T060000
END:STANDARD
END:VTIMEZONE
BEGIN:VEVENT
DTSTART;VALUE=DATE:20270201
DTEND;VALUE=DATE:20270202
DTSTAMP:20260420T210204
CREATED:20250703T165234Z
LAST-MODIFIED:20250703T165234Z
UID:10008820-1801440000-1801526399@www.floridalegion.org
SUMMARY:BE THE ONE Day
DESCRIPTION:
URL:https://www.floridalegion.org/event/be-the-one-day-2/2027-02-01/
CATEGORIES:All Categories
END:VEVENT
BEGIN:VEVENT
DTSTART;TZID=America/New_York:20270201T173000
DTEND;TZID=America/New_York:20270201T190000
DTSTAMP:20260420T210204
CREATED:20240308T134054Z
LAST-MODIFIED:20240528T201036Z
UID:10006943-1801503000-1801508400@www.floridalegion.org
SUMMARY:Chapter 316: ALR Burgers and Bingo
DESCRIPTION:Serving burger\, dogs etc. during Monday night Bingo
URL:https://www.floridalegion.org/event/chapter-316-alr-burgers-and-bingo/2027-02-01/
LOCATION:ALR 316\, 1127 Atlantic Blvd.\, Atlantic Beach\, 32233\, United States
CATEGORIES:Post Events
ORGANIZER;CN="Denise Strickland":MAILTO:dndfishing@aol.com
END:VEVENT
END:VCALENDAR