BEGIN:VCALENDAR
VERSION:2.0
PRODID:-//Florida American Legion - ECPv6.15.20//NONSGML v1.0//EN
CALSCALE:GREGORIAN
METHOD:PUBLISH
X-ORIGINAL-URL:https://www.floridalegion.org
X-WR-CALDESC:Events for Florida American Legion
REFRESH-INTERVAL;VALUE=DURATION:PT1H
X-Robots-Tag:noindex
X-PUBLISHED-TTL:PT1H
BEGIN:VTIMEZONE
TZID:America/New_York
BEGIN:DAYLIGHT
TZOFFSETFROM:-0500
TZOFFSETTO:-0400
TZNAME:EDT
DTSTART:20240310T070000
END:DAYLIGHT
BEGIN:STANDARD
TZOFFSETFROM:-0400
TZOFFSETTO:-0500
TZNAME:EST
DTSTART:20241103T060000
END:STANDARD
BEGIN:DAYLIGHT
TZOFFSETFROM:-0500
TZOFFSETTO:-0400
TZNAME:EDT
DTSTART:20250309T070000
END:DAYLIGHT
BEGIN:STANDARD
TZOFFSETFROM:-0400
TZOFFSETTO:-0500
TZNAME:EST
DTSTART:20251102T060000
END:STANDARD
BEGIN:DAYLIGHT
TZOFFSETFROM:-0500
TZOFFSETTO:-0400
TZNAME:EDT
DTSTART:20260308T070000
END:DAYLIGHT
BEGIN:STANDARD
TZOFFSETFROM:-0400
TZOFFSETTO:-0500
TZNAME:EST
DTSTART:20261101T060000
END:STANDARD
BEGIN:DAYLIGHT
TZOFFSETFROM:-0500
TZOFFSETTO:-0400
TZNAME:EDT
DTSTART:20270314T070000
END:DAYLIGHT
BEGIN:STANDARD
TZOFFSETFROM:-0400
TZOFFSETTO:-0500
TZNAME:EST
DTSTART:20271107T060000
END:STANDARD
END:VTIMEZONE
BEGIN:VEVENT
DTSTART;VALUE=DATE:20251101
DTEND;VALUE=DATE:20260301
DTSTAMP:20260420T122316
CREATED:20250716T162147Z
LAST-MODIFIED:20250716T162147Z
UID:10009467-1761955200-1772323199@www.floridalegion.org
SUMMARY:District 13: ALR Winter Passport Tour
DESCRIPTION:This 4-month tour takes you on a journey through SWFL to some wonderful restaurants\, great American Legions\, VFW’s\, and Moose Lodges.  Try to complete the book for a chance to win $500\, $250 or $100.  First one to finish wins $100.  Prizes will be given out at the Passport Party on 3/22.
URL:https://www.floridalegion.org/event/district-13-alr-winter-passport-tour/
LOCATION:SW Florida\, United States
CATEGORIES:District Events,Legion Riders
ATTACH;FMTTYPE=image/png:https://www.floridalegion.org/wp-content/uploads/2025/07/Winter-Tour-Stop-Flyer.png
ORGANIZER;CN="ALR District 13":MAILTO:laursandstrom@yahoo.com
END:VEVENT
BEGIN:VEVENT
DTSTART;VALUE=DATE:20251101
DTEND;VALUE=DATE:20251201
DTSTAMP:20260420T122316
CREATED:20250703T175454Z
LAST-MODIFIED:20250703T175454Z
UID:10009244-1761955200-1764547199@www.floridalegion.org
SUMMARY:Veterans & Military Family Month
DESCRIPTION:
URL:https://www.floridalegion.org/event/veterans-military-family-month-3/
CATEGORIES:Other Events
END:VEVENT
BEGIN:VEVENT
DTSTART;VALUE=DATE:20251101
DTEND;VALUE=DATE:20251201
DTSTAMP:20260420T122316
CREATED:20250703T175510Z
LAST-MODIFIED:20250703T175510Z
UID:10009245-1761955200-1764547199@www.floridalegion.org
SUMMARY:Warrior Care Month
DESCRIPTION:
URL:https://www.floridalegion.org/event/warrior-care-month-3/
CATEGORIES:Other Events
END:VEVENT
BEGIN:VEVENT
DTSTART;VALUE=DATE:20251101
DTEND;VALUE=DATE:20251201
DTSTAMP:20260420T122316
CREATED:20250703T175522Z
LAST-MODIFIED:20250703T175522Z
UID:10009246-1761955200-1764547199@www.floridalegion.org
SUMMARY:Family Caregivers Month
DESCRIPTION:
URL:https://www.floridalegion.org/event/family-caregivers-month-3/
CATEGORIES:Other Events
END:VEVENT
BEGIN:VEVENT
DTSTART;VALUE=DATE:20251124
DTEND;VALUE=DATE:20251129
DTSTAMP:20260420T122316
CREATED:20250703T175414Z
LAST-MODIFIED:20250703T175414Z
UID:10009242-1763942400-1764374399@www.floridalegion.org
SUMMARY:National Family Week
DESCRIPTION:
URL:https://www.floridalegion.org/event/national-family-week-2/
CATEGORIES:Other Events
END:VEVENT
END:VCALENDAR