BEGIN:VCALENDAR
VERSION:2.0
PRODID:-//Florida American Legion - ECPv6.15.20//NONSGML v1.0//EN
CALSCALE:GREGORIAN
METHOD:PUBLISH
X-ORIGINAL-URL:https://www.floridalegion.org
X-WR-CALDESC:Events for Florida American Legion
REFRESH-INTERVAL;VALUE=DURATION:PT1H
X-Robots-Tag:noindex
X-PUBLISHED-TTL:PT1H
BEGIN:VTIMEZONE
TZID:America/New_York
BEGIN:DAYLIGHT
TZOFFSETFROM:-0500
TZOFFSETTO:-0400
TZNAME:EDT
DTSTART:20240310T070000
END:DAYLIGHT
BEGIN:STANDARD
TZOFFSETFROM:-0400
TZOFFSETTO:-0500
TZNAME:EST
DTSTART:20241103T060000
END:STANDARD
BEGIN:DAYLIGHT
TZOFFSETFROM:-0500
TZOFFSETTO:-0400
TZNAME:EDT
DTSTART:20250309T070000
END:DAYLIGHT
BEGIN:STANDARD
TZOFFSETFROM:-0400
TZOFFSETTO:-0500
TZNAME:EST
DTSTART:20251102T060000
END:STANDARD
BEGIN:DAYLIGHT
TZOFFSETFROM:-0500
TZOFFSETTO:-0400
TZNAME:EDT
DTSTART:20260308T070000
END:DAYLIGHT
BEGIN:STANDARD
TZOFFSETFROM:-0400
TZOFFSETTO:-0500
TZNAME:EST
DTSTART:20261101T060000
END:STANDARD
END:VTIMEZONE
BEGIN:VEVENT
DTSTART;VALUE=DATE:20250301
DTEND;VALUE=DATE:20250401
DTSTAMP:20260419T084156
CREATED:20240703T141606Z
LAST-MODIFIED:20240703T141606Z
UID:10008135-1740787200-1743465599@www.floridalegion.org
SUMMARY:Women's History Month
DESCRIPTION:
URL:https://www.floridalegion.org/event/womens-history-month-2/
LOCATION:FL
CATEGORIES:Other Events
END:VEVENT
BEGIN:VEVENT
DTSTART;VALUE=DATE:20250301
DTEND;VALUE=DATE:20250401
DTSTAMP:20260419T084156
CREATED:20240703T141623Z
LAST-MODIFIED:20240703T141623Z
UID:10008136-1740787200-1743465599@www.floridalegion.org
SUMMARY:Military Caregiver Month
DESCRIPTION:
URL:https://www.floridalegion.org/event/military-caregiver-month-2/
LOCATION:FL
CATEGORIES:Other Events
END:VEVENT
BEGIN:VEVENT
DTSTART;VALUE=DATE:20250308
DTEND;VALUE=DATE:20250309
DTSTAMP:20260419T084156
CREATED:20240703T142016Z
LAST-MODIFIED:20240703T142016Z
UID:10008146-1741392000-1741478399@www.floridalegion.org
SUMMARY:Internation Womens Day
DESCRIPTION:
URL:https://www.floridalegion.org/event/internation-womens-day/
LOCATION:FL
CATEGORIES:Other Events
END:VEVENT
BEGIN:VEVENT
DTSTART;TZID=America/New_York:20250308T110000
DTEND;TZID=America/New_York:20250308T130000
DTSTAMP:20260419T084156
CREATED:20240806T141718Z
LAST-MODIFIED:20240806T141718Z
UID:10008445-1741431600-1741438800@www.floridalegion.org
SUMMARY:District 8: Meeting
DESCRIPTION:
URL:https://www.floridalegion.org/event/district-8-meeting-9/
LOCATION:Post 24 Kirby Stewart\, 2000 75th St W\, Bradenton\, FL\, 34209-5465\, USA
CATEGORIES:District Events
END:VEVENT
BEGIN:VEVENT
DTSTART;TZID=America/New_York:20250308T130000
DTEND;TZID=America/New_York:20250308T140000
DTSTAMP:20260419T084156
CREATED:20240806T141732Z
LAST-MODIFIED:20240806T141732Z
UID:10008446-1741438800-1741442400@www.floridalegion.org
SUMMARY:District 9: Meeting
DESCRIPTION:
URL:https://www.floridalegion.org/event/district-9-meeting-3/
LOCATION:FL
CATEGORIES:District Events
END:VEVENT
BEGIN:VEVENT
DTSTART;TZID=America/New_York:20250308T130000
DTEND;TZID=America/New_York:20250308T160000
DTSTAMP:20260419T084156
CREATED:20250218T140125Z
LAST-MODIFIED:20250218T140125Z
UID:10008631-1741438800-1741449600@www.floridalegion.org
SUMMARY:Chapter 136: ALR 16th Annual - Steak Roast Fundraiser
DESCRIPTION:Join us for our 16th Annual Steak Roast Fundraiser. Music by the 2XL Band. Come join us in the FUN. If you are unable to attend\, you may donate\, so that a member on Pine Island may attend. Our Islanders are still recovering from the many “storms” that affected our quaint Island.  Thank you for your support.
URL:https://www.floridalegion.org/event/chapter-136-alr-16th-annual-steak-roast-fundraiser/
LOCATION:AmericanLegionRidersChapter136\, 4106 Stringfellow Road Mile Marker 2\, St. James City\, 33956\, United States
CATEGORIES:Legion Riders,Program Events
ATTACH;FMTTYPE=image/jpeg:https://www.floridalegion.org/wp-content/uploads/2025/02/Steak-Dinner-16th-Annual-2025.jpeg
ORGANIZER;CN="ALR136":MAILTO:chuck.warren@dignitymemorial.com
END:VEVENT
BEGIN:VEVENT
DTSTART;TZID=America/New_York:20250308T170000
DTEND;TZID=America/New_York:20250308T190000
DTSTAMP:20260419T084156
CREATED:20230612T194230Z
LAST-MODIFIED:20230612T194230Z
UID:10005418-1741453200-1741460400@www.floridalegion.org
SUMMARY:Chapter 10: ALR Riders Dinner
DESCRIPTION:Monthly Riders Dinner Night..
URL:https://www.floridalegion.org/event/chapter-10-alr-riders-dinner/2025-03-08/
LOCATION:American Legion Post 10\, 205 Lakeview Dr\, Kissimmee\, FL\, 34741\, United States
CATEGORIES:Legion Riders,Program Events
END:VEVENT
BEGIN:VEVENT
DTSTART;TZID=America/New_York:20250308T170000
DTEND;TZID=America/New_York:20250308T220000
DTSTAMP:20260419T084156
CREATED:20240924T152244Z
LAST-MODIFIED:20240924T152244Z
UID:10008477-1741453200-1741471200@www.floridalegion.org
SUMMARY:Central Area Ball
DESCRIPTION:Download Flyer
URL:https://www.floridalegion.org/event/central-area-ball-3/
LOCATION:Post 8 Frierson-Nichols\, 300 Avenue M NW\, Winter Haven\, FL\, 33881\, USA
CATEGORIES:District Events,Post Events
END:VEVENT
END:VCALENDAR