BEGIN:VCALENDAR
VERSION:2.0
PRODID:-//Florida American Legion - ECPv6.15.20//NONSGML v1.0//EN
CALSCALE:GREGORIAN
METHOD:PUBLISH
X-ORIGINAL-URL:https://www.floridalegion.org
X-WR-CALDESC:Events for Florida American Legion
REFRESH-INTERVAL;VALUE=DURATION:PT1H
X-Robots-Tag:noindex
X-PUBLISHED-TTL:PT1H
BEGIN:VTIMEZONE
TZID:America/New_York
BEGIN:DAYLIGHT
TZOFFSETFROM:-0500
TZOFFSETTO:-0400
TZNAME:EDT
DTSTART:20230312T070000
END:DAYLIGHT
BEGIN:STANDARD
TZOFFSETFROM:-0400
TZOFFSETTO:-0500
TZNAME:EST
DTSTART:20231105T060000
END:STANDARD
BEGIN:DAYLIGHT
TZOFFSETFROM:-0500
TZOFFSETTO:-0400
TZNAME:EDT
DTSTART:20240310T070000
END:DAYLIGHT
BEGIN:STANDARD
TZOFFSETFROM:-0400
TZOFFSETTO:-0500
TZNAME:EST
DTSTART:20241103T060000
END:STANDARD
BEGIN:DAYLIGHT
TZOFFSETFROM:-0500
TZOFFSETTO:-0400
TZNAME:EDT
DTSTART:20250309T070000
END:DAYLIGHT
BEGIN:STANDARD
TZOFFSETFROM:-0400
TZOFFSETTO:-0500
TZNAME:EST
DTSTART:20251102T060000
END:STANDARD
END:VTIMEZONE
BEGIN:VEVENT
DTSTART;VALUE=DATE:20240501
DTEND;VALUE=DATE:20240601
DTSTAMP:20260419T223822
CREATED:20230524T134218Z
LAST-MODIFIED:20230804T122955Z
UID:10005337-1714521600-1717199999@www.floridalegion.org
SUMMARY:Month of the Military Caregiver
DESCRIPTION:
URL:https://www.floridalegion.org/event/month-of-the-military-caregiver/
LOCATION:FL
CATEGORIES:National Events,Other Events
END:VEVENT
BEGIN:VEVENT
DTSTART;VALUE=DATE:20240501
DTEND;VALUE=DATE:20240601
DTSTAMP:20260419T223822
CREATED:20230524T134236Z
LAST-MODIFIED:20230804T122957Z
UID:10005338-1714521600-1717199999@www.floridalegion.org
SUMMARY:Military Appreciation Month
DESCRIPTION:
URL:https://www.floridalegion.org/event/military-appreciation-month-2/
LOCATION:FL
CATEGORIES:National Events,Other Events
END:VEVENT
BEGIN:VEVENT
DTSTART;VALUE=DATE:20240505
DTEND;VALUE=DATE:20240513
DTSTAMP:20260419T223822
CREATED:20240213T210434Z
LAST-MODIFIED:20240213T210525Z
UID:10006782-1714867200-1715558399@www.floridalegion.org
SUMMARY:National Spring Meetings - Indianapolis
DESCRIPTION:Department Commander in attendance
URL:https://www.floridalegion.org/event/national-spring-meetings-indianapolis/
LOCATION:FL
CATEGORIES:Commanders
END:VEVENT
BEGIN:VEVENT
DTSTART;VALUE=DATE:20240511
DTEND;VALUE=DATE:20240513
DTSTAMP:20260419T223822
CREATED:20240213T210340Z
LAST-MODIFIED:20240320T163535Z
UID:10006781-1715385600-1715558399@www.floridalegion.org
SUMMARY:SAL Detachment Commander's Homecoming
DESCRIPTION:Department Commander in attendance \nDownload Flyer
URL:https://www.floridalegion.org/event/sal-detachment-commanders-homecoming/
LOCATION:Post 275 Dunedin Memorial\, 360 Wilson St\, Dunedin\, FL\, 34698-4201\, USA
CATEGORIES:Commanders,Other Events,SAL Events
ATTACH;FMTTYPE=image/jpeg:https://www.floridalegion.org/wp-content/uploads/2024/03/gerard-homecoming-24.jpg
END:VEVENT
BEGIN:VEVENT
DTSTART;VALUE=DATE:20240512
DTEND;VALUE=DATE:20240513
DTSTAMP:20260419T223822
CREATED:20230524T134957Z
LAST-MODIFIED:20230804T124218Z
UID:10005352-1715472000-1715558399@www.floridalegion.org
SUMMARY:Mother's Day
DESCRIPTION:
URL:https://www.floridalegion.org/event/mothers-day-2/
LOCATION:FL
CATEGORIES:Other Events
END:VEVENT
END:VCALENDAR