BEGIN:VCALENDAR
VERSION:2.0
PRODID:-//Florida American Legion - ECPv6.15.20//NONSGML v1.0//EN
CALSCALE:GREGORIAN
METHOD:PUBLISH
X-WR-CALNAME:Florida American Legion
X-ORIGINAL-URL:https://www.floridalegion.org
X-WR-CALDESC:Events for Florida American Legion
REFRESH-INTERVAL;VALUE=DURATION:PT1H
X-Robots-Tag:noindex
X-PUBLISHED-TTL:PT1H
BEGIN:VTIMEZONE
TZID:America/New_York
BEGIN:DAYLIGHT
TZOFFSETFROM:-0500
TZOFFSETTO:-0400
TZNAME:EDT
DTSTART:20230312T070000
END:DAYLIGHT
BEGIN:STANDARD
TZOFFSETFROM:-0400
TZOFFSETTO:-0500
TZNAME:EST
DTSTART:20231105T060000
END:STANDARD
BEGIN:DAYLIGHT
TZOFFSETFROM:-0500
TZOFFSETTO:-0400
TZNAME:EDT
DTSTART:20240310T070000
END:DAYLIGHT
BEGIN:STANDARD
TZOFFSETFROM:-0400
TZOFFSETTO:-0500
TZNAME:EST
DTSTART:20241103T060000
END:STANDARD
BEGIN:DAYLIGHT
TZOFFSETFROM:-0500
TZOFFSETTO:-0400
TZNAME:EDT
DTSTART:20250309T070000
END:DAYLIGHT
BEGIN:STANDARD
TZOFFSETFROM:-0400
TZOFFSETTO:-0500
TZNAME:EST
DTSTART:20251102T060000
END:STANDARD
END:VTIMEZONE
BEGIN:VEVENT
DTSTART;VALUE=DATE:20240401
DTEND;VALUE=DATE:20240501
DTSTAMP:20260420T020754
CREATED:20230524T132215Z
LAST-MODIFIED:20230804T124026Z
UID:10005307-1711929600-1714521599@www.floridalegion.org
SUMMARY:Children & Youth Month
DESCRIPTION:
URL:https://www.floridalegion.org/event/children-youth-month/
LOCATION:FL
CATEGORIES:National Events
END:VEVENT
BEGIN:VEVENT
DTSTART;VALUE=DATE:20240401
DTEND;VALUE=DATE:20240501
DTSTAMP:20260420T020754
CREATED:20230524T132238Z
LAST-MODIFIED:20230804T124029Z
UID:10005308-1711929600-1714521599@www.floridalegion.org
SUMMARY:Month of the Military Child
DESCRIPTION:
URL:https://www.floridalegion.org/event/month-of-the-military-child/
LOCATION:FL
CATEGORIES:National Events
END:VEVENT
BEGIN:VEVENT
DTSTART;VALUE=DATE:20240401
DTEND;VALUE=DATE:20240501
DTSTAMP:20260420T020754
CREATED:20230524T132257Z
LAST-MODIFIED:20230804T124032Z
UID:10005309-1711929600-1714521599@www.floridalegion.org
SUMMARY:Military Saves Month
DESCRIPTION:
URL:https://www.floridalegion.org/event/military-saves-month-3/
LOCATION:FL
CATEGORIES:National Events
END:VEVENT
BEGIN:VEVENT
DTSTART;VALUE=DATE:20240401
DTEND;VALUE=DATE:20240501
DTSTAMP:20260420T020754
CREATED:20230524T132326Z
LAST-MODIFIED:20230725T190028Z
UID:10005310-1711929600-1714521599@www.floridalegion.org
SUMMARY:ALR Round Robin
DESCRIPTION:This month-long event is intended for our American Legion Rider Family to visit other Posts inside and outside of their home Districts. To support Legion Programs\, promote The American Legion\, gain new members\, and raise funds and awareness for PROJECT: VetRelief’s Suicide Prevention program. \n\n\nLearn More
URL:https://www.floridalegion.org/event/alr-round-robin/
LOCATION:FL
CATEGORIES:Commanders,Department Events,Legion Riders,Program Events
END:VEVENT
BEGIN:VEVENT
DTSTART;VALUE=DATE:20240421
DTEND;VALUE=DATE:20240428
DTSTAMP:20260420T020754
CREATED:20230524T132902Z
LAST-MODIFIED:20230725T190633Z
UID:10005323-1713657600-1714262399@www.floridalegion.org
SUMMARY:ALR In-State Unity Ride & Rally
DESCRIPTION:We’re addressing an important issue that affects Veterans and their families\, suicide. Our mission for the In-State Unity Ride is to raise awareness and funds to end Veteran Suicide. \nThis campaign allows everyone to participate and make an impact: register to ride with us\, create a page to raise money and earn COOL prizes\, or make a donation. \nYour involvement is critical to our success and saving the lives of our Veterans. Be sure to share this page with your family and friends so they can be a part of this life-saving event\, too! \nMeet & Greet\, April 21\, 2024\nRide\, April 22-26\, 2024\nRally\, April 27\, 2024 \n\nLearn more
URL:https://www.floridalegion.org/event/alr-in-state-unity-meet-greet/
LOCATION:FL
CATEGORIES:Commanders,Legion Riders,Program Events
END:VEVENT
BEGIN:VEVENT
DTSTART;VALUE=DATE:20240424
DTEND;VALUE=DATE:20240425
DTSTAMP:20260420T020754
CREATED:20230524T133838Z
LAST-MODIFIED:20230804T122858Z
UID:10005327-1713916800-1714003199@www.floridalegion.org
SUMMARY:Administrative Professionals Day
DESCRIPTION:
URL:https://www.floridalegion.org/event/administrative-professionals-day/
LOCATION:FL
CATEGORIES:Other Events
END:VEVENT
END:VCALENDAR